Workbook

Sheet 1-4
AJ2: Додаток 1
AJ3: до рішення виконавчого комітету
AJ4: від 08.09.2022 № 315
B5: Фактична мережа закладів загальної середньої освіти
B6: на 2022/2023 навчальний рік
A8: Заклади загальної середньої освіти | B8: 1-А | C8: 1-Б | D8: 1-В | E8: 1-Г | F8: 1-Д | G8: 1-Е | H8: 1-І | I8: к-сть класів | J8: к-сть учнів | K8: 2-А | L8: 2-Б | M8: 2-В | N8: 2-Г | O8: 2-Д | P8: 2-І | Q8: к-сть класів | R8: к-сть учнів | S8: 3-А | T8: 3-Б | U8: 3-В | V8: 3-Г | W8: 3-Д | X8: 3-І | Y8: 3-О | Z8: к-сть класів | AA8: к-сть учнів | AB8: 4-А | AC8: 4-Б | AD8: 4-В | AE8: 4-Г | AF8: 4-Д | AG8: 4-Е | AH8: 4-I | AI8: к-сть класів | AJ8: к-сть учнів | AK8: к-сть 1-4 класів | AL8: к-сть учнів у 1-4 кл. | AM8: ГПД (всього ставок)
A9: Коломийський ліцей №1 імені В.Стефаника | B9: 28 | C9: 30 | D9: 33 | E9: 32 | F9: 13 | G9: 14 | H9: 28 | I9: 7 | J9: =SUM(B9,C9,D9,E9,F9,G9,H9) -> 178 | K9: 20 | L9: 31 | M9: 27 | N9: 18 | O9: 24 | P9: 29 | Q9: 6 | R9: =SUM(K9:P9) -> 149 | S9: 30 | T9: 21 | U9: 29 | V9: 21 | W9: 15 | X9: 27 | Y9: 26 | Z9: 7 | AA9: =SUM(S9:Y9) -> 169 | AB9: 28 | AC9: 29 | AD9: 28 | AE9: 26 | AF9: 20 | AG9: 23 | AH9: 31 | AI9: 7 | AJ9: =SUM(AB9:AH9) -> 185 | AK9: =SUM(I9,Q9,Z9,AI9) -> 27 | AL9: =SUM(J9,R9,AA9,AJ9) -> 681 | AM9: 5
A10: Коломийський ліцей №2 | B10: 24 | C10: 24 | I10: 2 | J10: =SUM(B10:D10) -> 48 | K10: 21 | L10: 24 | M10: 24 | Q10: 3 | R10: =SUM(K10,L10,M10,N10,O10,P10) -> 69 | S10: 30 | T10: 31 | Z10: 2 | AA10: =SUM(S10,T10,U10,V10,W10,X10) -> 61 | AB10: 29 | AC10: 31 | AD10: 27 | AI10: 3 | AJ10: =SUM(AB10,AC10,AD10,AE10,AH10) -> 87 | AK10: =SUM(I10,Q10,Z10,AI10) -> 10 | AL10: =SUM(J10,R10,AA10,AJ10) -> 265 | AM10: 2
A11: Коломийський ліцей №4 імені Сергія Лисенка | B11: 30 | C11: 30 | D11: 30 | E11: 30 | F11: 23 | G11: 20 | I11: 6 | J11: =SUM(B11,C11,D11,E11,F11,G11,H11) -> 163 | K11: 30 | L11: 30 | M11: 30 | N11: 28 | O11: 17 | P11: 20 | Q11: 6 | R11: =SUM(K11:P11) -> 155 | S11: 31 | T11: 32 | U11: 32 | V11: 30 | W11: 27 | X11: 23 | Z11: 6 | AA11: =SUM(S11:X11) -> 175 | AB11: 30 | AC11: 30 | AD11: 30 | AE11: 29 | AF11: 30 | AG11: 32 | AH11: 20 | AI11: 7 | AJ11: =SUM(AC11:AH11,AB11) -> 201 | AK11: =SUM(I11,Q11,Z11,AI11) -> 25 | AL11: =SUM(J11,R11,AA11,AJ11) -> 694 | AM11: 6.5
A12: Коломийський ліцей №5 імені Т.Г.Шевченка | B12: 26 | C12: 23 | H12: 25 | I12: 3 | J12: =SUM(B12,C12,D12,E12,F12,H12) -> 74 | K12: 29 | L12: 29 | M12: 29 | Q12: 3 | R12: =SUM(K12:P12) -> 87 | S12: 21 | T12: 26 | U12: 26 | Z12: 3 | AA12: =SUM(S12:X12) -> 73 | AB12: 29 | AC12: 28 | AD12: 30 | AI12: 3 | AJ12: =SUM(AC12:AH12,AB12) -> 87 | AK12: =SUM(I12,Q12,Z12,AI12) -> 12 | AL12: =SUM(J12,R12,AA12,AJ12) -> 321 | AM12: 5
A13: Коломийська філія №7 Коломийського ліцею №5 імені Т.Г.Шевченка | B13: 30 | I13: 1 | J13: =SUM(B13,C13,D13,E13,F13,H13) -> 30 | K13: 30 | Q13: 1 | R13: =SUM(K13:P13) -> 30 | S13: 23 | T13: 19 | Z13: 2 | AA13: =SUM(S13:X13) -> 42 | AB13: 31 | AI13: 1 | AJ13: =SUM(AC13:AH13,AB13) -> 31 | AK13: =SUM(I13,Q13,Z13,AI13) -> 5 | AL13: =SUM(J13,R13,AA13,AJ13) -> 133
A14: Раківчицька філія Коломийського ліцею №5 імені Т.Г.Шевченка | B14: 14 | I14: 1 | J14: =SUM(B14,C14,D14,E14,F14,H14) -> 14 | K14: 13 | Q14: 1 | R14: =SUM(K14:P14) -> 13 | S14: 12 | Z14: 1 | AA14: =SUM(S14:X14) -> 12 | AB14: 17 | AI14: 1 | AJ14: =SUM(AC14:AH14,AB14) -> 17 | AK14: =SUM(I14,Q14,Z14,AI14) -> 4 | AL14: =SUM(J14,R14,AA14,AJ14) -> 56
A15: Шепарівцівська філія Коломийського ліцею №5 імені Т.Г.Шевченка | B15: 12 | I15: 1 | J15: =SUM(B15,C15,D15,E15,F15,H15) -> 12 | K15: 9 | Q15: 1 | R15: =SUM(K15:P15) -> 9 | S15: 12 | Z15: 1 | AA15: =SUM(S15:X15) -> 12 | AB15: 10 | AI15: 1 | AJ15: =SUM(AC15:AH15,AB15) -> 10 | AK15: =SUM(I15,Q15,Z15,AI15) -> 4 | AL15: =SUM(J15,R15,AA15,AJ15) -> 43
A16: Коломийський ліцей №8 | B16: 23 | C16: 18 | D16: 27 | E16: 13 | F16: 11 | I16: 5 | J16: =SUM(B16,C16,D16,E16,F16,H16) -> 92 | K16: 30 | L16: 24 | M16: 30 | N16: 20 | O16: 25 | Q16: 5 | R16: =SUM(K16:P16) -> 129 | S16: 23 | T16: 28 | U16: 28 | V16: 16 | W16: 13 | Z16: 5 | AA16: =SUM(S16:X16) -> 108 | AB16: 29 | AC16: 25 | AD16: 29 | AE16: 11 | AF16: 19 | AI16: 5 | AJ16: =SUM(AC16:AH16,AB16) -> 113 | AK16: =SUM(I16,Q16,Z16,AI16) -> 20 | AL16: =SUM(J16,R16,AA16,AJ16) -> 442 | AM16: 4
A17: Коломийський ліцей №9 | B17: 27 | C17: 27 | I17: 2 | J17: =SUM(B17,C17,D17,E17,F17,H17) -> 54 | K17: 28 | L17: 33 | M17: 32 | N17: 29 | O17: 28 | P17: 29 | Q17: 6 | R17: =SUM(K17:P17) -> 179 | S17: 24 | T17: 23 | U17: 20 | V17: 20 | W17: 24 | X17: 28 | Y17: 37 | Z17: 7 | AA17: =SUM(S17:Y17) -> 176 | AB17: 30 | AC17: 29 | AD17: 29 | AE17: 23 | AF17: 24 | AH17: 24 | AI17: 6 | AJ17: =SUM(AC17:AH17,AB17) -> 159 | AK17: =SUM(I17,Q17,Z17,AI17) -> 21 | AL17: =SUM(J17,R17,AA17,AJ17) -> 568 | AM17: 7.5
A18: Коломийська філія №10 Коломийського ліцею №9 | B18: 31 | C18: 32 | D18: 32 | I18: 3 | J18: =SUM(B18,C18,D18,E18,F18,H18) -> 95 | N18: 29 | Q18: 1 | R18: =SUM(K18:P18) -> 29 | W18: 28 | Z18: 1 | AA18: =SUM(S18:Y18) -> 28 | AE18: 33 | AI18: 1 | AJ18: =SUM(AC18:AH18,AB18) -> 33 | AK18: =SUM(I18,Q18,Z18,AI18) -> 6 | AL18: =SUM(J18,R18,AA18,AJ18) -> 185
A19: Коломийський ліцей імені М.Грушевського | I19: 0 | J19: =SUM(B19,C19,D19,E19,F19,H19) -> 0 | Q19: 0 | R19: =SUM(K19:P19) -> 0 | Z19: 0 | AA19: =SUM(S19:Y19) -> 0 | AI19: 0 | AJ19: =SUM(AC19:AH19,AB19) -> 0 | AK19: =SUM(I19,Q19,Z19,AI19) -> 0 | AL19: =SUM(J19,R19,AA19,AJ19) -> 0
A20: Саджавський ліцей | B20: 24 | I20: 1 | J20: =SUM(B20,C20,D20,E20,F20,H20) -> 24 | K20: 17 | L20: 17 | Q20: 2 | R20: =SUM(K20:P20) -> 34 | S20: 19 | T20: 19 | Z20: 2 | AA20: =SUM(S20:Y20) -> 38 | AB20: 20 | AC20: 19 | AI20: 2 | AJ20: =SUM(AC20:AH20,AB20) -> 39 | AK20: =SUM(I20,Q20,Z20,AI20) -> 7 | AL20: =SUM(J20,R20,AA20,AJ20) -> 135 | AM20: 0.5
A21: Коломийський ліцей №3 | I21: 0 | J21: =SUM(B21,C21,D21,E21,F21,H21) -> 0 | Q21: 0 | R21: =SUM(K21:P21) -> 0 | Z21: 0 | AA21: =SUM(S21:Y21) -> 0 | AI21: 0 | AJ21: =SUM(AC21:AH21,AB21) -> 0 | AK21: =SUM(I21,Q21,Z21,AI21) -> 0 | AL21: =SUM(J21,R21,AA21,AJ21) -> 0
A22: Коломийський ліцей №6 імені Героя України Тараса Сенюка | I22: 0 | J22: =SUM(B22,C22,D22,E22,F22,H22) -> 0 | Q22: 0 | R22: =SUM(K22:P22) -> 0 | Z22: 0 | AA22: =SUM(S22:Y22) -> 0 | AI22: 0 | AJ22: =SUM(AC22:AH22,AB22) -> 0 | AK22: =SUM(I22,Q22,Z22,AI22) -> 0 | AL22: =SUM(J22,R22,AA22,AJ22) -> 0
A23: Воскресинцівський ліцей | I23: 0 | J23: 0 | Q23: 0 | R23: 0 | Z23: 0 | AA23: 0 | AI23: 0 | AJ23: 0 | AK23: 0 | AL23: 0
A24: Корницький ліцей | I24: 0 | J24: 0 | Q24: 0 | R24: 0 | Z24: 0 | AA24: 0 | AI24: 0 | AJ24: 0 | AK24: 0 | AL24: 0
A25: Коломийська початкова школа №20 | I25: 0 | J25: 0 | Q25: 0 | R25: 0 | Z25: 0 | AA25: 0 | AI25: 0 | AJ25: 0 | AK25: 0 | AL25: 0
A26: Іванівецька гімназія імені М.Вишиванюка | I26: 0 | J26: 0 | Q26: 0 | R26: 0 | Z26: 0 | AA26: 0 | AI26: 0 | AJ26: 0 | AK26: 0 | AL26: 0
A27: Товмачицький ліцей | I27: 0 | J27: 0 | Q27: 0 | R27: 0 | Z27: 0 | AA27: 0 | AI27: 0 | AJ27: 0 | AK27: 0 | AL27: 0
A28: Всього: | B28: =SUM(B9:B22) -> 269 | C28: =SUM(C9:C22) -> 184 | D28: =SUM(D9:D22) -> 122 | E28: =SUM(E9:E22) -> 75 | F28: =SUM(F9:F22) -> 47 | G28: =SUM(G9:G22) -> 34 | H28: =SUM(H9:H22) -> 53 | I28: =SUM(I9:I24) -> 32 | J28: =SUM(J9:J22) -> 784 | K28: =SUM(K9:K22) -> 227 | L28: =SUM(L9:L22) -> 188 | M28: =SUM(M9:M22) -> 172 | N28: =SUM(N9:N22) -> 124 | O28: =SUM(O9:O22) -> 94 | P28: =SUM(P9:P22) -> 78 | Q28: =SUM(Q9:Q24) -> 35 | R28: =SUM(R9:R22) -> 883 | S28: =SUM(S9:S22) -> 225 | T28: =SUM(T9:T22) -> 199 | U28: =SUM(U9:U22) -> 135 | V28: =SUM(V9:V22) -> 87 | W28: =SUM(W9:W22) -> 107 | X28: =SUM(X9:X22) -> 78 | Y28: =SUM(Y9:Y22) -> 63 | ... AM28: =SUM(AM9:AM22) -> 30.5

Sheet 5-9
AM3: Продовження додатка 1
AM4: до рішення виконавчого комітету
AM5: від 08.09.2022 № 315
B7: Фактична мережа закладів загальної середньої освіти
B8: на 2022/2023 навчальний рік
A11: Заклади загальної середньої освіти | B11: 5-А | C11: 5-Б | D11: 5-В | E11: 5-Г | F11: 5-І | G11: 5-Д | H11: 5-К | I11: 5-О | J11: к-сть класів | K11: к-сть учнів | L11: 6-А | M11: 6-Б | N11: 6-В | O11: 6-Г | P11: 6-І | Q11: 6-К | R11: 6-Д | S11: к-сть класів | T11: к-сть учнів | U11: 7-А | V11: 7-Б | W11: 7-В | X11: 7-Г | Y11: 7-К | Z11: 7-Д | AA11: 7-О | AB11: к-сть класів | AC11: к-сть учнів | AD11: 8-А | AE11: 8-Б | AF11: 8-В | AG11: 8-Г | AH11: 8-М | AI11: 8-К | AJ11: 8-Д | AK11: к-сть класів | AL11: к-сть учнів | AM11: 9-А | AN11: 9-Б | AO11: 9-В | AP11: 9-Г | AQ11: 9-К | AR11: 9-П | AS11: 9-Д | AT11: к-сть класів | AU11: к-сть учнів | AV11: к-сть 5-9 класів | AW11: к-сть учнів у 5-9 кл.
A12: Коломийський ліцей №1 імені В.Стефаника | B12: 28 | C12: 30 | D12: 29 | E12: 31 | F12: 28 | G12: 17 | H12: 22 | J12: 7 | K12: =SUM(B12:H12) -> 185 | L12: 21 | M12: 28 | N12: 30 | O12: 9 | P12: 28 | Q12: 21 | S12: 6 | T12: =SUM(L12:R12) -> 137 | U12: 29 | V12: 28 | W12: 29 | X12: 24 | Y12: 18 | Z12: 21 | AA12: 18 | AB12: 7 | AC12: =SUM(U12:AA12) -> 167 | AD12: 31 | AE12: 28 | AF12: 30 | AG12: 28 | AH12: 19 | AI12: 19 | AJ12: 29 | AK12: 7 | AL12: =SUM(AD12:AJ12) -> 184 | AM12: 32 | AN12: 31 | AO12: 30 | AP12: 33 | AQ12: 15 | AR12: 21 | AT12: 6 | AU12: =SUM(AM12:AR12) -> 162 | AV12: =SUM(J12,S12,AB12,AK12,AT12) -> 33 | AW12: =SUM(K12,T12,AC12,AL12,AU12) -> 835
A13: Коломийський ліцей №2 | B13: 33 | C13: 36 | J13: 2 | K13: =SUM(B13:G13) -> 69 | L13: 28 | M13: 25 | S13: 2 | T13: =SUM(L13:R13) -> 53 | U13: 30 | V13: 29 | AB13: 2 | AC13: =SUM(U13:X13) -> 59 | AD13: 28 | AE13: 27 | AF13: 28 | AK13: 3 | AL13: =SUM(AD13:AG13) -> 83 | AM13: 29 | AN13: 27 | AT13: 2 | AU13: =SUM(AM13:AP13) -> 56 | AV13: =SUM(J13,S13,AB13,AK13,AT13) -> 11 | AW13: =SUM(K13,T13,AC13,AL13,AU13) -> 320
A14: Коломийський ліцей №4 імені Сергія Лисенка | B14: 30 | C14: 30 | D14: 24 | E14: 30 | F14: 28 | G14: 30 | J14: 6 | K14: =SUM(B14:G14) -> 172 | L14: 27 | M14: 27 | N14: 27 | O14: 30 | P14: 29 | R14: 27 | S14: 6 | T14: =SUM(L14:R14) -> 167 | U14: 28 | V14: 30 | W14: 32 | X14: 28 | Y14: 35 | AB14: 5 | AC14: =SUM(U14:Y14) -> 153 | AD14: 27 | AE14: 30 | AF14: 30 | AG14: 28 | AH14: 23 | AI14: 20 | AK14: 6 | AL14: =SUM(AD14:AI14) -> 158 | AM14: 28 | AN14: 30 | AO14: 29 | AP14: 29 | AQ14: 29 | AT14: 5 | AU14: =SUM(AM14:AQ14) -> 145 | AV14: =SUM(J14,S14,AB14,AK14,AT14) -> 28 | AW14: =SUM(K14,T14,AC14,AL14,AU14) -> 795
A15: Коломийський ліцей №5 імені Т.Г.Шевченка | B15: 25 | C15: 31 | D15: 29 | J15: 3 | K15: =SUM(B15:G15) -> 85 | L15: 24 | M15: 23 | N15: 25 | S15: 3 | T15: =SUM(L15:R15) -> 72 | U15: 27 | V15: 27 | W15: 21 | AB15: 3 | AC15: =SUM(U15:X15) -> 75 | AD15: 30 | AE15: 31 | AK15: 2 | AL15: =SUM(AD15:AG15) -> 61 | AM15: 19 | AN15: 21 | AT15: 2 | AU15: =SUM(AM15:AP15) -> 40 | AV15: =SUM(J15,S15,AB15,AK15,AT15) -> 13 | AW15: =SUM(K15,T15,AC15,AL15,AU15) -> 333
A16: Коломийська філія №7 Коломийського ліцею №5 імені Т.Г.Шевченка | B16: 29 | J16: 1 | K16: =SUM(B16:G16) -> 29 | L16: 34 | S16: 1 | T16: =SUM(L16:R16) -> 34 | U16: 22 | AB16: 1 | AC16: =SUM(U16:Z16) -> 22 | AD16: 34 | AK16: 1 | AL16: =SUM(AD16:AG16) -> 34 | AM16: 28 | AT16: 1 | AU16: =SUM(AM16:AO16) -> 28 | AV16: =SUM(J16,S16,AB16,AK16,AT16) -> 5 | AW16: =SUM(K16,T16,AC16,AL16,AU16) -> 147
A17: Раківчицька філія Коломийського ліцею №5 імені Т.Г.Шевченка | B17: 11 | J17: 1 | K17: =SUM(B17:G17) -> 11 | L17: 9 | S17: 1 | T17: =SUM(L17:R17) -> 9 | U17: 14 | AB17: 1 | AC17: =SUM(U17:Z17) -> 14 | AD17: 18 | AK17: 1 | AL17: =SUM(AD17:AG17) -> 18 | AM17: 12 | AT17: 1 | AU17: =SUM(AM17:AO17) -> 12 | AV17: =SUM(J17,S17,AB17,AK17,AT17) -> 5 | AW17: =SUM(K17,T17,AC17,AL17,AU17) -> 64
A18: Шепарівцівська філія Коломийського ліцею №5 імені Т.Г.Шевченка | B18: 10 | J18: 1 | K18: =SUM(B18:G18) -> 10 | L18: 6 | S18: 1 | T18: =SUM(L18:R18) -> 6 | U18: 11 | AB18: 1 | AC18: =SUM(U18:Z18) -> 11 | AD18: 15 | AK18: 1 | AL18: =SUM(AD18:AG18) -> 15 | AM18: 12 | AT18: 1 | AU18: =SUM(AM18:AO18) -> 12 | AV18: =SUM(J18,S18,AB18,AK18,AT18) -> 5 | AW18: =SUM(K18,T18,AC18,AL18,AU18) -> 54
A19: Коломийський ліцей №8 | B19: 30 | C19: 30 | D19: 30 | E19: 17 | F19: 16 | J19: 5 | K19: =SUM(B19:G19) -> 123 | L19: 29 | M19: 28 | N19: 29 | O19: 23 | P19: 26 | S19: 5 | T19: =SUM(L19:R19) -> 135 | U19: 29 | V19: 30 | W19: 31 | X19: 13 | Y19: 12 | AB19: 5 | AC19: =SUM(U19:Z19) -> 115 | AD19: 29 | AE19: 30 | AF19: 29 | AG19: 19 | AH19: 18 | AK19: 5 | AL19: =SUM(AD19:AH19) -> 125 | AM19: 30 | AN19: 30 | AO19: 30 | AP19: 11 | AQ19: 15 | AT19: 5 | AU19: =SUM(AM19:AQ19) -> 116 | AV19: =SUM(J19,S19,AB19,AK19,AT19) -> 25 | AW19: =SUM(K19,T19,AC19,AL19,AU19) -> 614
A20: вечірні класи: | J20: 0 | K20: =SUM(B20:G20) -> 0 | S20: 0 | T20: =SUM(L20:R20) -> 0 | AC20: =SUM(U20:Z20) -> 0 | AD20: 8 | AK20: 1 | AL20: =SUM(AD20:AG20) -> 8 | AT20: 0 | AU20: =SUM(AM20:AO20) -> 0 | AV20: =SUM(J20,S20,AB20,AK20,AT20) -> 1 | AW20: =SUM(K20,T20,AC20,AL20,AU20) -> 8
A21: Коломийський ліцей №9 | B21: 23 | C21: 22 | D21: 26 | E21: 20 | F21: 28 | G21: 28 | H21: 25 | I21: 34 | J21: 8 | K21: =SUM(B21:I21) -> 206 | L21: 25 | M21: 28 | N21: 30 | O21: 31 | P21: 24 | Q21: 19 | R21: 24 | S21: 7 | T21: =SUM(L21:R21) -> 181 | U21: 30 | V21: 28 | W21: 23 | X21: 23 | Y21: 25 | Z21: 26 | AA21: 26 | AB21: 7 | AC21: =SUM(U21:AA21) -> 181 | AD21: 27 | AE21: 24 | AF21: 33 | AG21: 23 | AI21: 23 | AJ21: 19 | AK21: 6 | AL21: =SUM(AD21:AJ21) -> 149 | AM21: 26 | AN21: 26 | AO21: 26 | AP21: 22 | AQ21: 21 | AR21: 20 | AS21: 20 | AT21: 7 | AU21: =SUM(AM21:AS21) -> 161 | AV21: =SUM(J21,S21,AB21,AK21,AT21) -> 35 | AW21: =SUM(K21,T21,AC21,AL21,AU21) -> 878
A22: Коломийська філія №10 Коломийського ліцею №9 | J22: 0 | K22: =SUM(B22:G22) -> 0 | R22: 21 | S22: 1 | T22: =SUM(L22:R22) -> 21 | Z22: 24 | AB22: 1 | AC22: =SUM(U22:AA22) -> 24 | AG22: 26 | AK22: 1 | AL22: =SUM(AD22:AG22) -> 26 | AS22: 32 | AT22: 1 | AU22: =SUM(AM22:AS22) -> 32 | AV22: =SUM(J22,S22,AB22,AK22,AT22) -> 4 | AW22: =SUM(K22,T22,AC22,AL22,AU22) -> 103
A23: Коломийський ліцей імені М.Грушевського | B23: 27 | C23: 20 | J23: 2 | K23: =SUM(B23:G23) -> 47 | L23: 34 | M23: 32 | S23: 2 | T23: =SUM(L23:R23) -> 66 | U23: 30 | V23: 21 | AB23: 2 | AC23: =SUM(U23:AA23) -> 51 | AD23: 31 | AE23: 29 | AK23: 2 | AL23: =SUM(AD23:AG23) -> 60 | AM23: 25 | AN23: 25 | AT23: 2 | AU23: =SUM(AM23:AP23) -> 50 | AV23: =SUM(J23,S23,AB23,AK23,AT23) -> 10 | AW23: =SUM(K23,T23,AC23,AL23,AU23) -> 274
A24: Саджавський ліцей | B24: 20 | C24: 20 | J24: 2 | K24: =SUM(B24:G24) -> 40 | L24: 24 | M24: 23 | S24: 2 | T24: =SUM(L24:R24) -> 47 | U24: 29 | V24: 30 | AB24: 2 | AC24: =SUM(U24:AA24) -> 59 | AD24: 20 | AE24: 20 | AK24: 2 | AL24: =SUM(AD24:AG24) -> 40 | AM24: 34 | AT24: 1 | AU24: =SUM(AM24:AP24) -> 34 | AV24: =SUM(J24,S24,AB24,AK24,AT24) -> 9 | AW24: =SUM(K24,T24,AC24,AL24,AU24) -> 220
A25: Коломийський ліцей №6 імені Героя України Тараса Сенюка | J25: 0 | K25: =SUM(B25:G25) -> 0 | S25: 0 | T25: =SUM(L25:R25) -> 0 | AB25: 0 | AC25: =SUM(U25:Z25) -> 0 | AK25: 0 | AL25: =SUM(AD25:AG25) -> 0 | AT25: 0 | AU25: =SUM(AM25:AO25) -> 0 | AV25: =SUM(J25,S25,AB25,AK25,AT25) -> 0 | AW25: =SUM(K25,T25,AC25,AL25,AU25) -> 0
A26: Воскресинцівсьий ліцей | J26: 0 | K26: 0 | S26: 0 | T26: 0 | AB26: 0 | AC26: 0 | AK26: 0 | AL26: 0 | AT26: 0 | AU26: 0 | AV26: 0 | AW26: 0
A27: Корницький ліцей | J27: 0 | K27: 0 | S27: 0 | T27: 0 | AB27: 0 | AC27: 0 | AK27: 0 | AL27: 0 | AT27: 0 | AU27: 0 | AV27: 0 | AW27: 0
A28: Коломийська початкова школа №20 | J28: 0 | K28: 0 | S28: 0 | T28: 0 | AB28: 0 | AC28: 0 | AK28: 0 | AL28: 0 | AT28: 0 | AU28: 0 | AV28: 0 | AW28: 0
A29: Коломийський ліцей №3 | J29: 0 | K29: 0 | S29: 0 | T29: 0 | AB29: 0 | AC29: 0 | AK29: 0 | AL29: 0 | AT29: 0 | AU29: 0 | AV29: 0 | AW29: 0
A30: Іванівецька гімназія імені М.Вишиванюка | J30: 0 | K30: 0 | S30: 0 | T30: 0 | AB30: 0 | AC30: 0 | AK30: 0 | AL30: 0 | AT30: 0 | AU30: 0 | AV30: 0 | AW30: 0
A31: Товмачицький ліцей | J31: 0 | K31: 0 | S31: 0 | T31: 0 | AB31: 0 | AC31: 0 | AK31: 0 | AL31: 0 | AT31: 0 | AU31: 0 | AV31: 0 | AW31: 0
A32: Всього: | B32: =SUM(B12:B25) -> 266 | C32: =SUM(C12:C25) -> 219 | D32: =SUM(D12:D25) -> 138 | E32: =SUM(E12:E25) -> 98 | F32: =SUM(F12:F25) -> 100 | G32: =SUM(G12:G25) -> 75 | H32: =SUM(H12:H25) -> 47 | I32: =SUM(I12:I25) -> 34 | ... AW32: =SUM(AW12:AW25) -> 4645

Sheet 10-12
S3: Продовження додатка 1
S4: до рішення виконавчого комітету
S5: від 08.09.2022 № 315
B8: Фактична мережа закладів загальної середньої освіти
B9: на 2022/2023 навчальний рік
A12: Заклади загальної середньої освіти | B12: 10-А | C12: 10-Б | D12: 10-В | E12: к-сть класів | F12: к-сть учнів | G12: 11-А | H12: 11-Б | I12: 11-В | J12: к-сть класів | K12: к-сть учнів | L12: 12 | M12: к-сть класів | N12: к-сть учнів | O12: к-сть 10-12 класів | P12: к-сть учнів 10-12 класах | Q12: к-сть 1-12 класів | R12: к-сть учнів у 1-12кл. | U12: Наповнюваність
U13: І-ІV | V13: V-IX | W13: X-XII | X13: I-XII
A14: Коломийський ліцей №1 імені В.Стефаника | B14: 29 | C14: 28 | D14: 29 | E14: 3 | F14: =SUM(B14,C14,D14) -> 86 | G14: 28 | H14: 29 | I14: 19 | J14: 3 | K14: =SUM(G14,H14,I14) -> 76 | O14: 6 | P14: =SUM(F14,K14) -> 162 | Q14: =SUM(O14,'5-9'!AV12,'1-4'!AK9) -> 66 | R14: =SUM('1-4'!AL9,'5-9'!AW12,P14) -> 1678 | U14: ='1-4'!AL9/'1-4'!AK9 -> 25.222222 | V14: ='5-9'!AW12/'5-9'!AV12 -> 25.30303 | W14: =P14/O14 -> 27 | X14: =R14/Q14 -> 25.424242
A15: Коломийський ліцей №2 | E15: 0 | F15: =SUM(B15,C15,D15) -> 0 | G15: 25 | J15: 1 | K15: =SUM(G15,H15,I15) -> 25 | O15: =SUM(E15,J15) -> 1 | P15: =SUM(F15,K15) -> 25 | Q15: =SUM('1-4'!AK10,'5-9'!AV13,O15) -> 22 | R15: =SUM('1-4'!AL10,'5-9'!AW13,P15) -> 610 | U15: ='1-4'!AL10/'1-4'!AK10 -> 26.5 | V15: ='5-9'!AW13/'5-9'!AV13 -> 29.090909 | W15: =P15/O15 -> 25 | X15: =R15/Q15 -> 27.727273
A16: Коломийський ліцей №4 імені Сергія Лисенка | B16: 27 | C16: 28 | E16: 2 | F16: =SUM(B16,C16,D16) -> 55 | G16: 29 | H16: 30 | I16: 24 | J16: 3 | K16: =SUM(G16,H16,I16) -> 83 | O16: =SUM(E16,J16) -> 5 | P16: =SUM(F16,K16) -> 138 | Q16: =SUM('1-4'!AK11,'5-9'!AV14,O16) -> 58 | R16: =SUM('1-4'!AL11,'5-9'!AW14,P16) -> 1627 | U16: ='1-4'!AL11/'1-4'!AK11 -> 27.76 | V16: ='5-9'!AW14/'5-9'!AV14 -> 28.392857 | W16: =P16/O16 -> 27.6 | X16: =R16/Q16 -> 28.051724
A17: Коломийський ліцей №5 імені Т.Г.Шевченка | B17: 29 | E17: 1 | F17: =SUM(B17,C17,D17) -> 29 | G17: 21 | J17: 1 | K17: =SUM(G17,H17,I17) -> 21 | O17: =SUM(E17,J17) -> 2 | P17: =SUM(F17,K17) -> 50 | Q17: =SUM('1-4'!AK12,'5-9'!AV15,O17) -> 27 | R17: =SUM('1-4'!AL12,'5-9'!AW15,P17) -> 704 | U17: ='1-4'!AL12/'1-4'!AK12 -> 26.75 | V17: ='5-9'!AW15/'5-9'!AV15 -> 25.615385 | W17: =P17/O17 -> 25 | X17: =R17/Q17 -> 26.074074
A18: Коломийська філія №7 Коломийського ліцею №5 імені Т.Г.Шевченка | E18: 0 | F18: =SUM(B18,C18,D18) -> 0 | J18: 0 | K18: =SUM(G18,H18,I18) -> 0 | O18: =SUM(E18,J18) -> 0 | P18: =SUM(F18,K18) -> 0 | Q18: =SUM('1-4'!AK13,'5-9'!AV16,O18) -> 10 | R18: =SUM('1-4'!AL13,'5-9'!AW16,P18) -> 280 | U18: ='1-4'!AL13/'1-4'!AK13 -> 26.6 | V18: ='5-9'!AW16/'5-9'!AV16 -> 29.4 | X18: =R18/Q18 -> 28
A19: Раківчицька філія Коломийського ліцею №5 імені Т.Г.Шевченка | E19: 0 | F19: =SUM(B19,C19,D19) -> 0 | J19: 0 | K19: =SUM(G19,H19,I19) -> 0 | O19: =SUM(E19,J19) -> 0 | P19: =SUM(F19,K19) -> 0 | Q19: =SUM('1-4'!AK14,'5-9'!AV17,O19) -> 9 | R19: =SUM('1-4'!AL14,'5-9'!AW17,P19) -> 120 | U19: ='1-4'!AL14/'1-4'!AK14 -> 14 | V19: ='5-9'!AW17/'5-9'!AV17 -> 12.8 | X19: =R19/Q19 -> 13.333333
A20: Шепарівцівська філія Коломийського ліцею №5 імені Т.Г.Шевченка | E20: 0 | F20: =SUM(B20,C20,D20) -> 0 | J20: 0 | K20: =SUM(G20,H20,I20) -> 0 | O20: =SUM(E20,J20) -> 0 | P20: =SUM(F20,K20) -> 0 | Q20: =SUM('1-4'!AK15,'5-9'!AV18,O20) -> 9 | R20: =SUM('1-4'!AL15,'5-9'!AW18,P20) -> 97 | U20: ='1-4'!AL15/'1-4'!AK15 -> 10.75 | V20: ='5-9'!AW18/'5-9'!AV18 -> 10.8 | X20: =R20/Q20 -> 10.777778
A21: Коломийський ліцей №8 | B21: 32 | C21: 34 | E21: 2 | F21: =SUM(B21,C21,D21) -> 66 | G21: 18 | H21: 19 | J21: 2 | K21: =SUM(G21,H21,I21) -> 37 | O21: =SUM(E21,J21) -> 4 | P21: =SUM(F21,K21) -> 103 | Q21: =SUM('1-4'!AK16,'5-9'!AV19,O21) -> 49 | R21: =SUM('1-4'!AL16,'5-9'!AW19,P21) -> 1159 | U21: ='1-4'!AL16/'1-4'!AK16 -> 22.1 | V21: ='5-9'!AW19/'5-9'!AV19 -> 24.56 | W21: =P21/O21 -> 25.75 | X21: =R21/Q21 -> 23.653061
A22: вечірні класи: | B22: 20 | E22: 1 | F22: =SUM(B22,C22,D22) -> 20 | G22: 18 | J22: 1 | K22: =SUM(G22,H22,I22) -> 18 | L22: 13 | M22: 1 | N22: 13 | O22: 3 | P22: =SUM(F22,K22,N22) -> 51 | Q22: =SUM(AM19,'5-9'!AV20,O22) -> 4 | R22: =SUM(AN19,'5-9'!AW20,P22) -> 59 | V22: ='5-9'!AW20/'5-9'!AV20 -> 8 | W22: =P22/O22 -> 17 | X22: =R22/Q22 -> 14.75
A23: Коломийський ліцей №9 | B23: 30 | C23: 23 | D23: 19 | E23: 3 | F23: =SUM(B23,C23,D23) -> 72 | G23: 29 | H23: 21 | I23: 24 | J23: 3 | K23: =SUM(G23,H23,I23) -> 74 | O23: =SUM(E23,J23) -> 6 | P23: =SUM(F23,K23) -> 146 | Q23: =SUM('1-4'!AK17,'5-9'!AV21,O23) -> 62 | R23: =SUM('1-4'!AL17,'5-9'!AW21,P23) -> 1592 | U23: ='1-4'!AL17/'1-4'!AK17 -> 27.047619 | V23: ='5-9'!AW21/'5-9'!AV21 -> 25.085714 | W23: =P23/O23 -> 24.333333 | X23: =R23/Q23 -> 25.677419
A24: Коломийська філія №10 Коломийського ліцею №9 | E24: 0 | F24: =SUM(B24,C24,D24) -> 0 | J24: 0 | K24: =SUM(G24,H24,I24) -> 0 | O24: =SUM(E24,J24) -> 0 | P24: =SUM(F24,K24) -> 0 | Q24: =SUM('1-4'!AK18,'5-9'!AV22,O24) -> 10 | R24: =SUM('1-4'!AL18,'5-9'!AW22,P24) -> 288 | U24: ='1-4'!AL18/'1-4'!AK18 -> 30.833333 | V24: ='5-9'!AW22/'5-9'!AV22 -> 25.75 | X24: =R24/Q24 -> 28.8
A25: Коломийський ліцей імені М.Грушевського | B25: 30 | C25: 32 | E25: 2 | F25: =SUM(B25,C25,D25) -> 62 | G25: 25 | H25: 20 | J25: 2 | K25: =SUM(G25,H25,I25) -> 45 | O25: =SUM(E25,J25) -> 4 | P25: =SUM(F25,K25) -> 107 | Q25: =SUM('1-4'!AK19,'5-9'!AV23,O25) -> 14 | R25: =SUM('1-4'!AL19,'5-9'!AW23,P25) -> 381 | U25: ='1-4'!AL20/'1-4'!AK20 -> 19.285714 | V25: ='5-9'!AW23/'5-9'!AV23 -> 27.4 | W25: =P25/O25 -> 26.75 | X25: =R25/Q25 -> 27.214286
A26: Саджавський ліцей | B26: 26 | E26: 1 | F26: =SUM(B26,C26,D26) -> 26 | G26: 31 | J26: 1 | K26: =SUM(G26,H26,I26) -> 31 | O26: =SUM(E26,J26) -> 2 | P26: =SUM(F26,K26) -> 57 | Q26: =SUM('1-4'!AK20,'5-9'!AV24,O26) -> 18 | R26: =SUM('1-4'!AL20,'5-9'!AW24,P26) -> 412 | U26: ='1-4'!AL20/'1-4'!AK20 -> 19.285714 | V26: ='5-9'!AW24/'5-9'!AV24 -> 24.444444 | W26: =P26/O26 -> 28.5 | X26: =R26/Q26 -> 22.888889
A27: Коломийський ліцей №3 | E27: 0 | F27: =SUM(B27,C27,D27) -> 0 | J27: 0 | K27: =SUM(G27,H27,I27) -> 0 | O27: =SUM(E27,J27) -> 0 | P27: =SUM(F27,K27) -> 0 | Q27: 0 | R27: 0
A28: Коломийський ліцей №6 імені Героя України Тараса Сенюка | E28: 0 | F28: =SUM(B28,C28,D28) -> 0 | J28: 0 | K28: =SUM(G28,H28,I28) -> 0 | O28: =SUM(E28,J28) -> 0 | P28: =SUM(F28,K28) -> 0 | Q28: 0 | R28: 0
A29: Воскресинцівський ліцей | E29: 0 | F29: 0 | J29: 0 | K29: 0 | O29: 0 | P29: 0 | Q29: 0 | R29: 0
A30: Корницький ліцей | E30: 0 | F30: 0 | J30: 0 | K30: 0 | O30: 0 | P30: 0 | Q30: 0 | R30: 0
A31: Коломийська ліцей № 3 | E31: 0 | F31: 0 | J31: 0 | K31: 0 | O31: 0 | P31: 0 | Q31: 0 | R31: 0
A32: Коломийська початкова школа №20 | E32: 0 | F32: 0 | J32: 0 | K32: 0 | O32: 0 | P32: 0 | Q32: 0 | R32: 0
A33: Іванівецька гімназія імені М.Вишиванюка | E33: 0 | F33: 0 | J33: 0 | K33: 0 | O33: 0 | P33: 0 | Q33: 0 | R33: 0
A34: Товмачицький ліцей | E34: 0 | F34: 0 | J34: 0 | K34: 0 | O34: 0 | P34: 0 | Q34: 0 | R34: 0
A35: Всього: | B35: =SUM(B14:B28) -> 223 | C35: =SUM(C14:C28) -> 145 | D35: =SUM(D14:D28) -> 48 | E35: =SUM(E14:E28) -> 15 | F35: =SUM(F14:F28) -> 416 | G35: =SUM(G14:G28) -> 224 | H35: =SUM(H14:H28) -> 119 | I35: =SUM(I14:I28) -> 67 | ... R35: =SUM(R14:R28) -> 9007 | U35: ='1-4'!AL28/'1-4'!AK28 -> 24.985816 | V35: ='5-9'!AW32/'5-9'!AV32 -> 25.244565 | W35: 25.4 | X35: 25.2

Sheet Інклюзивне навч.
AD2: Додаток 1
AD3: до рішення виконавчого комітету
AD4: від 08.09.2022 № 315
B5: Фактична мережа закладів загальної середньої освіти
B6: на 2022/2023 навчальний рік
A8: З них інклюзивне навчання у:
A9: Заклади загальної середньої освіти | B9: 1-А | C9: 1-Б | D9: 1-В | E9: 1-Г | F9: 1-Д | G9: 1-І | H9: к-сть класів | I9: к-сть учнів | J9: 2-А | K9: 2-Б | L9: 2-В | M9: 2-Г | N9: 2-Д | O9: 2-І | P9: к-сть класів | Q9: к-сть учнів | R9: 3-А | S9: 3-Б | T9: 3-В | U9: 3-Г | V9: 3-Д | W9: 3-І | Y9: к-сть класів | Z9: к-сть учнів | AA9: 4-А | AB9: 4-Б | AC9: 4-В | AD9: 4-Г | AE9: 4-Д | AF9: 4-I | AG9: к-сть класів | AH9: к-сть учнів | AI9: к-сть 1-4 класів | AJ9: к-сть учнів у 1-4 кл.
A10: Коломийський ліцей №1 імені В.Стефаника | B10: 1 | C10: 1 | H10: 2 | I10: 2 | J10: 1 | P10: 1 | Q10: 1 | R10: 1 | S10: 1 | Y10: 2 | Z10: 2 | AA10: 1 | AD10: 1 | AG10: 2 | AH10: 2 | AI10: =SUM(H10,P10,Y10,AG10) -> 7 | AJ10: =SUM(I10,Q10,Z10,AH10) -> 7
A11: Коломийський ліцей №2 | H11: 0 | I11: 0 | P11: 0 | Q11: 0 | R11: 1 | Y11: 1 | Z11: 1 | AA11: 2 | AG11: 1 | AH11: 2 | AI11: =SUM(H11,P11,Y11,AG11) -> 2 | AJ11: =SUM(I11,Q11,Z11,AH11) -> 3
A12: Коломийський ліцей №4 імені Сергія Лисенка | B12: 1 | C12: 1 | D12: 1 | E12: 1 | H12: 4 | I12: 4 | J12: 1 | K12: 1 | M12: 2 | P12: 3 | Q12: =SUM(J12:O12) -> 4 | R12: 1 | T12: 1 | Y12: 2 | Z12: =SUM(R12:W12) -> 2 | AB12: 1 | AD12: 2 | AE12: 1 | AG12: 3 | AH12: 4 | AI12: =SUM(H12,P12,Y12,AG12) -> 12 | AJ12: =SUM(I12,Q12,Z12,AH12) -> 14
A13: Коломийський ліцей №5 імені Т.Г.Шевченка | B13: 1 | C13: 2 | H13: 2 | I13: =SUM(B13:G13) -> 3 | K13: 1 | L13: 1 | P13: 2 | Q13: 2 | R13: 1 | S13: 1 | T13: 2 | Y13: 3 | Z13: =SUM(R13:W13) -> 4 | AB13: 1 | AC13: 1 | AG13: 2 | AH13: 2 | AI13: =SUM(H13,P13,Y13,AG13) -> 9 | AJ13: =SUM(I13,Q13,Z13,AH13) -> 11
A14: Коломийська філія №7 Коломийського ліцею №5 імені Т.Г.Шевченка | B14: 1 | H14: 1 | I14: 1 | J14: 1 | P14: 1 | Q14: 1 | Y14: 0 | Z14: 0 | AG14: 0 | AH14: =SUM(AA14:AF14) -> 0 | AI14: =SUM(H14,P14,Y14,AG14) -> 2 | AJ14: =SUM(I14,Q14,Z14,AH14) -> 2
A15: Раківчицька філія Коломийського ліцею №5 імені Т.Г.Шевченка | B15: 1 | H15: 1 | I15: 1 | P15: 0 | Q15: 0 | Y15: 0 | Z15: 0 | AA15: 1 | AG15: 1 | AH15: 1 | AI15: 2 | AJ15: 2
A16: Коломийський ліцей №8 | B16: 1 | C16: 1 | H16: 2 | I16: 2 | J16: 1 | K16: 1 | L16: 1 | P16: 3 | Q16: 3 | S16: 1 | Y16: 1 | Z16: 1 | AA16: 1 | AC16: 1 | AG16: 2 | AH16: 2 | AI16: 8 | AJ16: 8
A17: Коломийський ліцей №9 | B17: 1 | C17: 1 | H17: 2 | I17: 2 | P17: 0 | Q17: 0 | R17: 1 | S17: 1 | Y17: 2 | Z17: 2 | AC17: 2 | AG17: 1 | AH17: 2 | AI17: 5 | AJ17: 6
A18: Коломийська філія №10 Коломийського ліцею №9 | B18: 1 | D18: 1 | H18: 2 | I18: 2 | M18: 2 | P18: 1 | Q18: 2 | Y18: 0 | Z18: 0 | AG18: 0 | AH18: =SUM(AA18:AF18) -> 0 | AI18: =SUM(H18,P18,Y18,AG18) -> 3 | AJ18: =SUM(I18,Q18,Z18,AH18) -> 4
A19: Саджавський ліцей | B19: 1 | H19: 1 | I19: 1 | P19: 0 | Q19: 0 | R19: 1 | Y19: 1 | Z19: 1 | AA19: 1 | AG19: 1 | AH19: 1 | AI19: 3 | AJ19: =SUM(I19,Q19,Z19,AH19) -> 3
A20: Всього: | B20: =SUM(B10:B19) -> 9 | C20: =SUM(C10:C19) -> 6 | D20: =SUM(D10:D19) -> 2 | E20: =SUM(E10:E19) -> 1 | F20: =SUM(F10:F19) -> 0 | G20: =SUM(G10:G19) -> 0 | H20: =SUM(H11:H19) -> 15 | I20: =SUM(I11:I19) -> 16 | J20: =SUM(J10:J19) -> 4 | K20: =SUM(K10:K19) -> 3 | L20: =SUM(L10:L19) -> 2 | M20: =SUM(M10:M19) -> 4 | N20: =SUM(N10:N19) -> 0 | O20: =SUM(O10:O19) -> 0 | P20: =SUM(P11:P19) -> 10 | Q20: =SUM(Q11:Q19) -> 12 | R20: =SUM(R10:R19) -> 6 | S20: =SUM(S10:S19) -> 4 | T20: =SUM(T10:T19) -> 3 | U20: =SUM(U10:U19) -> 0 | V20: =SUM(V10:V19) -> 0 | W20: =SUM(W10:W19) -> 0 | X20: =SUM(X10:X19) -> 0 | Y20: =SUM(Y11:Y19) -> 10 | Z20: =SUM(Z11:Z19) -> 11 | AA20: =SUM(AA10:AA19) -> 6 | AB20: =SUM(AB10:AB19) -> 2 | AC20: =SUM(AC10:AC19) -> 4 | AD20: =SUM(AD10:AD19) -> 3 | AE20: =SUM(AE10:AE19) -> 1 | AF20: =SUM(AF10:AF19) -> 0 | AG20: =SUM(AG10:AG19) -> 13 | AH20: =SUM(AH10:AH19) -> 16 | AI20: =SUM(AI9:AI19) -> 53 | AJ20: =SUM(AJ9:AJ19) -> 60

Sheet Інкл.навч.5-9
AD2: Додаток 1
AD3: до рішення виконавчого комітету
AD4: від 08.09.2022 № 315
B5: Фактична мережа закладів загальної середньої освіти
B6: на 2022/2023 навчальний рік
A8: З них інклюзивне навчання у:
A9: Заклади загальної середньої освіти | B9: 5-А | C9: 5-Б | D9: 5-В | E9: 5-Г | F9: 5-І | G9: 5-Д | H9: 5-О | I9: к-сть класів | J9: к-сть учнів | K9: 6-А | L9: 6-Б | M9: 6-В | N9: 6-Г | O9: 6-І | P9: 6-Д | Q9: к-сть класів | R9: к-сть учнів | S9: 7-А | T9: 7-Б | U9: 7-В | V9: 7-Г | W9: 7-Д | X9: 7-О | Y9: к-сть класів | Z9: к-сть учнів | AA9: 8-А | AB9: 8-Б | AC9: 8-В | AD9: 8-Г | AE9: 8-Д | AF9: к-сть класів | AG9: к-сть учнів | AH9: 9-А | AI9: 9-Б | AJ9: 9-В | AK9: 9-Г | AL9: 9-Д | AM9: к-сть класів | AN9: к-сть учнів | AO9: к-сть 5-9 класів | AP9: к-сть учнів у 5-9 кл.
A10: Коломийський ліцей №1 імені В.Стефаника | B10: 1 | C10: 1 | I10: 2 | J10: 2 | Q10: 0 | R10: 0 | Y10: 0 | Z10: 0 | AE10: 1 | AF10: 1 | AG10: 1 | AM10: 0 | AN10: 0 | AO10: =SUM(I10,Y10,AF10,AM10) -> 3 | AP10: =SUM(J10,Z10,AG10,AN10) -> 3
A11: Коломийський ліцей №4 імені Сергія Лисенка | D11: 1 | I11: 1 | J11: 1 | K11: 2 | O11: 1 | Q11: 2 | R11: 3 | S11: 1 | Y11: 1 | Z11: 1 | AF11: 0 | AG11: 0 | AM11: 0 | AN11: 0 | AO11: 4 | AP11: 5
A12: Коломийський ліцей №5 імені Т.Г.Шевченка | B12: 1 | C12: 2 | D12: 1 | I12: 3 | J12: 4 | Q12: 0 | R12: =SUM(K12:P12) -> 0 | U12: 1 | Y12: 1 | Z12: =SUM(S12:V12) -> 1 | AB12: 1 | AF12: 1 | AG12: 1 | AI12: 2 | AM12: 1 | AN12: 2 | AO12: 6 | AP12: 8
A13: Коломийська філія №7 Коломийського ліцею №5 імені Т.Г.Шевченка | B13: 1 | I13: 1 | J13: 1 | K13: 1 | Q13: 1 | R13: 1 | S13: 2 | Y13: 1 | Z13: 2 | AF13: 0 | AG13: 0 | AH13: 1 | AM13: 1 | AN13: 1 | AO13: 4 | AP13: 5
A14: Коломийський ліцей №8 | I14: 0 | J14: 0 | K14: 3 | M14: 1 | Q14: 2 | R14: 4 | U14: 1 | Y14: 1 | Z14: 1 | AC14: 1 | AF14: 1 | AG14: 1 | AJ14: 1 | AM14: 1 | AN14: 1 | AO14: 5 | AP14: 7
A15: Коломийський ліцей №9 | D15: 1 | F15: 1 | I15: 2 | J15: =SUM(B15:G15) -> 2 | L15: 1 | M15: 1 | N15: 1 | Q15: 3 | R15: 3 | U15: 1 | Y15: 1 | Z15: 1 | AF15: 0 | AG15: 0 | AM15: 0 | AN15: 0 | AO15: 4 | AP15: 4
A16: Коломийська філія №10 Коломийського ліцею №9 | I16: 0 | J16: 0 | O16: 1 | Q16: 1 | R16: 1 | W16: 1 | Y16: 1 | Z16: 1 | AF16: 0 | AG16: 0 | AL16: 1 | AM16: 1 | AN16: 1 | AO16: 3 | AP16: 3
A17: Всього: | B17: =SUM(B10:B16) -> 3 | C17: =SUM(C10:C16) -> 3 | D17: =SUM(D10:D16) -> 3 | E17: =SUM(E10:E16) -> 0 | F17: =SUM(F10:F16) -> 1 | G17: =SUM(G10:G16) -> 0 | H17: =SUM(H10:H16) -> 0 | I17: =SUM(I10:I16) -> 9 | ... AP17: =SUM(AP10:AP16) -> 35
A20: Заступник начальника управління освіти | AF20: Юлія ТИМКІВ
