Workbook
Name aa: '[2]1993'!$A$1:$IV$3,'[2]1993'!$A$1:$A$65536
Name ad: '[3]МТР Газ України'!$B$1
Name as: '[4]МТР Газ України'!$B$1
Name asdf: [5]Inform!$E$6
Name asdfg: [5]Inform!$F$2
Name BuiltIn_Print_Area___1___1: #REF!
Name ClDate: [6]Inform!$E$6
Name ClDate_21: [7]Inform!$E$6
Name ClDate_25: [7]Inform!$E$6
Name ClDate_6: [8]Inform!$E$6
Name CompName: [6]Inform!$F$2
Name CompName_21: [7]Inform!$F$2
Name CompName_25: [7]Inform!$F$2
Name CompName_6: [8]Inform!$F$2
Name CompNameE: [6]Inform!$G$2
Name CompNameE_21: [7]Inform!$G$2
Name CompNameE_25: [7]Inform!$G$2
Name CompNameE_6: [8]Inform!$G$2
Name Cost_Category_National_ID: #REF!
Name Cе511: #REF!
Name d: '[9]МТР Газ України'!$B$4
Name dCPIb: [10]попер_роз!#REF!
Name dPPIb: [10]попер_роз!#REF!
Name ds: '[11]7 Інші витрати'!#REF!
Name Fact_Type_ID: #REF!
Name G: '[12]МТР Газ України'!$B$1
Name ij1sssss: '[13]7 Інші витрати'!#REF!
Name LastItem: [14]Лист1!$A$1
Name Load: '[15]МТР Газ України'!$B$4
Name Load_ID: '[16]МТР Газ України'!$B$4
Name Load_ID_10: '[17]7 Інші витрати'!#REF!
Name Load_ID_11: '[18]МТР Газ України'!$B$4
Name Load_ID_12: '[18]МТР Газ України'!$B$4
Name Load_ID_13: '[18]МТР Газ України'!$B$4
Name Load_ID_14: '[18]МТР Газ України'!$B$4
Name Load_ID_15: '[18]МТР Газ України'!$B$4
Name Load_ID_16: '[18]МТР Газ України'!$B$4
Name Load_ID_17: '[18]МТР Газ України'!$B$4
Name Load_ID_18: '[19]МТР Газ України'!$B$4
Name Load_ID_19: '[20]МТР Газ України'!$B$4
Name Load_ID_20: '[19]МТР Газ України'!$B$4
Name Load_ID_200: '[15]МТР Газ України'!$B$4
Name Load_ID_21: '[21]МТР Газ України'!$B$4
Name Load_ID_23: '[20]МТР Газ України'!$B$4
Name Load_ID_25: '[21]МТР Газ України'!$B$4
Name Load_ID_542: '[22]МТР Газ України'!$B$4
Name Load_ID_6: '[18]МТР Газ України'!$B$4
Name OpDate: [6]Inform!$E$5
Name OpDate_21: [7]Inform!$E$5
Name OpDate_25: [7]Inform!$E$5
Name OpDate_6: [8]Inform!$E$5
Name QR: [23]Inform!$E$5
Name qw: [5]Inform!$E$5
Name qwert: [5]Inform!$G$2
Name qwerty: '[4]МТР Газ України'!$B$4
Name ShowFil: [14]!ShowFil
Name SU_ID: #REF!
Name Time_ID: '[16]МТР Газ України'!$B$1
Name Time_ID_10: '[17]7 Інші витрати'!#REF!
Name Time_ID_11: '[18]МТР Газ України'!$B$1

Sheet Осн. фін. пок.
A1: ПОГОДЖЕНО | G1: Додаток 1
G2: до Порядку складання, затвердження
A3: Управління комунального господарства Коломийської міської ради | G3: та контролю виконання фінансового плану
A4: (найменування органу, який розглянув фінансовий план) | G4: суб'єкта господарювання державного сектору економіки
A5: Начальник А.П.Радовець | G5: (пункт 2)
A7: М.П.(посада П.І.Б., дата, підпис)
G9: ЗАТВЕРДЖЕНО
G10: Рішення міської ради
G11: від 30.08.2021 р. № 1075-18/2021
G12: Міський голова Богдан Станіславський
G16: М. П. (посада, П.І.Б., дата, підпис)
I20: Рік | J20: Коди
A21: Підприємство | B21: КОМУНАЛЬНЕ ПІДПРИЄМСТВО "ПОЛІГОН ЕКОЛОГІЯ" | I21: за ЄДРПОУ | J21: 13655234
A22: Організаційно-правова форма | B22: комунальне підприємство | I22: за КОПФГ | J22: 150
A23: Територія | B23: м.Коломия | I23: за КОАТУУ | J23: 2610600000
A24: Орган державного управління | I24: за СПОДУ
A25: Галузь | I25: за ЗКГНГ
A26: Вид економічної діяльності | B26: Будівництво доріг та автострад | I26: за КВЕД | J26: 42.12
A27: Одиниця виміру, тис. грн | G27: Стандарти звітності П(с)БОУ
A28: Форма власності | B28: комунальна | G28: Стандарти звітності МСФЗ
A29: Середньооблікова кількість штатних працівників | J29: 91
A30: Місцезнаходження | B30: 78200, місто Коломия, вулиця Ю. Шкрумеляка, 36
A31: Телефон | B31: 669231504
A32: Прізвище та ініціали керівника | B32: Попелюк Михайло Богданович
A33: ФІНАНСОВИЙ ПЛАН ПІДПРИЄМСТВА НА 2022 рік
A35: Основні фінансові показники
J36: тис.грн
A37: Найменування показника | B37: Код рядка | C37: Факт минулого року | D37: Фінансовий план поточного року | E37: Прогноз на поточний рік | F37: Плановий рік | G37: Інформація згідно із стратегічним планом розвитку
G38: плановий рік +1 рік | H38: плановий рік +2 роки | I38: плановий рік +3 роки | J38: плановий рік +4 роки
A39: 1 | B39: 2 | C39: 3 | D39: 4 | E39: 5 | F39: 6 | G39: 7 | H39: 8 | I39: 9 | J39: 10
A40: І. Формування фінансових результатів
A41: Чистий дохід від реалізації продукції (товарів, робіт, послуг) | B41: 1000 | C41: ='I. Фін результат'!C7 -> 33428 | D41: ='I. Фін результат'!D7 -> 44460 | E41: ='I. Фін результат'!E7 -> 44460 | F41: ='I. Фін результат'!F7 -> 52018 | G41: =F41*1.1 -> 57219.8 | H41: =G41*1.1 -> 62941.78 | I41: =H41*1.1 -> 69235.958 | J41: =I41*1.1 -> 76159.554
A42: Собівартість реалізованої продукції (товарів, робіт, послуг) | B42: 1010 | C42: ='I. Фін результат'!C10 -> -29503 | D42: ='I. Фін результат'!D10 -> -35488 | E42: ='I. Фін результат'!E10 -> -35488 | F42: ='I. Фін результат'!F10 -> -40668 | G42: =F42*1.1 -> -44734.8 | H42: =G42*1.1 -> -49208.28 | I42: =H42*1.1 -> -54129.108 | J42: =I42*1.1 -> -59542.019
A43: Валовий прибуток/збиток | B43: 1020 | C43: =SUM(C41:C42) -> 3925 | D43: =SUM(D41:D42) -> 8972 | E43: =SUM(E41:E42) -> 8972 | F43: =SUM(F41:F42) -> 11350 | G43: =F43*1.1 -> 12485 | H43: =G43*1.1 -> 13733.5 | I43: =H43*1.1 -> 15106.85 | J43: =I43*1.1 -> 16617.535
A44: Адміністративні витрати | B44: 1030 | C44: ='I. Фін результат'!C36 -> -3912 | D44: ='I. Фін результат'!D36 -> -8472.2 | E44: ='I. Фін результат'!E36 -> -8471.8 | F44: ='I. Фін результат'!F36 -> -10547.66 | G44: =F44*1.1 -> -11602.426 | H44: =G44*1.1 -> -12762.669 | I44: =H44*1.1 -> -14038.935 | J44: =I44*1.1 -> -15442.829
A45: Витрати на збут | B45: 1060 | C45: ='I. Фін результат'!C63 -> 0 | D45: ='I. Фін результат'!D63 -> 0 | E45: ='I. Фін результат'!E63 -> 0 | F45: ='I. Фін результат'!F63 -> 0 | G45: =F45*1.1 -> 0 | H45: =G45*1.1 -> 0 | I45: =H45*1.1 -> 0 | J45: =I45*1.1 -> 0
A46: Інші операційні доходи | B46: 1070 | C46: ='I. Фін результат'!C63 -> 0 | D46: ='I. Фін результат'!D63 -> 0 | E46: ='I. Фін результат'!E63 -> 0 | F46: ='I. Фін результат'!F63 -> 0 | G46: =F46*1.1 -> 0 | H46: =G46*1.1 -> 0 | I46: =H46*1.1 -> 0 | J46: =I46*1.1 -> 0
A47: Інші операційні витрати | B47: 1080 | C47: ='I. Фін результат'!C76 -> -14 | D47: ='I. Фін результат'!D76 -> -500 | E47: ='I. Фін результат'!E76 -> -500 | F47: ='I. Фін результат'!F76 -> -800 | G47: =F47*1.1 -> -880 | H47: =G47*1.1 -> -968 | I47: =H47*1.1 -> -1064.8 | J47: =I47*1.1 -> -1171.28
A48: Фінансовий результат від операційної діяльності | B48: 1100 | C48: =SUM(C43:C47) -> -1 | D48: =SUM(D43:D47) -> -0.2 | E48: =SUM(E43:E47) -> 0.2 | F48: =SUM(F43:F47) -> 2.34 | G48: =F48*1.1 -> 2.574 | H48: =G48*1.1 -> 2.8314 | I48: =H48*1.1 -> 3.11454 | J48: =I48*1.1 -> 3.425994
A49: EBITDA | B49: 1310 | C49: ='I. Фін результат'!C104 -> 0 | D49: =F49 -> 0 | E49: ='I. Фін результат'!E104 -> 0 | F49: ='I. Фін результат'!F104 -> 0 | G49: =F49*1.1 -> 0 | H49: =G49*1.1 -> 0 | I49: =H49*1.1 -> 0 | J49: =I49*1.1 -> 0
...

Sheet I. Фін результат
A1: I. Формування фінансових результатів
K2: тис.грн
A3: Найменування показника | B3: Код рядка | C3: Факт минулого року | D3: Фінансовий план поточного року | E3: Прогноз на поточний рік | F3: Плановий рік (усього) | G3: У тому числі за кварталами | K3: Пояснення та обґрунтування до запланованого рівня доходів/витрат
G4: І | H4: ІІ | I4: ІІІ | J4: ІV
A5: 1 | B5: 2 | C5: 3 | D5: 4 | E5: 5 | F5: 6 | G5: 7 | H5: 8 | I5: 9 | J5: 10 | K5: 11
A6: Доходи і витрати (деталізація)
A7: Дохід від реалізації продукції (товарів, робіт, послуг)цільове фінансування | B7: 1000 | C7: 33428 | D7: 44460 | E7: 44460 | F7: 52018 | G7: 10403.6 | H7: 15605.4 | I7: 14672 | J7: 7558
A8: Бюджет | B8: 1000.1 | D8: 8500 | E8: 8500 | F8: =F7-F9 -> 43718
A9: Інші джерела | B9: 1000.2 | C9: 33428 | D9: =D7-D8 -> 35960 | E9: 35960 | F9: 8300
A10: Собівартість реалізованої продукції (товарів, робіт, послуг) | B10: 1010 | C10: =C13+C20+C21+C22+C25+C28+C29+C30 -> -29503 | D10: -35488 | E10: -35488 | F10: -40668 | G10: =G13+G20+G21+G23+G25+G28+G29+G30 -> -8800.7 | H10: =H13+H20+H21+H23+H25+H28+H29+H30 -> -14001.35 | I10: =I13+I20+I21+I23+I25+I28+I29+I30 -> -13067.913 | J10: =J13+J20+J21+J23+J25+J28+J29+J30 -> -5952.7781
A11: Бюджет | B11: 1010.1 | D11: -7500.86 | E11: -7500.86 | F11: =F10-F12 -> -32865
A12: Інші джерела | B12: 1010.2 | C12: -29503 | D12: =D10-D11 -> -27987.14 | E12: =E10-E11 -> -27987.14 | F12: -7803
A13: Витрати на сировину та основні матеріали: | B13: 1011 | C13: -15178.4 | D13: -11101 | E13: -11101 | F13: -16467 | G13: -1703 | H13: -6246 | I13: -5368 | J13: -1323
A14: будівництво доріг та автострад (Асфальт, щебінь, цемент, борд.ри, поребрики, плитка) | B14: 1011.1 | C14: =C13*0.7 -> -10624.88 | D14: -9100 | E14: -9100 | F14: =F13*0.7 -> -11526.9 | G14: =G13-G15-G16-G17-G18 -> -419.96 | H14: =H13-H15-H16-H17-H18 -> -4988.97 | I14: =I13-I15-I16-I17-I18 -> -4270.01 | J14: =J13-J15-J16-J17-J18 -> -532.11
A15: послуги прибирання та підмітання вулиць парків, скверів( віники, лопати, відра, рукавиці, пакет для сміття) | B15: 1011.2 | C15: =C13*0.18 -> -2732.112 | D15: -998 | E15: -998 | F15: =F13*0.18 -> -2964.06 | G15: =G13*0.18 -> -306.54 | H15: =H13*0.18 -> -1124.28 | I15: =I13*0.18 -> -966.24 | J15: =J13*0.18 -> -238.14
A16: утримання дорожньої мережі в зимовий період | B16: 1011.3 | C16: =C13-C14-C15 -> -1821.408 | D16: =D13-D14-D15-D17-D18 -> -727 | E16: =E13-E14-E15-E17-E18 -> -727 | F16: -1314 | G16: -844 | J16: -420
A17: Вивезення побутових відходів | B17: 1011.4 | D17: -202 | E17: -202 | F17: -403 | G17: =-403/4 -> -100.75 | H17: =-403/4 -> -100.75 | I17: =-403/4 -> -100.75 | J17: =-403/4 -> -100.75
A18: Захоронення ТПВ | B18: 1011.5 | D18: -74 | E18: -74 | F18: -127 | G18: =-127/4 -> -31.75 | H18: -32 | I18: -31 | J18: -32
A20: Витрати на паливо | B20: 1012 | C20: -2696.1 | D20: -2850 | E20: -2850 | F20: -3220 | G20: =F20/4 -> -805 | H20: =G20/4 -> -201.25 | I20: =H20/4 -> -50.3125 | J20: =I20/4 -> -12.578125
A21: Витрати на електроенергію | B21: 1013 | C21: -55.9 | D21: -60 | E21: -60 | F21: -60 | G21: =F21/4 -> -15 | H21: -15 | I21: -15 | J21: -15
A22: Витрати на оплату праці | B22: 1014 | C22: -8275.9 | D22: -13459 | E22: -13459 | F22: -18050 | G22: -4800 | H22: -5409 | I22: -5409 | J22: -3833
A23: у т.ч. бюджетні надходження | D23: -7500 | E23: -7500 | F23: -16166 | G23: -4329 | H23: -4938 | I23: -4938 | J23: =J22-J24 -> -3362
A24: надходження з інших джерел | D24: =D22-D23 -> -5959 | E24: =E22-E23 -> -5959 | F24: -1883.7 | G24: -471 | H24: -471 | I24: -471 | J24: -471
A25: Відрахування на соціальні заходи | B25: 1015 | C25: -1820.7 | D25: -3810 | E25: -3810.4 | F25: -4492 | G25: -1056 | H25: -1190 | I25: -1190 | J25: -843
A26: у т.ч. бюджетні надходження | D26: -3672 | E26: -3672 | F26: -4077 | G26: -952 | H26: -1086 | I26: -1086 | J26: =J25-J27 -> -739.4
A27: надходження з інших джерел | D27: -138 | E27: -138.2 | F27: -414.5 | G27: -103.6 | H27: -103.6 | I27: -103.6 | J27: -103.6
A28: Витрати, що здійснюються для підтримання об’єкта в робочому стані (проведення ремонту, технічного огляду, нагляду, обслуговування тощо) | B28: 1016 | C28: -206.1 | D28: -283.5 | E28: -283.5 | F28: -283.5 | G28: -56.7 | H28: -85.1 | I28: -93.6 | J28: -48.2
A29: Амортизація основних засобів і нематеріальних активів | B29: 1017 | C29: -898 | D29: -1024 | E29: -1024 | F29: -1024 | G29: -256 | H29: -256 | I29: -256 | J29: -256
A30: Інші витрати (оренда обладн., охорона прим.) | B30: 1018 | C30: -371.9 | D30: -2900 | E30: -2900 | F30: -2900 | G30: -580 | H30: -1070 | I30: -1157 | J30: -93
A31: спец одяг | B31: 1018.1 | C31: -59.6 | D31: 0 | E31: 0 | F31: -120 | G31: 0 | H31: 0 | I31: 0 | J31: 0
A32: запчастини до техніи | B32: 1018.2 | C32: -312.3 | D32: -320 | E32: -320 | F32: -320 | G32: =-320/4 -> -80 | H32: =-320/4 -> -80 | I32: =-320/4 -> -80 | J32: =-320/4 -> -80
A33: водопостачання | B33: 1018.3 | C33: 0 | D33: -80 | E33: -80 | F33: -80 | G33: =-80/4 -> -20 | H33: =-80/4 -> -20 | I33: =-80/4 -> -20 | J33: =-80/4 -> -20
A34: орендаекскаватора, бульдозера | B34: 1018.4 | C34: 0 | D34: 2500 | E34: 2500 | F34: 2500 | G34: =-2500/4 -> -625 | H34: =-2500/4 -> -625 | I34: =-2500/4 -> -625 | J34: =-2500/4 -> -625
A35: Валовий прибуток (збиток) | B35: 1020 | C35: =C7+C10 -> 3925 | D35: =D7+D10 -> 8972 | E35: =E7+E10 -> 8972 | F35: =F7+F10 -> 11350 | G35: =G7+G10 -> 1602.9 | H35: =H7+H10 -> 1604.05 | I35: =I7+I10 -> 1604.0875 | J35: =J7+J10 -> 1605.2219
A36: Адміністративні витрати, у тому числі: | B36: 1030 | C36: =SUM(C37:C61) -> -3912 | D36: =SUM(D37:D61) -> -8472.2 | E36: =SUM(E37:E61) -> -8471.8 | F36: =SUM(F37:F61) -> -10547.66 | G36: =-5611/4 -> -1402.75 | H36: =-5611/4 -> -1402.75 | I36: =-5611/4 -> -1402.75 | J36: =-5611/4 -> -1402.75
A37: витрати, пов'язані з використанням власних службових автомобілів | B37: 1031 | C37: -100.3 | D37: -120.3 | E37: -120.3 | F37: -120.3 | G37: -30.2 | H37: -30.2 | I37: -30.2 | J37: -30
A38: витрати на оренду службових автомобілів | B38: 1032 | D38: 0 | E38: ( ) | F38: =C38*1.1798 -> 0
A39: витрати на консалтингові послуги | B39: 1033 | D39: ( -) | E39: ( ) | F39: =C39*1.1798 -> 0 | G39: ( ) | H39: ( ) | I39: ( ) | J39: ( )
A40: витрати на страхові послуги | B40: 1034 | C40: -3.3 | D40: -5.6 | E40: -5.6 | F40: -5.6 | G40: =-6/4 -> -1.5 | H40: -2 | I40: -1 | J40: -1
A41: витрати на аудиторські послуги | B41: 1035 | D41: ( - ) | E41: ( ) | F41: =C41*1.1798 -> 0 | G41: ( ) | H41: ( ) | I41: ( ) | J41: ( )
...

Sheet ІІ. Розр. з бюджетом
A1: IІ. Розрахунки з бюджетом
I2: тис.грн
A3: Найменування показника | B3: Код рядка | C3: Факт минулого року | D3: Фінансовий план поточного року | E3: Прогноз на поточний рік | F3: Плановий рік (усього) | G3: У тому числі за кварталами
G4: І | H4: ІІ | I4: ІІІ | J4: ІV
A5: 1 | B5: 2 | C5: 3 | D5: 4 | E5: 5 | F5: 6 | G5: 7 | H5: 8 | I5: 9 | J5: 10
A6: Розподіл чистого прибутку
A7: Залишок нерозподіленого прибутку (непокритого збитку) на початок звітного періоду | B7: 2000 | C7: -2504 | D7: -2503 | E7: -2503 | F7: -2501 | G7: -2501 | H7: -2500 | I7: -2499 | J7: -2499
A8: Нараховані до сплати відрахування частини чистого прибутку, усього, у тому числі: | B8: 2010 | C8: 0.1 | D8: 0.2 | E8: 0.2 | F8: 0.2 | G8: 0 | H8: 0.1 | I8: 0.1 | J8: 0
A9: державними унітарними підприємствами та їх об'єднаннями до державного бюджету | B9: 2011 | C9: 0.1 | D9: 0.2 | E9: 0.2 | F9: 0.2 | G9: 0 | H9: 0.1 | I9: 0.1 | J9: 0
A10: господарськими товариствами, у статутному капіталі яких більше 50 відсотків акцій (часток, паїв) належать державі, на виплату дивідендів | B10: 2012 | C10: ( ) | D10: ( ) | E10: ( ) | F10: =SUM(G10:J10) -> 0 | G10: ( ) | H10: ( ) | I10: ( ) | J10: ( )
A11: у тому числі на державну частку | B11: 2012/1 | C11: ( ) | D11: ( ) | E11: ( ) | F11: =SUM(G11:J11) -> 0 | G11: ( ) | H11: ( ) | I11: ( ) | J11: ( )
A12: Перенесено з додаткового капіталу | B12: 2020 | F12: =SUM(G12:J12) -> 0
A13: Розвиток виробництва | B13: 2030 | C13: ( ) | D13: ( ) | E13: ( ) | F13: =SUM(G13:J13) -> 0 | G13: ( ) | H13: ( ) | I13: ( ) | J13: ( )
A14: у тому числі за основними видами діяльності за КВЕД | B14: 2031 | C14: ( ) | D14: ( ) | E14: ( ) | F14: =SUM(G14:J14) -> 0 | G14: ( ) | H14: ( ) | I14: ( ) | J14: ( )
A15: Резервний фонд | B15: 2040 | C15: ( ) | D15: ( ) | E15: ( ) | F15: =SUM(G15:J15) -> 0 | G15: ( ) | H15: ( ) | I15: ( ) | J15: ( )
A16: Інші фонди (розшифрувати) | B16: 2050 | C16: ( ) | D16: ( ) | E16: ( ) | F16: =SUM(G16:J16) -> 0 | G16: ( ) | H16: ( ) | I16: ( ) | J16: ( )
A17: Інші цілі (розшифрувати) | B17: 2060 | C17: ( ) | D17: ( ) | E17: ( ) | F17: =SUM(G17:J17) -> 0 | G17: ( ) | H17: ( ) | I17: ( ) | J17: ( )
A18: Залишок нерозподіленого прибутку (непокритого збитку) на кінець звітного періоду | B18: 2070 | C18: -2504 | D18: -2503 | E18: -2503 | F18: -2501 | G18: -2501 | H18: -2500 | I18: -2499 | J18: -2499
A19: Сплата податків, зборів та інших обов'язкових платежів
A20: Сплата податків та зборів до Державного бюджету України (податкові платежі), усього, у тому числі: | B20: 2110 | C20: =SUM(C21:C29) -> 2325.8 | D20: =SUM(D21:D29) -> 3142.9 | E20: =SUM(E21:E29) -> 3142.9 | F20: =SUM(F21:F29) -> 3709.2 | G20: =SUM(G21:G29) -> 948 | H20: =SUM(H21:H29) -> 926.1 | I20: =SUM(I21:I29) -> 926.1 | J20: =SUM(J21:J29) -> 911
A21: податок на прибуток підприємств | B21: 2111 | C21: 0 | D21: 0 | E21: 0 | F21: 0 | G21: 0 | H21: 0 | I21: 0 | J21: 0
A22: податок на додану вартість, що підлягає сплаті до бюджету за підсумками звітного періоду | B22: 2112 | C22: 2158 | D22: 2870 | E22: 2870 | F22: 3387 | G22: 867 | H22: 845 | I22: 845 | J22: 830
A23: податок на додану вартість, що підлягає відшкодуванню з бюджету за підсумками звітного періоду | B23: 2113 | F23: =D23*1.1798 -> 0
A24: акцизний податок | B24: 2114 | F24: =D24*1.1798 -> 0
A25: відрахування частини чистого прибутку державними унітарними підприємствами та їх об'єднаннями | B25: 2115 | C25: 0.1 | D25: 0.2 | E25: 0.2 | F25: 0.2 | G25: 0 | H25: 0.1 | I25: 0.1 | J25: 0
A26: рентна плата за транспортування | B26: 2116 | F26: =D26*1.1798 -> 0
A27: рентна плата за користування надрами | B27: 2117 | C27: 0 | D27: 0 | E27: 0 | F27: 0 | G27: 0 | J27: 0
A28: податок на доходи фізичних осіб | B28: 2118 | F28: =D28*1.1798 -> 0
A29: інші податки та збори (розшифрувати) (військовий збір) | B29: 2119 | C29: 167.7 | D29: 272.7 | E29: 272.7 | F29: 322 | G29: 81 | H29: 81 | I29: 81 | J29: 81
A30: Сплата податків та зборів до місцевих бюджетів (податкові платежі), усього, у тому числі: | B30: 2120 | C30: =SUM(C31:C34) -> 2005.2 | D30: =SUM(D31:D34) -> 2668 | E30: =SUM(E31:E34) -> 2667.7 | F30: =SUM(F31:F34) -> 3864 | G30: =SUM(G31:G34) -> 966 | H30: =SUM(H31:H34) -> 966 | I30: =SUM(I31:I34) -> 966 | J30: =SUM(J31:J34) -> 966
A31: податок на доходи фізичних осіб | B31: 2121 | C31: 2005.2 | D31: 2668 | E31: 2667.7 | F31: 3864 | G31: 966 | H31: 966 | I31: 966 | J31: 966
A32: земельний податок | B32: 2122 | F32: =D32*1.1798 -> 0
A33: орендна плата (60% за оренд. прим) | B33: 2123 | F33: =D33*1.1798 -> 0
A34: інші податки та збори (розшифрувати) () | B34: 2124 | F34: =D34*1.1798 -> 0
A35: Інші податки, збори та платежі на користь держави, усього, у тому числі: | B35: 2130 | C35: =SUM(C36:C39) -> 2397 | D35: =SUM(D36:D39) -> 3730 | E35: =SUM(E36:E39) -> 3730 | F35: =SUM(F36:F39) -> 5523 | G35: =SUM(G36:G39) -> 1381 | H35: =SUM(H36:H39) -> 1381 | I35: =SUM(I36:I39) -> 1381 | J35: =SUM(J36:J39) -> 1381
A36: відрахування частини чистого прибутку господарськими товариствами, у статутному капіталі яких більше 50 відсотків акцій (часток, паїв) належать державі, на виплату дивідендів на державну частку | B36: 2131
A37: митні платежі | B37: 2132
A38: єдиний внесок на загальнообов'язкове державне соціальне страхування | B38: 2133 | C38: 2397 | D38: 3261 | E38: 3261 | F38: 4723 | G38: 1181 | H38: 1181 | I38: 1181 | J38: 1181
A39: інші податки, збори та платежі (екологічний податок) | B39: 2134 | D39: 469 | E39: 469 | F39: 800 | G39: 200 | H39: 200 | I39: 200 | J39: 200
A40: Погашення податкового боргу, усього, у тому числі: | B40: 2140
...

Sheet ІІІ. Рух грош. коштів
A1: ІІІ. Рух грошових коштів (за прямим методом)
I2: тис.грн
A3: Найменування показника | B3: Код рядка | C3: Факт минулого року | D3: План поточного року | E3: Прогноз на поточний рік | F3: Плановий рік (усього) | G3: У тому числі за кварталами
G4: І | H4: ІІ | I4: ІІІ | J4: ІV
A5: 1 | B5: 2 | C5: 3 | D5: 4 | E5: 5 | F5: 6 | G5: 7 | H5: 8 | I5: 9 | J5: 10
A6: І. Рух коштів у результаті операційної діяльності
A7: Надходження грошових коштів від операційної діяльності | B7: 3000 | C7: 40551 | D7: =SUM(D8:D17) -> 44884 | E7: =SUM(E8:E17) -> 44884 | F7: =SUM(F8:F17) -> 62846 | G7: =G8+G9+G10+G11 -> 12484 | H7: =H8+H9+H10+H11 -> 18726 | I7: =I8+I9+I10+I11 -> 17606 | J7: =J8+J9+J10+J11 -> 14030
A8: Виручка від реалізації продукції (товарів, робіт, послуг) | B8: 3010 | C8: 40127 | D8: 44460 | E8: 44460 | F8: 62422 | G8: 12378 | H8: 18620 | I8: 17500 | J8: 13924
A9: Повернення податків і зборів, у тому числі: | B9: 3020 | F9: =D9*1.1798 -> 0
A10: податку на додану вартість | B10: 3021 | C10: 0 | D10: 0 | F10: =D10*1.1798 -> 0
A11: Цільове фінансування (розшифрувати) БЮДЖЕТ, ЛІКАРНЯНІ | B11: 3030 | C11: 424 | D11: 424 | E11: 424 | F11: 424 | G11: =F11/4 -> 106 | H11: 106 | I11: 106 | J11: 106
A12: Надходження авансів від покупців і замовників | B12: 3040
A13: Отримання коштів за короткостроковими зобов'язаннями, у тому числі: | B13: 3050
A14: кредити | B14: 3051
A15: позики | B15: 3052
A16: облігації | B16: 3053
A17: Інші надходження (розшифрувати) -ОРЕНДА, | B17: 3060 | C17: 0
A18: Видатки грошових коштів від операційної діяльності | B18: 3100 | C18: =C19+C20+C21+C25+C34+C36 -> -40288 | D18: =D19+D20+D21+D25+D34+D36 -> -44126.5 | E18: =E19+E20+E21+E25+E34 -> -44040.5 | F18: =F19+F20+F21+F25+F34 -> -61166.948 | G18: =G19+G20+G21+G25+G34 -> -12483.75 | H18: =H19+H20+H21+H25+H34 -> -17180 | I18: =I19+I20+I21+I25+I34 -> -17506 | J18: =J19+J20+J21+J25+J34 -> -13997
A19: Розрахунки за продукцію (товари, роботи та послуги) | B19: 3110 | C19: -24549 | D19: -16496 | E19: =D19 -> -16496 | F19: -27315 | G19: -4934 | H19: -9630 | I19: -9956 | J19: -9255
A20: Розрахунки з оплати праці | B20: 3120 | C20: -8861 | D20: -14820 | E20: =D20 -> -14820 | F20: -17903 | G20: =F20/4 -> -4475.75 | H20: -4476 | I20: -4476 | J20: -4476
A21: Повернення коштів за короткостроковими зобов'язаннями, у тому числі: | B21: 3130 | E21: =D21 -> 0
A22: кредити | B22: 3131 | E22: =D22 -> 0
A23: позики | B23: 3132 | E23: =D23 -> 0
A24: облігації | B24: 3133 | E24: =D24 -> 0
A25: Зобов’язання з податків, зборів та інших обов’язкових платежів, у тому числі: | B25: 3140 | C25: =C26+C27+C30+C31 -> -4342 | D25: =D26+D27+D30+D32+D33+D34 -> -9242.2 | E25: =D25 -> -9242.2 | F25: =D25*1.1798 -> -10903.948 | G25: =G26+G27+G30 -> -1812.75 | H25: =H26+H27+H30 -> -1813 | I25: =I26+I27+I30 -> -1813 | J25: 995
A26: податок на прибуток підприємств | B26: 3141 | C26: 0 | D26: 0 | E26: =D26 -> 0 | F26: =D26*1.1798 -> 0 | G26: 0 | H26: 0 | I26: 0 | J26: 0
A27: податок на додану вартість | B27: 3142 | C27: -2158 | D27: -2870 | E27: =D27 -> -2870 | F27: -3387 | G27: =F27/4 -> -846.75 | H27: -847 | I27: -847 | J27: -847
A28: акцизний податок | B28: 3143 | E28: =D28 -> 0 | F28: =D28*1.1798 -> 0
A29: рентна плата | B29: 3144 | E29: =D29 -> 0 | F29: =D29*1.1798 -> 0
A30: податок на доходи фізичних осіб | B30: 3145 | C30: -2184 | D30: -2889.9 | E30: =D30 -> -2889.9 | F30: -3864 | G30: =F30/4 -> -966 | H30: -966 | I30: -966 | J30: -966
A31: інші обов’язкові платежі, у тому числі: | B31: 3146 | C31: 0 | D31: =D32 -> 0 | E31: =D31 -> 0 | F31: =D31*1.1798 -> 0 | G31: 0 | H31: 0 | I31: 0 | J31: 0
A32: відрахування частини чистого прибутку державними підприємствами | B32: 3146/1 | C32: 0 | D32: 0 | E32: =D32 -> 0 | F32: =D32*1.1798 -> 0 | G32: 0 | H32: 0 | I32: 0 | J32: 0
A33: відрахування частини чистого прибутку державними підприємствами | B33: 3146/2 | E33: =D33 -> 0
A34: інші платежі (розшифрувати) податки (єсв., екол,зем,радіоч,військ,профс.) | B34: 3150 | C34: -2017 | D34: =-(3260+222.3) -> -3482.3 | E34: =D34 -> -3482.3 | F34: -5045 | G34: =F34/4 -> -1261.25 | H34: -1261 | I34: -1261 | J34: -1261
A35: Повернення коштів до бюджету | B35: 3160 | E35: =D35 -> 0
A36: Інші витрати (розшифрувати), (Відрядж. Банк.послуги, ліценз, авторська винагор. мат.доп.) | B36: 3170 | C36: -519 | D36: -86 | E36: =D36 -> -86 | F36: -86 | G36: =F36/4 -> -21.5 | H36: -22 | I36: -22 | J36: -20
A37: Чистий рух коштів від операційної діяльності | B37: 3195 | C37: =C7+C18 -> 263 | D37: =D7+D18 -> 757.5 | E37: =E7+E18 -> 843.5 | F37: =F7+F18 -> 1679.0524 | G37: =G7+G18 -> 0.25 | H37: =H7+H18 -> 1546 | I37: =I7+I18 -> 100 | J37: =J7+J18 -> 33
A38: II. Рух коштів у результаті інвестиційної діяльності | E38: =D38 -> 0
A39: Надходження грошових коштів від інвестиційної діяльності | B39: 3200 | C39: =SUM(C40:C43) -> 1410 | D39: =SUM(D40:D43) -> 571 | E39: =SUM(E40:E43) -> 571 | F39: =SUM(F40:F43) -> 0 | G39: =SUM(G40:G43) -> 0 | H39: =SUM(H40:H43) -> 0 | I39: =SUM(I40:I43) -> 0 | J39: =SUM(J40:J43) -> 0
A40: Виручка від реалізації фінансових інвестицій | B40: 3210 | E40: =D40 -> 0
...

Sheet IV. Кап. інвестиції
A1: IV. Капітальні інвестиції
A2: тис.грн
A3: Найменування показника | B3: Код рядка | C3: Факт минулого року | D3: Фінансовий план поточного року | E3: Прогноз на поточний рік | F3: Плановий рік (усього) | G3: У тому числі за кварталами
G4: І | H4: ІІ | I4: ІІІ | J4: ІV
A5: 1 | B5: 2 | C5: 3 | D5: 4 | E5: 5 | F5: 6 | G5: 7 | H5: 8 | I5: 9 | J5: 10
A6: Капітальні інвестиції, усього, у тому числі: | B6: 4000 | D6: 1541 | E6: 1541 | F6: 1500 | G6: 375 | H6: 375 | I6: 375 | J6: 375
A7: капітальне будівництво | B7: 4010
A8: придбання (виготовлення) основних засобів | B8: 4020 | D8: 1541 | E8: 1541 | F8: 1500 | G8: 375 | H8: 375 | I8: 375 | J8: 375
A9: придбання (виготовлення) інших необоротних матеріальних активів | B9: 4030
A10: придбання (створення) нематеріальних активів | B10: 4040
A11: модернізація, модифікація (добудова, дообладнання, реконструкція) основних засобів | B11: 4050 | D11: 0 | F11: 0 | J11: 0
A12: капітальний ремонт | B12: 4060 | F12: =SUM(G12:J12) -> 0
A16: Керівник Директор | C16: _____________________________ | H16: М.Б. ПОПЕЛЮК
A17: (посада) | C17: (підпис) | H17: (ініціали, прізвище)

Sheet  V. Коефіцієнти
A1: V. Коефіцієнтний аналіз
A3: Найменування показника | B3: Код рядка | C3: Оптимальне значення | D3: Факт минулого року | E3: Фінансовий план поточного року | F3: Прогноз на поточний рік | G3: Плановий рік | H3: Примітки
A5: 1 | B5: 2 | C5: 3 | D5: 4 | E5: 5 | F5: 6 | G5: 7 | H5: 8
A6: Коефіцієнти рентабельності та прибутковості
A7: Валова рентабельність (валовий прибуток, рядок 1020 / чистий дохід від реалізації продукції (товарів, робіт, послуг), рядок 1000) х 100, % | B7: 5000 | C7: Збільшення | D7: =('I. Фін результат'!C35/'I. Фін результат'!C7)*100% -> 0.11741654 | E7: =('I. Фін результат'!D35/'I. Фін результат'!D7)*100% -> 0.20179937 | F7: =('I. Фін результат'!E35/'I. Фін результат'!E7)*100% -> 0.20179937 | G7: =('I. Фін результат'!F35/'I. Фін результат'!F7)*100% -> 0.2181937
A8: Рентабельність EBITDA (EBITDA, рядок 1310 / чистий дохід від реалізації продукції (товарів, робіт, послуг), рядок 1000) х 100, % | B8: 5010 | C8: Збільшення | D8: =('I. Фін результат'!C112/'I. Фін результат'!C7)*100% -> 0.027312433 | E8: =('I. Фін результат'!D112/'I. Фін результат'!D7)*100% -> 0.026525866 | F8: =('I. Фін результат'!E112/'I. Фін результат'!E7)*100% -> 0.026477733 | G8: =('I. Фін результат'!F112/'I. Фін результат'!F7)*100% -> 0.022671767
A9: Рентабельність активів (чистий фінансовий результат, рядок 1200 / вартість активів, рядок 6020) х 100, % | B9: 5020 | C9: Збільшення | H9: Характеризує ефективність використання активів підприємства
A10: Рентабельність власного капіталу (чистий фінансовий результат, рядок 1200 / власний капітал, рядок 6080) х 100, % | B10: 5030 | C10: Збільшення
A11: Рентабельність діяльності (чистий фінансовий результат, рядок 1200 / чистий дохід від реалізації продукції (товарів, робіт, послуг), рядок 1000) х 100, % | B11: 5040 | C11: Збільшення | D11: ='Осн. фін. пок.'!C62/'Осн. фін. пок.'!C41*100 -> -0.22436281 | E11: ='Осн. фін. пок.'!D62/'Осн. фін. пок.'!D41*100 -> -0.00044984256 | G11: ='Осн. фін. пок.'!F62/'Осн. фін. пок.'!F41*100 -> 0.0044984428 | H11: Характеризує ефективність господарської діяльності підприємства
A12: Коефіцієнти фінансової стійкості та ліквідності
A13: Коефіцієнт відношення боргу до EBITDA (довгострокові зобов'язання, рядок 6030 + поточні зобов'язання, рядок 6040) / EBITDA, рядок 1310 | B13: 5100
A14: Коефіцієнт фінансової стійкості (власний капітал, рядок 6080 / (довгострокові зобов'язання, рядок 6030 + поточні зобов'язання, рядок 6040)) | B14: 5110 | C14: > 1 | H14: Характеризує співвідношення власних та позикових коштів і залежність підприємства від зовнішніх фінансових джерел
A15: Коефіцієнт поточної ліквідності (покриття) (оборотні активи, рядок 6010 / поточні зобов'язання, рядок 6040) | B15: 5120 | C15: > 1 | H15: Показує достатність ресурсів підприємства, які може бути використано для погашення його поточних зобов'язань. Нормативним значенням для цього показника є > 1–1,5
A16: Аналіз капітальних інвестицій
A17: Коефіцієнт відношення капітальних інвестицій до амортизації (капітальні інвестиції, рядок 4000 / амортизація, рядок 1430) | B17: 5200 | D17: ='Осн. фін. пок.'!C88/'I. Фін результат'!C111*100 -> #DIV/0!
A18: Коефіцієнт відношення капітальних інвестицій до чистого доходу від реалізації продукції (товарів, робіт, послуг) (капітальні інвестиції, рядок 4000 / чистий дохід від реалізації продукції (товарів, робіт, послуг), рядок 1000) | B18: 5210 | D18: ='Осн. фін. пок.'!C88/'Осн. фін. пок.'!C41*100 -> 0
A19: Коефіцієнт зносу основних засобів (сума зносу, рядок 6003 / первісна вартість основних засобів, рядок 6002) | B19: 5220 | C19: Зменшення | H19: Характеризує інвестиційну політику підприємства
A20: Ковенанти/обмежувальні коефіцієнти
A21: Інші коефіцієнти/ковенанти, якщо такі передбачені умовами кредитних договорів, із зазначенням банку, валюти та суми зобов'язання на дату останньої звітності, строку погашення. У графі "Оптимальне значення" вказати граничне значення коефіцієнта | B21: 5300
A25: Керівник Директор | C25: _____________________________ | H25: М.Б. ПОПЕЛЮК
A26: (посада) | C26: (підпис) | H26: (ініціали, прізвище)

Sheet 6.1. Інша інфо_1
A1: Інформація
A2: до фінансового плану на 2022 рік
A3: КОМУНАЛЬНЕ ПІДПРИЄМСТВО "Полігон Екологія"
A4: (найменування підприємства)
A5: 1. Дані про підприємство, персонал та витрати на оплату праці тис.грн
A7: Загальна інформація про підприємство (резюме)
A9: Найменування показника | D9: Факт минулого року | F9: Фінансовий план поточного року | H9: Прогноз на поточний рік | J9: Плановий рік | L9: Плановий рік до прогнозу на поточний рік, % | N9: Плановий рік до факту минулого року, %
A10: 1 | D10: 2 | F10: 3 | H10: 4 | J10: 5 | L10: 6 | N10: 7
A11: Середня кількість працівників (штатних працівників, зовнішніх сумісників та працівників, що працюють за цивільно-правовими договорами), у тому числі: | D11: 91 | F11: 93 | H11: 93 | J11: 137 | L11: =J11/H11*100 -> 147.31183 | N11: =J11/D11*100 -> 150.54945
A12: директор | D12: 1 | F12: 1 | H12: 1 | J12: 1 | L12: =J12/H12*100 -> 100 | N12: =J12/D12*100 -> 100
A13: адміністративно-управлінський персонал | D13: 14 | F13: 16 | H13: 16 | J13: 16 | L13: =J13/H13*100 -> 100 | N13: =J13/D13*100 -> 114.28571
A14: працівники | D14: 76 | F14: =F11-F12-F13 -> 76 | H14: 76 | J14: =J11-J12-J13 -> 120 | L14: =J14/H14*100 -> 157.89474 | N14: =J14/D14*100 -> 157.89474
A15: Фонд оплати праці, тис. грн, у тому числі: | D15: =SUM(D16:E18) -> 10849.7 | F15: =SUM(F16:G18) -> 16596 | H15: 16596 | J15: =SUM(J16:K18) -> 24606 | L15: =J15/H15*100 -> 148.26464 | N15: =J15/D15*100 -> 226.78968
A16: директор | D16: 394 | F16: 489 | H16: 489 | J16: 594 | L16: =J16/H16*100 -> 121.47239 | N16: =J16/D16*100 -> 150.76142
A17: адміністративно-управлінський персонал | D17: 2084.7 | F17: 2648 | H17: 2648 | J17: 3594 | L17: =J17/H17*100 -> 135.72508 | N17: =J17/D17*100 -> 172.39891
A18: працівники | D18: 8371 | F18: 13459 | H18: 13459 | J18: 20418 | L18: =J18/H18*100 -> 151.70518 | N18: =J18/D18*100 -> 243.91351
A19: Витрати на оплату праці, тис. грн, у тому числі: | D19: 10850 | F19: 16596 | H19: 16596 | J19: 24606 | L19: =J19/H19*100 -> 148.26464 | N19: =J19/D19*100 -> 226.78341
A20: директор | D20: 394 | F20: 489 | H20: 489 | J20: 594 | L20: =J20/H20*100 -> 121.47239 | N20: =J20/D20*100 -> 150.76142
A21: адміністративно-управлінський персонал | D21: 2085 | F21: 2648 | H21: 2648 | J21: 3594 | L21: =J21/H21*100 -> 135.72508 | N21: =J21/D21*100 -> 172.3741
A22: працівники | D22: 8371 | F22: 13459 | H22: 13459 | J22: 20418 | L22: =J22/H22*100 -> 151.70518 | N22: =J22/D22*100 -> 243.91351
A23: Середньомісячні витрати на оплату праці одного працівника (грн), усього, у тому числі: | D23: =D19/D11*1000/12 -> 9935.8974 | F23: =F19/F11*1000/12 -> 14870.968 | H23: =H19/H11*1000/12 -> 14870.968 | J23: =J19/J11*1000/12 -> 14967.153 | L23: =J23/H23*100 -> 100.6468 | N23: =J23/D23*100 -> 150.63716
A24: директор | D24: =D20/D12*1000/12 -> 32833.333 | F24: =F20/F12*1000/12 -> 40750 | H24: =H20/H12*1000/12 -> 40750 | J24: =J20/J12*1000/12 -> 49500 | L24: =J24/H24*100 -> 121.47239 | N24: =J24/D24*100 -> 150.76142
A25: адміністративно-управлінський персонал | D25: =D21/D13*1000/12 -> 12410.714 | F25: =F21/F13*1000/12 -> 13791.667 | H25: =H21/H13*1000/12 -> 13791.667 | J25: =J21/J13*1000/12 -> 18718.75 | L25: =J25/H25*100 -> 135.72508 | N25: =J25/D25*100 -> 150.82734
A26: працівники | D26: =D22/D14*1000/12 -> 9178.7281 | F26: =F22/F14*1000/12 -> 14757.675 | H26: =H22/H14*1000/12 -> 14757.675 | J26: =J22/J14*1000/12 -> 14179.167 | L26: =J26/H26*100 -> 96.079947 | N26: =J26/D26*100 -> 154.47856
A28: У разі збільшення витрат на оплату праці в плановому році порівняно з установленим рівнем поточного року та фактом попереднього року надаються відповідні обґрунтування.
A30: 2. Перелік підприємств, які включені до консолідованого (зведеного) фінансового плану
A32: Код за ЄДРПОУ | B32: Найменування підприємства | F32: Вид діяльності
A33: 1 | B33: 2 | F33: 3
A36: 3. Інформація про бізнес підприємства (код рядка 1000 фінансового плану)
A38: Найменування видів діяльності за КВЕД | B38: Питома вага в загальному обсязі реалізації, % | D38: Фактичний показник за 2019 минулий рік | G38: Плановий показник поточного2020 року | J38: Фактичний показник поточного року за останній звітний період на 31.123.2021р | M38: Плановий 2022 рік
B39: за минулий рік | C39: за плановий рік | D39: чистий дохід від реалізації продукції (товарів, робіт, послуг), тис. грн | E39: кількість продукції/ наданих послуг, одиниця виміру | F39: ціна одиниці (вартість продукції/ наданих послуг), грн | G39: чистий дохід від реалізації продукції (товарів, робіт, послуг), тис. грн | H39: кількість продукції/ наданих послуг, одиниця виміру | I39: ціна одиниці (вартість продукції/ наданих послуг), грн | J39: чистий дохід від реалізації продукції (товарів, робіт, послуг), тис. грн | K39: кількість продукції/ наданих послуг, одиниця виміру | L39: ціна одиниці (вартість продукції/ наданих послуг), грн | M39: чистий дохід від реалізації продукції (товарів, робіт, послуг), тис. грн | N39: кількість продукції/ наданих послуг, одиниця виміру | O39: ціна одиниці (вартість продукції/ наданих послуг), грн
A40: 1 | B40: 2 | C40: 3 | D40: 4 | E40: 5 | F40: 6 | G40: 7 | H40: 8 | I40: 9 | J40: 10 | K40: 11 | L40: 12 | M40: 13 | N40: 14 | O40: 15
A43: Усього | B43: 105 | C43: 0 | J43: 105 | M43: ='Осн. фін. пок.'!F62 -> 2.34
A45: 4. Діючі фінансові зобов'язання підприємства
A47: Найменування банку | B47: Вид кредитного продукту та цільове призначення | D47: Сума, валюта за договорами | F47: Процентна ставка | H47: Дата видачі/погашення (графік) | K47: Заборгованість на останню дату | M47: Забезпечення
A48: 1 | B48: 2 | D48: 3 | F48: 4 | H48: 5 | K48: 6 | M48: 7
A52: Усього | B52: х | D52: х | F52: х | K52: =SUM(K49:K51) -> 0
A54: 5. Інформація щодо отримання та повернення залучених коштів
A56: Зобов'язання | D56: Заборгованість за кредитами на початок ______ року | G56: План із залучення коштів | J56: План з повернення коштів | M56: Заборгованість за кредитами на кінець ______ року
A57: 1 | D57: 2 | G57: 3 | J57: 4 | M57: 5
...

Sheet 6.2. Інша інфо_2
B2: 6. Витрати, пов'язані з використанням власних службових автомобілів (у складі адміністративних витрат, рядок 1031)
A4: № з/п | B4: Марка | C4: Рік придбання | G4: Мета використання | N4: Витрати, усього | Z4: Плановий рік до плану поточного року, % | AC4: Плановий рік до факту минулого року, %
N5: факт минулого року | R5: фінансовий план поточного року | V5: плановий рік
A6: 1 | B6: 2 | C6: 3 | G6: 4 | N6: 5 | R6: 6 | V6: 7 | Z6: 8 | AC6: 9
A7: 1 | Z7: =(V7/R7)*100 -> #DIV/0! | AC7: =(V7/N7)*100 -> #DIV/0!
Z8: =(V8/R8)*100 -> #DIV/0! | AC8: =(V8/N8)*100 -> #DIV/0!
Z9: =(V9/R9)*100 -> #DIV/0! | AC9: =(V9/N9)*100 -> #DIV/0!
Z10: =(V10/R10)*100 -> #DIV/0! | AC10: =(V10/N10)*100 -> #DIV/0!
A11: Усього | N11: =SUM(N7:N10) -> 0 | R11: =SUM(R7:R10) -> 0 | V11: =SUM(V7:V10) -> 0 | Z11: =(V11/R11)*100 -> #DIV/0! | AC11: =(V11/N11)*100 -> #DIV/0!
B13: 7. Витрати на оренду службових автомобілів (у складі адміністративних витрат, рядок 1032)
A15: № з/п | B15: Договір | C15: Марка | G15: Мета використання | N15: Дата початку оренди | Q15: Витрати, усього | Z15: Плановий рік до плану поточного року, % | AC15: Плановий рік до факту минулого року, %
Q16: факт минулого року | T16: фінансовий план поточного року | W16: плановий рік
A18: 1 | B18: 2 | C18: 3 | G18: 4 | N18: 5 | Q18: 6 | T18: 7 | W18: 8 | Z18: 9 | AC18: 10
Z19: =(W19/T19)*100 -> #DIV/0! | AC19: =(W19/Q19)*100 -> #DIV/0!
Z20: =(W20/T20)*100 -> #DIV/0! | AC20: =(W20/Q20)*100 -> #DIV/0!
Z21: =(W21/T21)*100 -> #DIV/0! | AC21: =(W21/Q21)*100 -> #DIV/0!
Z22: =(W22/T22)*100 -> #DIV/0! | AC22: =(W22/Q22)*100 -> #DIV/0!
A23: Усього | Q23: =SUM(Q19:Q22) -> 0 | T23: =SUM(T19:T22) -> 0 | W23: =SUM(W19:W22) -> 0 | Z23: =(W23/T23)*100 -> #DIV/0! | AC23: =(W23/Q23)*100 -> #DIV/0!
B26: 8. Джерела капітальних інвестицій
AE27: тис. грн (без ПДВ)
A28: № з/п | B28: Найменування об’єкта | G28: Залучення кредитних коштів | L28: Бюджетне фінансування | Q28: Власні кошти (розшифрувати) | V28: Інші джерела (розшифрувати) | AA28: Усього
G29: рік | H29: у тому числі за кварталами | L29: рік | M29: у тому числі за кварталами | Q29: рік | R29: у тому числі за кварталами | V29: рік | W29: у тому числі за кварталами | AA29: рік | AB29: у тому числі за кварталами
H30: І | I30: ІІ | J30: ІІІ | K30: ІV | M30: І | N30: ІІ | O30: ІІІ | P30: ІV | R30: І | S30: ІІ | T30: ІІІ | U30: ІV | W30: І | X30: ІІ | Y30: ІІІ | Z30: ІV | AB30: І | AC30: ІІ | AD30: ІІІ | AE30: ІV
A31: 1 | B31: 2 | G31: 3 | H31: 4 | I31: 5 | J31: 6 | K31: 7 | L31: 8 | M31: 9 | N31: 10 | O31: 11 | P31: 12 | Q31: 13 | R31: 14 | S31: 15 | T31: 16 | U31: 17 | V31: 18 | W31: 19 | X31: 20 | Y31: 21 | Z31: 22 | AA31: 23 | AB31: 24 | AC31: 25 | AD31: 26 | AE31: 27
G32: =SUM(H32,I32,J32,K32) -> 0 | L32: =SUM(M32,N32,O32,P32) -> 0 | Q32: =SUM(R32,S32,T32,U32) -> 0 | V32: =SUM(W32,X32,Y32,Z32) -> 0 | AA32: =SUM(AB32,AC32,AD32,AE32) -> 0 | AB32: =SUM(H32,M32,R32,W32) -> 0 | AC32: =SUM(I32,N32,S32,X32) -> 0 | AD32: =SUM(J32,O32,T32,Y32) -> 0 | AE32: =SUM(K32,P32,U32,Z32) -> 0
G33: =SUM(H33,I33,J33,K33) -> 0 | L33: =SUM(M33,N33,O33,P33) -> 0 | Q33: =SUM(R33,S33,T33,U33) -> 0 | V33: =SUM(W33,X33,Y33,Z33) -> 0 | AA33: =SUM(AB33,AC33,AD33,AE33) -> 0 | AB33: =SUM(H33,M33,R33,W33) -> 0 | AC33: =SUM(I33,N33,S33,X33) -> 0 | AD33: =SUM(J33,O33,T33,Y33) -> 0 | AE33: =SUM(K33,P33,U33,Z33) -> 0
G34: =SUM(H34,I34,J34,K34) -> 0 | L34: =SUM(M34,N34,O34,P34) -> 0 | Q34: =SUM(R34,S34,T34,U34) -> 0 | V34: =SUM(W34,X34,Y34,Z34) -> 0 | AA34: =SUM(AB34,AC34,AD34,AE34) -> 0 | AB34: =SUM(H34,M34,R34,W34) -> 0 | AC34: =SUM(I34,N34,S34,X34) -> 0 | AD34: =SUM(J34,O34,T34,Y34) -> 0 | AE34: =SUM(K34,P34,U34,Z34) -> 0
G35: =SUM(H35,I35,J35,K35) -> 0 | L35: =SUM(M35,N35,O35,P35) -> 0 | Q35: =SUM(R35,S35,T35,U35) -> 0 | V35: =SUM(W35,X35,Y35,Z35) -> 0 | AA35: =SUM(AB35,AC35,AD35,AE35) -> 0 | AB35: =SUM(H35,M35,R35,W35) -> 0 | AC35: =SUM(I35,N35,S35,X35) -> 0 | AD35: =SUM(J35,O35,T35,Y35) -> 0 | AE35: =SUM(K35,P35,U35,Z35) -> 0
A36: Усього | G36: =SUM(G32:G35) -> 0 | H36: =SUM(H32:H35) -> 0 | I36: =SUM(I32:I35) -> 0 | J36: =SUM(J32:J35) -> 0 | K36: =SUM(K32:K35) -> 0 | L36: =SUM(L32:L35) -> 0 | M36: =SUM(M32:M35) -> 0 | N36: =SUM(N32:N35) -> 0 | ... AE36: =SUM(AE32:AE35) -> 0
A37: Відсоток | G37: =G36/AA36*100 -> #DIV/0! | L37: =L36/AA36*100 -> #DIV/0! | Q37: =Q36/AA36*100 -> #DIV/0! | V37: =V36/AA36*100 -> #DIV/0! | AA37: =SUM(G37,L37,Q37,V37) -> #DIV/0!
B40: 9. Капітальне будівництво (рядок 4010 таблиці 4)
AE41: тис. грн (без ПДВ)
A42: № з/п | B42: Найменування об’єктів | C42: Рік початку і закінчення будівництва | E42: Загальна кошторисна вартість | G42: Первісна балансова вартість введених потужностей на початок планового року | I42: Незавершене будівництво на початок планового року | K42: Плановий рік | U42: Інформація щодо проектно-кошторисної документації (стан розроблення, затвердження, у разі затвердження зазначити орган, яким затверджено, та відповідний документ) | Z42: Документ, яким затверджений титул будови, із зазначенням органу, який його погодив
K43: освоєння капітальних вкладень | M43: фінансування капітальних інвестицій (оплата грошовими коштами), усього | O43: у тому числі
O44: власні кошти | Q44: кредитні кошти | S44: інші джерела (зазначити джерело)
A45: 1 | B45: 2 | C45: 3 | E45: 4 | G45: 5 | I45: 6 | K45: 7 | M45: 8 | O45: 9 | Q45: 10 | S45: 11 | U45: 12 | Z45: 13
M46: =SUM(O46,Q46,S46) -> 0
M47: =SUM(O47,Q47,S47) -> 0
M48: =SUM(O48,Q48,S48) -> 0
M49: =SUM(O49,Q49,S49) -> 0
...
