Workbook
Name aa: '[2]1993'!$A$1:$IV$3,'[2]1993'!$A$1:$A$65536
Name ad: '[3]МТР Газ України'!$B$1
Name as: '[4]МТР Газ України'!$B$1
Name asdf: [5]Inform!$E$6
Name asdfg: [5]Inform!$F$2
Name BuiltIn_Print_Area___1___1: #REF!
Name ClDate: [6]Inform!$E$6
Name ClDate_21: [7]Inform!$E$6
Name ClDate_25: [7]Inform!$E$6
Name ClDate_6: [8]Inform!$E$6
Name CompName: [6]Inform!$F$2
Name CompName_21: [7]Inform!$F$2
Name CompName_25: [7]Inform!$F$2
Name CompName_6: [8]Inform!$F$2
Name CompNameE: [6]Inform!$G$2
Name CompNameE_21: [7]Inform!$G$2
Name CompNameE_25: [7]Inform!$G$2
Name CompNameE_6: [8]Inform!$G$2
Name Cost_Category_National_ID: #REF!
Name Cе511: #REF!
Name d: '[9]МТР Газ України'!$B$4
Name dCPIb: [10]попер_роз!#REF!
Name dPPIb: [10]попер_роз!#REF!
Name ds: '[11]7 Інші витрати'!#REF!
Name Fact_Type_ID: #REF!
Name G: '[12]МТР Газ України'!$B$1
Name ij1sssss: '[13]7 Інші витрати'!#REF!
Name LastItem: [14]Лист1!$A$1
Name Load: '[15]МТР Газ України'!$B$4
Name Load_ID: '[16]МТР Газ України'!$B$4
Name Load_ID_10: '[17]7 Інші витрати'!#REF!
Name Load_ID_11: '[18]МТР Газ України'!$B$4
Name Load_ID_12: '[18]МТР Газ України'!$B$4
Name Load_ID_13: '[18]МТР Газ України'!$B$4
Name Load_ID_14: '[18]МТР Газ України'!$B$4
Name Load_ID_15: '[18]МТР Газ України'!$B$4
Name Load_ID_16: '[18]МТР Газ України'!$B$4
Name Load_ID_17: '[18]МТР Газ України'!$B$4
Name Load_ID_18: '[19]МТР Газ України'!$B$4
Name Load_ID_19: '[20]МТР Газ України'!$B$4
Name Load_ID_20: '[19]МТР Газ України'!$B$4
Name Load_ID_200: '[15]МТР Газ України'!$B$4
Name Load_ID_21: '[21]МТР Газ України'!$B$4
Name Load_ID_23: '[20]МТР Газ України'!$B$4
Name Load_ID_25: '[21]МТР Газ України'!$B$4
Name Load_ID_542: '[22]МТР Газ України'!$B$4
Name Load_ID_6: '[18]МТР Газ України'!$B$4
Name OpDate: [6]Inform!$E$5
Name OpDate_21: [7]Inform!$E$5
Name OpDate_25: [7]Inform!$E$5
Name OpDate_6: [8]Inform!$E$5
Name QR: [23]Inform!$E$5
Name qw: [5]Inform!$E$5
Name qwert: [5]Inform!$G$2
Name qwerty: '[4]МТР Газ України'!$B$4
Name ShowFil: [14]!ShowFil
Name SU_ID: #REF!
Name Time_ID: '[16]МТР Газ України'!$B$1
Name Time_ID_10: '[17]7 Інші витрати'!#REF!
Name Time_ID_11: '[18]МТР Газ України'!$B$1

Sheet Осн. фін. пок.
G1: Додаток 1
G2: до Порядку складання, затвердження
A3: Управління комунального господарства Коломийської міської ради | G3: та контролю виконання фінансового плану
A4: (найменування органу, який розглянув фінансовий план) | G4: суб'єкта господарювання державного сектору економіки
A5: Начальник А.П.Радовець | G5: (пункт 2)
A7: М.П.(посада П.І.Б., дата, підпис)
G9: ЗАТВЕРДЖЕНО
G10: Рішення міської ради
G11: від 30.08.2021 р. № 1058-18/2021
G12: Міський голова Богдан Станіславський
G16: М. П. (посада, П.І.Б., дата, підпис)
I20: Рік | J20: Коди
A21: Підприємство | B21: КОМУНАЛЬНЕ ПІДПРИЄМСТВО "ЗЕЛЕНОСВІТ" | I21: за ЄДРПОУ | J21: 33932580
A22: Організаційно-правова форма | B22: комунальне підприємство | I22: за КОПФГ | J22: 150
A23: Територія | B23: м.Коломия | I23: за КОАТУУ | J23: 2610600000
A24: Орган державного управління | I24: за СПОДУ
A25: Галузь | B25: житлово комунальне господарство | I25: за ЗКГНГ
A26: Вид економічної діяльності | B26: комплексне обслуговування обєктів | I26: за КВЕД | J26: 81.10
A27: Одиниця виміру, тис. грн | G27: Стандарти звітності П(с)БОУ
A28: Форма власності | B28: комунальна | G28: Стандарти звітності МСФЗ
A29: Середньооблікова кількість штатних працівників | J29: 65.25
A30: Місцезнаходження | B30: 78200, місто Коломия, вулиця Староміська, 5а
A31: Телефон | B31: (033 34) 4-63-85
A32: Прізвище та ініціали керівника | B32: Михайлищук Василь Михайлович
A33: ФІНАНСОВИЙ ПЛАН КП " ЗЕЛЕНОСВІТ" НА 2022 рік
A35: Основні фінансові показники
J36: тис.грн
A37: Найменування показника | B37: Код рядка | C37: Факт минулого року (2020 рік) | D37: Фінансовий план поточного року (2021 рік) | E37: Прогноз на поточний рік (2021 рік) | F37: Плановий рік (2022 рік) | G37: Інформація згідно із стратегічним планом розвитку (не на 4 квартали, а на 4 роки, якщо у вас відсутній стратегічний план не заповнюється)
G38: плановий рік 2023 рік | H38: плановий рік 2024 рік | I38: плановий рік 2025 рік | J38: плановий рік 2026 рік
A39: 1 | B39: 2 | C39: 3 | D39: 4 | E39: 5 | F39: 6 | G39: 7 | H39: 8 | I39: 9 | J39: 10
A40: І. Формування фінансових результатів
A41: Чистий дохід від реалізації продукції (товарів, робіт, послуг) | B41: 1000 | C41: ='I. Фін результат'!C7 -> 13722.6 | D41: ='I. Фін результат'!D7 -> 13152 | E41: ='I. Фін результат'!E7 -> 13788 | F41: ='I. Фін результат'!F7 -> 15856
A42: Собівартість реалізованої продукції (товарів, робіт, послуг) | B42: 1010 | C42: ='I. Фін результат'!C8 -> -10614.1 | D42: ='I. Фін результат'!D8 -> -13152 | E42: ='I. Фін результат'!E8 -> -13788.241 | F42: ='I. Фін результат'!F8 -> -15856
A43: Валовий прибуток/збиток | B43: 1020 | C43: =SUM(C41:C42) -> 3108.5 | D43: =SUM(D41:D42) -> 0 | F43: =SUM(F41:F42) -> 0
A44: Адміністративні витрати | B44: 1030 | C44: ='I. Фін результат'!C26 -> -2461 | D44: -2795 | E44: -2795 | F44: ='I. Фін результат'!F26 -> -2968
A45: Витрати на збут | B45: 1060 | C45: ='I. Фін результат'!C49 -> 0 | D45: ='I. Фін результат'!D49 -> 0 | E45: ='I. Фін результат'!E49 -> 0 | F45: ='I. Фін результат'!F49 -> 0
A46: Інші операційні доходи | B46: 1070 | C46: ='I. Фін результат'!C57 -> 0 | D46: ='I. Фін результат'!D57 -> 2900 | E46: ='I. Фін результат'!E57 -> 2900 | F46: ='I. Фін результат'!F57 -> 3100
A47: Інші операційні витрати | B47: 1080 | C47: ='I. Фін результат'!C62 -> -96.5 | D47: ='I. Фін результат'!D62 -> 0 | F47: ='I. Фін результат'!F62 -> 0
A48: Фінансовий результат від операційної діяльності | B48: 1100 | C48: =SUM(C43:C47) -> 551 | D48: =SUM(D43:D47) -> 105 | E48: =SUM(E43:E47) -> 105 | F48: =F46+F44 -> 132
A49: EBITDA | B49: 1310 | C49: ='I. Фін результат'!C99 -> 745.1 | D49: ='I. Фін результат'!D99 -> 303 | E49: ='I. Фін результат'!E99 -> 302.7592 | F49: ='I. Фін результат'!F99 -> 344
...

Sheet I. Фін результат
A1: I. Формування фінансових результатів
K2: тис.грн
A3: Найменування показника | B3: Код рядка | C3: Факт минулого року 2020р | D3: Фінансовий план поточного року 2021р | E3: Прогноз на поточний рік 2021р | F3: Плановий рік (усього)2022р | G3: У тому числі за кварталами | K3: Пояснення та обґрунтування до запланованого рівня доходів/витрат
G4: І | H4: ІІ | I4: ІІІ | J4: ІV
A5: 1 | B5: 2 | C5: 3 | D5: 4 | E5: 5 | F5: 6 | G5: 7 | H5: 8 | I5: 9 | J5: 10 | K5: 11
A6: Доходи і витрати (деталізація)
A7: Дохід від реалізації продукції (товарів, робіт, послуг)цільове фінансування | B7: 1000 | C7: 13722.6 | D7: 13152 | E7: 13788 | F7: 15856 | G7: =F7/4 -> 3964 | H7: =F7/4 -> 3964 | I7: =F7/4 -> 3964 | J7: =F7/4 -> 3964
A8: Собівартість реалізованої продукції (товарів, робіт, послуг) | B8: 1010 | C8: -10614.1 | D8: -13152 | E8: =E10+E11+E12+E13+E14+E15+E18 -> -13788.241 | F8: -15856 | G8: =F8/4 -> -3964 | H8: =F8/4 -> -3964 | I8: =F8/4 -> -3964 | J8: =F8/4 -> -3964
A9: Витрати на сировину та основні матеріали: | B9: 1011 | C9: =-(2901.9+1.7) -> -2903.6 | D9: -3320 | E9: =E10+E11 -> -3020.5008 | F9: -3181 | G9: =F9/4 -> -795.25 | H9: =F9/4 -> -795.25 | I9: =F9/4 -> -795.25 | J9: =F9/4 -> -795.25
A10: матеріали зовнішнього освітлення(світильники, лампи, патрони, кронштейни, кабеля, опори та інш.) | B10: 1011.1 | C10: -1830 | D10: -1800 | E10: =D10*5%+D10 -> -1890 | F10: =E10*5.3%+E10 -> -1990.17 | G10: =F10/4 -> -497.5425 | H10: =F10/4 -> -497.5425 | I10: =F10/4 -> -497.5425 | J10: =F10/4 -> -497.5425
A11: матеріали для озеленення( придбання садженців дерев та квітів,придбання отрутохімікатів,придбання піску, щебеню, земляної крихти,перевезення працівниів,віники рукавиці відра мотокоси пили електроди та інші матеріали) | B11: 1011.2 | C11: =C9-C10 -> -1073.6 | D11: -1520 | E11: =C11*5.3%+C11 -> -1130.5008 | F11: =E11*5.3%+E11 -> -1190.4173 | G11: =F11/4 -> -297.60434 | H11: =F11/4 -> -297.60434 | I11: =F11/4 -> -297.60434 | J11: =F11/4 -> -297.60434
A12: Витрати на паливо | B12: 1012 | C12: -1547.8 | D12: -1250 | E12: -1625.4 | F12: =C12*1.1798 -> -1826.0944 | G12: =F12/4 -> -456.52361 | H12: =F12/4 -> -456.52361 | I12: =F12/4 -> -456.52361 | J12: =F12/4 -> -456.52361
A13: Витрати на електроенергію | B13: 1013 | C13: -110 | D13: -50 | E13: -110 | F13: =C13*1.1798 -> -129.778 | G13: =F13/4 -> -32.4445 | H13: =F13/4 -> -32.4445 | I13: =F13/4 -> -32.4445 | J13: =F13/4 -> -32.4445
A14: Витрати на оплату праці | B14: 1014 | C14: -6671.6 | D14: -6800 | E14: -7197 | F14: -8311 | G14: =F14/4 -> -2077.75 | H14: =F14/4 -> -2077.75 | I14: =F14/4 -> -2077.75 | J14: =F14/4 -> -2077.75
A15: Відрахування на соціальні заходи | B15: 1015 | C15: -1354.2 | D15: -1480 | E15: =E14*22% -> -1583.34 | F15: =F14*22% -> -1828.42 | G15: =F15/4 -> -457.105 | H15: =F15/4 -> -457.105 | I15: =F15/4 -> -457.105 | J15: =F15/4 -> -457.105
A16: Витрати, що здійснюються для підтримання об’єкта в робочому стані (проведення ремонту, технічного огляду, нагляду, обслуговування тощо) | B16: 1016 | F16: =C16*1.1798 -> 0 | G16: =F16/4 -> 0
A17: Амортизація основних засобів і нематеріальних активів | B17: 1017 | C17: -194.1 | F17: -194 | G17: =F17/4 -> -48.5 | H17: -48.5 | I17: -48.5 | J17: -48.5
A18: Інші витрати (розшифрувати)(оренда обладн., охорона прим.) | B18: 1018 | C18: =C19+C20+C21+C22+C23+C24 -> -288 | D18: =D19+D20+D21+D22+D23+D24 -> -252 | E18: =E19+E20+E21+E22+E23+E24 -> -252 | F18: =F19+F20+F21+F22+F23+F24 -> -386.1428 | G18: =F18/4 -> -96.5357 | H18: =F18/4 -> -96.5357 | I18: =F18/4 -> -96.5357 | J18: -96.5357
A19: спец одяг | B19: 1018.1 | C19: -80 | D19: -35 | E19: -35 | F19: =C19*1.1798 -> -94.384 | G19: =F19/4 -> -23.596 | H19: =F19/4 -> -23.596 | I19: =F19/4 -> -23.596 | J19: =F19/4 -> -23.596
A20: запчастини до техніи | B20: 1018.2 | C20: -147 | D20: -95 | E20: -95 | F20: =C20*5.3%+C20 -> -154.791 | G20: =F20/4 -> -38.69775 | H20: =F20/4 -> -38.69775 | I20: =F20/4 -> -38.69775 | J20: =F20/4 -> -38.69775
A21: програмне забезпечення | B21: 1018.3 | C21: -6.1 | D21: -50 | E21: -50 | F21: =C21*1.1798 -> -7.19678 | G21: =F21/4 -> -1.799195 | H21: =F21/4 -> -1.799195 | I21: =F21/4 -> -1.799195 | J21: =F21/4 -> -1.799195
A22: оренда кранів та машин | B22: 1018.4 | D22: -50 | E22: -50 | F22: -65 | G22: =F22/4 -> -16.25 | H22: =F22/4 -> -16.25 | I22: =F22/4 -> -16.25 | J22: =F22/4 -> -16.25
A23: обслуговування компютерної техніки | B23: 1018.5 | C23: -6 | D23: -10 | E23: -10 | F23: =C23*1.1798 -> -7.0788 | G23: =F23/4 -> -1.7697 | H23: =F23/4 -> -1.7697 | I23: =F23/4 -> -1.7697 | J23: =F23/4 -> -1.7697
A24: канцелярські товари | B24: 1018.6 | C24: -48.9 | D24: -12 | E24: -12 | F24: =C24*1.1798 -> -57.69222 | G24: =F24/4 -> -14.423055 | H24: =F24/4 -> -14.423055 | I24: =F24/4 -> -14.423055 | J24: =F24/4 -> -14.423055
A25: Валовий прибуток (збиток) | B25: 1020 | C25: =C7+C8 -> 3108.5 | D25: =D7+D8 -> 0 | E25: =E7+E8 -> -0.2408 | F25: =F7+F8 -> 0 | G25: =F25/4 -> 0 | H25: =F25/4 -> 0 | I25: =F25/4 -> 0 | J25: =F25/4 -> 0
A26: Адміністративні витрати, у тому числі: | B26: 1030 | C26: -2461 | D26: -2795 | E26: -2795 | F26: -2968 | G26: =F26/4 -> -742 | H26: =F26/4 -> -742 | I26: =F26/4 -> -742 | J26: =F26/4 -> -742
A27: витрати, пов'язані з використанням власних службових автомобілів | B27: 1031 | C27: 0 | F27: =C27*1.1798 -> 0 | G27: =F27/4 -> 0 | H27: =F27/4 -> 0 | I27: =F27/4 -> 0 | J27: =F27/4 -> 0
A28: витрати на оренду службових автомобілів | B28: 1032 | C28: -1 | D28: -49 | E28: -49 | F28: -54 | G28: =F28/4 -> -13.5 | H28: =F28/4 -> -13.5 | I28: =F28/4 -> -13.5 | J28: =F28/4 -> -13.5
A29: витрати на консалтингові послуги | B29: 1033 | D29: ( -) | E29: ( -) | F29: =C29*1.1798 -> 0 | G29: =F29/4 -> 0 | H29: =F29/4 -> 0 | I29: =F29/4 -> 0 | J29: =F29/4 -> 0
A30: витрати на страхові послуги | B30: 1034 | D30: ( - ) | E30: ( - ) | F30: =C30*1.1798 -> 0 | G30: =F30/4 -> 0 | H30: =F30/4 -> 0 | I30: =F30/4 -> 0 | J30: =F30/4 -> 0
A31: витрати на аудиторські послуги | B31: 1035 | D31: ( - ) | E31: ( - ) | F31: =C31*1.1798 -> 0 | G31: =F31/4 -> 0 | H31: =F31/4 -> 0 | I31: =F31/4 -> 0 | J31: =F31/4 -> 0
A32: витрати на службові відрядження | B32: 1036 | D32: -16 | E32: -16 | F32: -16 | G32: =F32/4 -> -4 | H32: =F32/4 -> -4 | I32: =F32/4 -> -4 | J32: =F32/4 -> -4
A33: витрати на зв’язок | B33: 1037 | C33: -4.4 | D33: -20 | E33: -20 | F33: =C33*1.1798 -> -5.19112 | G33: =F33/4 -> -1.29778 | H33: =F33/4 -> -1.29778 | I33: =F33/4 -> -1.29778 | J33: =F33/4 -> -1.29778
A34: витрати на оплату праці | B34: 1038 | C34: -1976.9 | D34: -2221 | E34: -2221 | F34: =C34*1.1798 -> -2332.3466 | G34: =F34/4 -> -583.08665 | H34: =F34/4 -> -583.08665 | I34: =F34/4 -> -583.08665 | J34: =F34/4 -> -583.08665
A35: відрахування на соціальні заходи | B35: 1039 | C35: -443.6 | D35: -489 | E35: -489 | F35: =F34*22% -> -513.11626 | G35: =F35/4 -> -128.27906 | H35: =F35/4 -> -128.27906 | I35: =F35/4 -> -128.27906 | J35: =F35/4 -> -128.27906
A36: амортизація основних засобів і нематеріальних активів загальногосподарського призначення | B36: 1040 | C36: -10.1 | F36: =C36*5.3%+C36 -> -10.6353 | G36: =F36/4 -> -2.658825 | H36: =F36/4 -> -2.658825 | I36: =F36/4 -> -2.658825 | J36: =F36/4 -> -2.658825
A37: витрати на операційну оренду основних засобів та роялті, що мають загальногосподарське призначення | B37: 1041 | G37: =F37/4 -> 0 | H37: =F37/4 -> 0 | I37: =F37/4 -> 0 | J37: =F37/4 -> 0
A38: витрати на страхування майна загальногосподарського призначення | B38: 1042 | D38: ( ) | E38: ( ) | G38: =F38/4 -> 0 | H38: ( ) | I38: ( ) | J38: ( )
A39: витрати на страхування загальногосподарського персоналу | B39: 1043 | D39: ( ) | E39: ( ) | G39: =F39/4 -> 0 | H39: ( ) | I39: ( ) | J39: ( )
A40: організаційно-технічні послуги | B40: 1044 | G40: =F40/4 -> 0 | J40: ( )
...

Sheet ІІ. Розр. з бюджетом
A1: IІ. Розрахунки з бюджетом
I2: тис.грн
A3: Найменування показника | B3: Код рядка | C3: Факт минулого року 2020р | D3: Фінансовий план поточного року 2021р | E3: Прогноз на поточний рік 2021р | F3: Плановий рік (усього) 2022р | G3: У тому числі за кварталами
G4: І | H4: ІІ | I4: ІІІ | J4: ІV
A5: 1 | B5: 2 | C5: 3 | D5: 4 | E5: 5 | F5: 6 | G5: 7 | H5: 8 | I5: 9 | J5: 10
A6: Розподіл чистого прибутку
A7: Залишок нерозподіленого прибутку (непокритого збитку) на початок звітного періоду | B7: 2000
A8: Нараховані до сплати відрахування частини чистого прибутку, усього, у тому числі: | B8: 2010 | C8: 0 | D8: 13 | E8: 13 | F8: =D8*1.1798 -> 15.3374 | G8: 3 | H8: 3 | I8: 4 | J8: 5
A9: державними унітарними підприємствами та їх об'єднаннями до державного бюджету | B9: 2011 | C9: 0 | D9: ( ) | E9: ( ) | F9: =SUM(G9:J9) -> 0 | G9: ( ) | H9: ( ) | I9: ( ) | J9: ( )
A10: господарськими товариствами, у статутному капіталі яких більше 50 відсотків акцій (часток, паїв) належать державі, на виплату дивідендів | B10: 2012 | C10: ( ) | D10: ( ) | E10: ( ) | F10: =SUM(G10:J10) -> 0 | G10: ( ) | H10: ( ) | I10: ( ) | J10: ( )
A11: у тому числі на державну частку | B11: 2012/1 | C11: ( ) | D11: ( ) | E11: ( ) | F11: =SUM(G11:J11) -> 0 | G11: ( ) | H11: ( ) | I11: ( ) | J11: ( )
A12: Перенесено з додаткового капіталу | B12: 2020 | F12: =SUM(G12:J12) -> 0
A13: Розвиток виробництва | B13: 2030 | C13: ( ) | D13: ( ) | E13: ( ) | F13: =SUM(G13:J13) -> 0 | G13: ( ) | H13: ( ) | I13: ( ) | J13: ( )
A14: у тому числі за основними видами діяльності за КВЕД | B14: 2031 | C14: ( ) | D14: ( ) | E14: ( ) | F14: =SUM(G14:J14) -> 0 | G14: ( ) | H14: ( ) | I14: ( ) | J14: ( )
A15: Резервний фонд | B15: 2040 | C15: ( ) | D15: ( ) | E15: ( ) | F15: =SUM(G15:J15) -> 0 | G15: ( ) | H15: ( ) | I15: ( ) | J15: ( )
A16: Інші фонди (розшифрувати) | B16: 2050 | C16: ( ) | D16: ( ) | E16: ( ) | F16: =SUM(G16:J16) -> 0 | G16: ( ) | H16: ( ) | I16: ( ) | J16: ( )
A17: Інші цілі (розшифрувати) | B17: 2060 | C17: ( ) | D17: ( ) | E17: ( ) | F17: =SUM(G17:J17) -> 0 | G17: ( ) | H17: ( ) | I17: ( ) | J17: ( )
A18: Залишок нерозподіленого прибутку (непокритого збитку) на кінець звітного періоду | B18: 2070
A19: Сплата податків, зборів та інших обов'язкових платежів
A20: Сплата податків та зборів до Державного бюджету України (податкові платежі), усього, у тому числі: | B20: 2110 | C20: =C21+C22+C29 -> 3198.1 | D20: =D21+D22+D27 -> 2693.9 | E20: =E21+E22+E27 -> 2693.9 | F20: =F21+F22 -> 3179.725 | G20: =F20/4 -> 794.93125 | H20: =F20/4 -> 794.93125 | I20: =F20/4 -> 794.93125 | J20: =F20/4 -> 794.93125
A21: податок на прибуток підприємств | B21: 2111 | C21: 12.7 | D21: 18.9 | E21: 18.9 | F21: =132*18% -> 23.76 | G21: =F21/4 -> 5.94 | H21: =F21/4 -> 5.94 | I21: =F21/4 -> 5.94 | J21: =F21/4 -> 5.94
A22: податок на додану вартість, що підлягає сплаті до бюджету за підсумками звітного періоду | B22: 2112 | C22: 3083.5 | D22: 2675 | E22: 2675 | F22: =D22*1.1798 -> 3155.965 | G22: 681 | H22: 663 | I22: 980 | J22: 832
A23: податок на додану вартість, що підлягає відшкодуванню з бюджету за підсумками звітного періоду | B23: 2113 | F23: =D23*1.1798 -> 0
A24: акцизний податок | B24: 2114 | F24: =D24*1.1798 -> 0
A25: відрахування частини чистого прибутку державними унітарними підприємствами та їх об'єднаннями | B25: 2115 | F25: =D25*1.1798 -> 0
A26: рентна плата за транспортування | B26: 2116 | F26: =D26*1.1798 -> 0
A27: рентна плата за користування надрами | B27: 2117 | F27: =D27*1.1798 -> 0
A28: податок на доходи фізичних осіб | B28: 2118 | F28: =D28*1.1798 -> 0
A29: інші податки та збори (розшифрувати) (військ.) | B29: 2119 | C29: 101.9 | F29: =D29*1.1798 -> 0
A30: Сплата податків та зборів до місцевих бюджетів (податкові платежі), усього, у тому числі: | B30: 2120 | C30: 1252 | D30: 1640 | E30: =E31+E34 -> 1639.8 | F30: 1954.7 | G30: =F30/4 -> 488.675 | H30: =F30/4 -> 488.675 | I30: =F30/4 -> 488.675 | J30: =F30/4 -> 488.675
A31: податок на доходи фізичних осіб | B31: 2121 | C31: 1222.6 | D31: 1640 | E31: 1624 | F31: =D31*1.1798 -> 1934.872 | G31: =F31/4 -> 483.718 | H31: =F31/4 -> 483.718 | I31: =F31/4 -> 483.718 | J31: =F31/4 -> 483.718
A32: земельний податок | B32: 2122 | F32: =D32*1.1798 -> 0
A33: орендна плата (60% за оренд. прим) | B33: 2123 | C33: 16.6 | F33: =D33*1.1798 -> 0
A34: інші податки та збори (розшифрувати)(частина чистого прибут (доходу, що сплачуєьбся до місцевого бюджету)) | B34: 2124 | C34: 12.7 | D34: 15.8 | E34: 15.8 | F34: 19.8 | G34: =F34/4 -> 4.95 | H34: =F34/4 -> 4.95 | I34: =F34/4 -> 4.95 | J34: =F34/4 -> 4.95
A35: Інші податки, збори та платежі на користь держави, усього, у тому числі: | B35: 2130 | C35: 1538 | D35: 1684 | E35: =E38 -> 1772.4052 | F35: =F38 -> 2002.64 | G35: =F35/4 -> 500.65999 | H35: =F35/4 -> 500.65999 | I35: =F35/4 -> 500.65999 | J35: =F35/4 -> 500.65999
A36: відрахування частини чистого прибутку господарськими товариствами, у статутному капіталі яких більше 50 відсотків акцій (часток, паїв) належать державі, на виплату дивідендів на державну частку | B36: 2131
A37: митні платежі | B37: 2132
A38: єдиний внесок на загальнообов'язкове державне соціальне страхування | B38: 2133 | C38: =1367.7+38.9+2.7+128.3 -> 1537.6 | D38: ='I. Фін результат'!D105/'I. Фін результат'!C105*'ІІ. Розр. з бюджетом'!C38 -> 1684.0218 | E38: ='I. Фін результат'!E105/'I. Фін результат'!D105*'ІІ. Розр. з бюджетом'!D38 -> 1772.4052 | F38: ='I. Фін результат'!F105/'I. Фін результат'!E105*'ІІ. Розр. з бюджетом'!E38 -> 2002.64 | G38: =F38/4 -> 500.65999 | H38: =F38/4 -> 500.65999 | I38: =F38/4 -> 500.65999 | J38: =F38/4 -> 500.65999
A39: інші податки, збори та платежі (розшифрувати) | B39: 2134
A40: Погашення податкового боргу, усього, у тому числі: | B40: 2140
...

Sheet ІІІ. Рух грош. коштів
A1: ІІІ. Рух грошових коштів (за прямим методом)
I2: тис.грн
A3: Найменування показника | B3: Код рядка | C3: Факт минулого року 020р | D3: План поточного року2021 | E3: Прогноз на поточний рік 2021р | F3: Плановий рік (усього) 2022р | G3: У тому числі за кварталами
G4: І | H4: ІІ | I4: ІІІ | J4: ІV
A5: 1 | B5: 2 | C5: 3 | D5: 4 | E5: 5 | F5: 6 | G5: 7 | H5: 8 | I5: 9 | J5: 10
A6: І. Рух коштів у результаті операційної діяльності
A7: Надходження грошових коштів від операційної діяльності | B7: 3000 | C7: =C8+C10+C17 -> 13723 | D7: =D8+D10+D17 -> 16052 | E7: =E8+E10+E17 -> 16688 | F7: =F8+F10+F17 -> 18956 | G7: =F7/4 -> 4739 | H7: =F7/4 -> 4739 | I7: =F7/4 -> 4739 | J7: =F7/4 -> 4739
A8: Виручка від реалізації продукції (товарів, робіт, послуг) | B8: 3010 | C8: 11436 | D8: 13377 | E8: 13907 | F8: 15797 | G8: =F8/4 -> 3949.25 | H8: =F8/4 -> 3949.25 | I8: =F8/4 -> 3949.25 | J8: =F8/4 -> 3949.25
A9: Повернення податків і зборів, у тому числі: | B9: 3020 | G9: =F9/4 -> 0 | H9: =F9/4 -> 0 | I9: =F9/4 -> 0 | J9: =G9/4 -> 0
A10: податку на додану вартість | B10: 3021 | C10: 2287 | D10: 2675 | E10: 2781 | F10: 3159 | G10: =F10/4 -> 789.75 | H10: =F10/4 -> 789.75 | I10: =F10/4 -> 789.75 | J10: =F10/6 -> 526.5
A11: Цільове фінансування (розшифрувати) БЮДЖЕТ, ЛІКАРНЯНІ кошти на благоустрій будуть цільовим фінансуванням | B11: 3030 | C11: 0 | F11: =D11*1.1798 -> 0 | G11: =F11/4 -> 0 | H11: =F11/4 -> 0 | I11: =F11/4 -> 0 | J11: =G11/4 -> 0
A12: Надходження авансів від покупців і замовників | B12: 3040 | G12: =F12/4 -> 0 | H12: =F12/4 -> 0 | I12: =F12/4 -> 0 | J12: =G12/4 -> 0
A13: Отримання коштів за короткостроковими зобов'язаннями, у тому числі: | B13: 3050 | G13: =F13/4 -> 0 | H13: =F13/4 -> 0 | I13: =F13/4 -> 0 | J13: =G13/4 -> 0
A14: кредити | B14: 3051 | G14: =F14/4 -> 0 | H14: =F14/4 -> 0 | I14: =F14/4 -> 0 | J14: =G14/4 -> 0
A15: позики | B15: 3052 | G15: =F15/4 -> 0 | H15: =F15/4 -> 0 | I15: =F15/4 -> 0 | J15: =G15/4 -> 0
A16: облігації | B16: 3053 | G16: =F16/4 -> 0 | H16: =F16/4 -> 0 | I16: =F16/4 -> 0 | J16: =G16/4 -> 0
A17: Інші надходження (ОРЕНДА) | B17: 3060 | G17: =F17/4 -> 0 | H17: =F17/4 -> 0 | I17: =F17/4 -> 0 | J17: =G17/4 -> 0
A18: Видатки грошових коштів від операційної діяльності | B18: 3100 | C18: =C19+C20 -> 13675.3 | D18: =D19+D20 -> 15982 | E18: =E19+E20 -> 16618 | F18: =F19+F20 -> 18869 | G18: =F18/4 -> 4717.25 | H18: =F18/4 -> 4717.25 | I18: =F18/4 -> 4717.25 | J18: =G18/4 -> 1179.3125 | L18: 18868
A19: Розрахунки за продукцію (товари, роботи та послуги) | B19: 3110 | C19: 3228.3 | D19: 4992 | E19: 5128 | F19: 5884 | G19: =F19/4 -> 1471 | H19: =F19/4 -> 1471 | I19: =F19/4 -> 1471 | J19: =G19/4 -> 367.75
A20: Розрахунки з оплати праці | B20: 3120 | C20: =8649+1798 -> 10447 | D20: =9021+1969 -> 10990 | E20: =9418+2072 -> 11490 | F20: =10643+2342 -> 12985 | G20: =F20/4 -> 3246.25 | H20: =F20/4 -> 3246.25 | I20: =F20/4 -> 3246.25 | J20: =G20/4 -> 811.5625
A21: Повернення коштів за короткостроковими зобов'язаннями, у тому числі: | B21: 3130
A22: кредити | B22: 3131
A23: позики | B23: 3132
A24: облігації | B24: 3133
A25: Зобов’язання з податків, зборів та інших обов’язкових платежів, у тому числі: | B25: 3140 | C25: =C26+C27+C28+C29+C30+C31+C32+C33+C34 -> 5988.4 | D25: =D26+D27+D28+D29+D30+D31+D32+D33+D34 -> 6017.7 | E25: =E26+E27+E28+E29+E30+E31+E32+E33+E34 -> 6106.1052 | F25: =F26+F27+F28+F29+F30+F31+F32+F33+F34 -> 7137.112 | G25: =F25/4 -> 1784.278 | H25: =F25/4 -> 1784.278 | I25: =F25/4 -> 1784.278 | J25: =F25/4 -> 1784.278
A26: податок на прибуток підприємств | B26: 3141 | C26: ='ІІ. Розр. з бюджетом'!C21 -> 12.7 | D26: ='ІІ. Розр. з бюджетом'!D21 -> 18.9 | E26: ='Осн. фін. пок.'!E66 -> 18.9 | F26: 23.8 | G26: =F26/4 -> 5.95 | H26: =F26/4 -> 5.95 | I26: =F26/4 -> 5.95 | J26: =F26/4 -> 5.95
A27: податок на додану вартість | B27: 3142 | C27: ='Осн. фін. пок.'!C67 -> 3083.5 | D27: ='Осн. фін. пок.'!D67 -> 2675 | E27: ='Осн. фін. пок.'!E67 -> 2675 | F27: 3156 | G27: =F27/4 -> 789 | H27: =F27/4 -> 789 | I27: =F27/4 -> 789 | J27: =F27/4 -> 789
A28: акцизний податок | B28: 3143 | F28: =D28*1.1798 -> 0 | G28: =F28/4 -> 0 | H28: =F28/4 -> 0 | I28: =F28/4 -> 0 | J28: =F28/4 -> 0
A29: рентна плата | B29: 3144 | F29: =D29*1.1798 -> 0 | G29: =F29/4 -> 0 | H29: =F29/4 -> 0 | I29: =F29/4 -> 0 | J29: =F29/4 -> 0
A30: податок на доходи фізичних осіб | B30: 3145 | C30: ='ІІ. Розр. з бюджетом'!C31 -> 1222.6 | D30: 1624 | E30: ='ІІ. Розр. з бюджетом'!E31 -> 1624 | F30: ='ІІ. Розр. з бюджетом'!F31 -> 1934.872 | G30: =F30/4 -> 483.718 | H30: =F30/4 -> 483.718 | I30: =F30/4 -> 483.718 | J30: =F30/4 -> 483.718
A31: інші обов’язкові платежі, у тому числі: | B31: 3146 | C31: 101.9 | G31: =F31/4 -> 0 | H31: =F31/4 -> 0 | I31: =F31/4 -> 0 | J31: =F31/4 -> 0
A32: відрахування частини чистого прибутку комунальними підприємствами | B32: 3146/1 | C32: 12.7 | D32: 15.8 | E32: 15.8 | F32: ='ІІ. Розр. з бюджетом'!F34 -> 19.8 | G32: =F32/4 -> 4.95 | H32: =F32/4 -> 4.95 | I32: =F32/4 -> 4.95 | J32: =F32/4 -> 4.95
A33: інші платежі (розшифрувати) ПОДАТКИ(єсв.екол,зем,радіоч,військ,профс.) | B33: 3150 | C33: ='ІІ. Розр. з бюджетом'!C35 -> 1538 | D33: ='ІІ. Розр. з бюджетом'!D35 -> 1684 | E33: ='ІІ. Розр. з бюджетом'!E35 -> 1772.4052 | F33: ='ІІ. Розр. з бюджетом'!F35 -> 2002.64 | G33: =F33/4 -> 500.65999 | H33: =F33/4 -> 500.65999 | I33: =F33/4 -> 500.65999 | J33: =F33/4 -> 500.65999
A34: Повернення коштів до бюджету | B34: 3160 | C34: 17
A35: Інші витрати (розшифрувати)Орендна плпата | B35: 3170
A36: Чистий рух коштів від операційної діяльності | B36: 3195 | C36: 47.4 | D36: 70.4 | E36: 70.4 | F36: 88.4 | G36: =F36/4 -> 22.1 | H36: =F36/4 -> 22.1 | I36: =F36/4 -> 22.1 | J36: =F36/4 -> 22.1
A37: II. Рух коштів у результаті інвестиційної діяльності
A38: Надходження грошових коштів від інвестиційної діяльності | B38: 3200
A39: Виручка від реалізації фінансових інвестицій | B39: 3210
A40: Виручка від реалізації необоротних активів | B40: 3220
...

Sheet IV. Кап. інвестиції
A1: IV. Капітальні інвестиції
A2: тис.грн
A3: Найменування показника | B3: Код рядка | C3: Факт минулого року 2020р | D3: Фінансовий план поточного року 2021р | E3: Прогноз на поточний рік 2021р | F3: Плановий рік (усього) 2022р | G3: У тому числі за кварталами
G4: І | H4: ІІ | I4: ІІІ | J4: ІV
A5: 1 | B5: 2 | C5: 3 | D5: 4 | E5: 5 | F5: 6 | G5: 7 | H5: 8 | I5: 9 | J5: 10
A6: Капітальні інвестиції, усього, у тому числі: | B6: 4000 | C6: =C8+C11 -> 7.6 | D6: =D8+D11 -> 150 | E6: =D6 -> 150 | F6: 150 | H6: 150
A7: капітальне будівництво | B7: 4010
A8: придбання (виготовлення) основних засобів розписати( автомобіль) | B8: 4020 | C8: 7.6 | D8: 100 | E8: =D8 -> 100 | F8: 100 | H8: 100
A9: придбання (виготовлення) інших необоротних матеріальних активів | B9: 4030
A10: придбання (створення) нематеріальних активів | B10: 4040
A11: модернізація, модифікація основних засобів розписати (капітальний ремонт даху) | B11: 4050 | D11: 50 | E11: =D11 -> 50 | F11: 50 | G11: 0 | H11: 50 | J11: 0
B12: 4060 | F12: =SUM(G12:J12) -> 0
A16: Керівник Директор | C16: _____________________________ | H16: Василь МИХАЙЛИЩУК___________
A17: (посада) | C17: (підпис)

Sheet  V. Коефіцієнти
A1: V. Коефіцієнтний аналіз
A3: Найменування показника | B3: Код рядка | C3: Оптимальне значення | D3: Факт минулого року | E3: Фінансовий план поточного року | F3: Прогноз на поточний рік | G3: Плановий рік | H3: Примітки
A5: 1 | B5: 2 | C5: 3 | D5: 4 | E5: 5 | F5: 6 | G5: 7 | H5: 8
A6: Коефіцієнти рентабельності та прибутковості
A7: Валова рентабельність (валовий прибуток, рядок 1020 / чистий дохід від реалізації продукції (товарів, робіт, послуг), рядок 1000) х 100, % | B7: 5000 | C7: Збільшення | D7: ='Осн. фін. пок.'!C43/'Осн. фін. пок.'!C41*100 -> 22.652413 | E7: ='Осн. фін. пок.'!D43/'Осн. фін. пок.'!D41*100 -> 0 | F7: ='Осн. фін. пок.'!E43/'Осн. фін. пок.'!E41*100 -> 0 | G7: ='Осн. фін. пок.'!F43/'Осн. фін. пок.'!F41*100 -> 0
A8: Рентабельність EBITDA (EBITDA, рядок 1310 / чистий дохід від реалізації продукції (товарів, робіт, послуг), рядок 1000) х 100, % | B8: 5010 | C8: Збільшення | D8: ='Осн. фін. пок.'!C49/'Осн. фін. пок.'!C41*100 -> 5.4297291 | E8: ='Осн. фін. пок.'!D49/'Осн. фін. пок.'!D41*100 -> 2.3038321 | F8: ='Осн. фін. пок.'!E49/'Осн. фін. пок.'!E41*100 -> 2.1958167 | G8: ='Осн. фін. пок.'!F49/'Осн. фін. пок.'!F41*100 -> 2.1695257
A9: Рентабельність активів (чистий фінансовий результат, рядок 1200 / вартість активів, рядок 6020) х 100, % | B9: 5020 | C9: Збільшення | D9: ='Осн. фін. пок.'!C63/'Осн. фін. пок.'!C96*100 -> 0.62226922 | E9: ='Осн. фін. пок.'!D63/'Осн. фін. пок.'!D96*100 -> 0.90096436 | F9: ='Осн. фін. пок.'!E63/'Осн. фін. пок.'!E96*100 -> 0.92464808 | G9: ='Осн. фін. пок.'!F63/'Осн. фін. пок.'!F96*100 -> 1.2809965 | H9: Характеризує ефективність використання активів підприємства
A10: Рентабельність власного капіталу (чистий фінансовий результат, рядок 1200 / власний капітал, рядок 6080) х 100, % | B10: 5030 | C10: Збільшення | D10: ='Осн. фін. пок.'!C63/'Осн. фін. пок.'!C104*100 -> 0.69912184 | E10: ='Осн. фін. пок.'!D63/'Осн. фін. пок.'!D104*100 -> 1.0382998 | F10: ='Осн. фін. пок.'!E63/'Осн. фін. пок.'!E104*100 -> 1.0382998 | G10: ='Осн. фін. пок.'!F63/'Осн. фін. пок.'!F104*100 -> 1.3052911
A11: Рентабельність діяльності (чистий фінансовий результат, рядок 1200 / чистий дохід від реалізації продукції (товарів, робіт, послуг), рядок 1000) х 100, % | B11: 5040 | C11: Збільшення | D11: ='Осн. фін. пок.'!C63/'Осн. фін. пок.'!C41*100 -> 0.34518969 | E11: ='Осн. фін. пок.'!D63/'Осн. фін. пок.'!D41*100 -> 0.53489964 | F11: ='Осн. фін. пок.'!E63/'Осн. фін. пок.'!E41*100 -> 0.51022628 | G11: ='Осн. фін. пок.'!F63/'Осн. фін. пок.'!F41*100 -> 0.55776993 | H11: Характеризує ефективність господарської діяльності підприємства
A12: Коефіцієнти фінансової стійкості та ліквідності
A13: Коефіцієнт відношення боргу до EBITDA (довгострокові зобов'язання, рядок 6030 + поточні зобов'язання, рядок 6040) / EBITDA, рядок 1310 | B13: 5100 | D13: =('Осн. фін. пок.'!C97+'Осн. фін. пок.'!C98)/'I. Фін результат'!C99 -> 0.098241847 | E13: =('Осн. фін. пок.'!D97+'Осн. фін. пок.'!D98)/'I. Фін результат'!D99 -> 0.24158416 | F13: =('Осн. фін. пок.'!E97+'Осн. фін. пок.'!E98)/'I. Фін результат'!E99 -> 0.2417763 | G13: =('Осн. фін. пок.'!F97+'Осн. фін. пок.'!F98)/'I. Фін результат'!F99 -> 0.21831395
A14: Коефіцієнт фінансової стійкості (власний капітал, рядок 6080 / (довгострокові зобов'язання, рядок 6030 + поточні зобов'язання, рядок 6040)) | B14: 5110 | C14: > 1 | D14: ='Осн. фін. пок.'!C104/('Осн. фін. пок.'!C97+'Осн. фін. пок.'!C98) -> 92.561475 | E14: ='Осн. фін. пок.'!D104/('Осн. фін. пок.'!D97+'Осн. фін. пок.'!D98) -> 92.561475 | F14: ='Осн. фін. пок.'!E104/('Осн. фін. пок.'!E97+'Осн. фін. пок.'!E98) -> 92.561475 | G14: ='Осн. фін. пок.'!F104/('Осн. фін. пок.'!F97+'Осн. фін. пок.'!F98) -> 90.219707 | H14: Характеризує співвідношення власних та позикових коштів і залежність підприємства від зовнішніх фінансових джерел
A15: Коефіцієнт поточної ліквідності (покриття) (оборотні активи, рядок 6010 / поточні зобов'язання, рядок 6040) | B15: 5120 | C15: > 1 | D15: ='Осн. фін. пок.'!C92/'Осн. фін. пок.'!C98 -> 0 | E15: ='Осн. фін. пок.'!D92/'Осн. фін. пок.'!D98 -> 0 | F15: ='Осн. фін. пок.'!E92/'Осн. фін. пок.'!E98 -> 0 | G15: ='Осн. фін. пок.'!F92/'Осн. фін. пок.'!F98 -> 0 | H15: Показує достатність ресурсів підприємства, які може бути використано для погашення його поточних зобов'язань. Нормативним значенням для цього показника є > 1–1,5
A16: Аналіз капітальних інвестицій
A17: Коефіцієнт відношення капітальних інвестицій до амортизації (капітальні інвестиції, рядок 4000 / амортизація, рядок 1430) | B17: 5200 | D17: ='Осн. фін. пок.'!C79/'I. Фін результат'!C106*100 -> 3.9155075 | E17: ='Осн. фін. пок.'!D79/'I. Фін результат'!D106*100 -> 75.757576 | F17: ='Осн. фін. пок.'!E79/'I. Фін результат'!E106*100 -> 4.18 | G17: ='Осн. фін. пок.'!F79/'I. Фін результат'!F106*100 -> 70.754717
A18: Коефіцієнт відношення капітальних інвестицій до чистого доходу від реалізації продукції (товарів, робіт, послуг) (капітальні інвестиції, рядок 4000 / чистий дохід від реалізації продукції (товарів, робіт, послуг), рядок 1000) | B18: 5210 | D18: ='Осн. фін. пок.'!C79/'Осн. фін. пок.'!C41*100 -> 0.055383091 | E18: ='Осн. фін. пок.'!D79/'Осн. фін. пок.'!D41*100 -> 1.1405109 | F18: ='Осн. фін. пок.'!E79/'Осн. фін. пок.'!E41*100 -> 0.06002611 | G18: ='Осн. фін. пок.'!F79/'Осн. фін. пок.'!F41*100 -> 0.94601413
A19: Коефіцієнт зносу основних засобів (сума зносу, рядок 6003 / первісна вартість основних засобів, рядок 6002) | B19: 5220 | C19: Зменшення | D19: ='Осн. фін. пок.'!C91/'Осн. фін. пок.'!C90 -> -0.67727173 | E19: ='Осн. фін. пок.'!D91/'Осн. фін. пок.'!D90 -> -0.65476443 | F19: ='Осн. фін. пок.'!E91/'Осн. фін. пок.'!E90 -> -0.67873618 | G19: ='Осн. фін. пок.'!F91/'Осн. фін. пок.'!F90 -> -0.65970898 | H19: Характеризує інвестиційну політику підприємства
A20: Ковенанти/обмежувальні коефіцієнти
A21: Інші коефіцієнти/ковенанти, якщо такі передбачені умовами кредитних договорів, із зазначенням банку, валюти та суми зобов'язання на дату останньої звітності, строку погашення. У графі "Оптимальне значення" вказати граничне значення коефіцієнта | B21: 5300
A25: Керівник Директор | C25: _____________________________ | H25: Василь МИХАЙЛИЩУК___________
A26: (посада) | C26: (підпис) | H26: (ініціали, прізвище)

Sheet 6.1. Інша інфо_1
A1: Інформація
A2: до фінансового плану на 2022 рік
A3: КОМУНАЛЬНЕ ПІДПРИЄМСТВО "Зеленосвіт"
A4: (найменування підприємства)
A5: 1. Дані про підприємство, персонал та витрати на оплату праці тис.грн
A7: Загальна інформація про підприємство (резюме)
A9: Найменування показника | D9: Факт минулого року | F9: Фінансовий план поточного року | H9: Прогноз на поточний рік | J9: Плановий рік | L9: Плановий рік до прогнозу на поточний рік, % | N9: Плановий рік до факту минулого року, %
A10: 1 | D10: 2 | F10: 3 | H10: 4 | J10: 5 | L10: 6 | N10: 7
A11: Середня кількість працівників (штатних працівників, зовнішніх сумісників та працівників, що працюють за цивільно-правовими договорами), у тому числі: | D11: 47 | F11: 65.25 | H11: 65.25 | J11: 65.25 | L11: =J11/H11*100 -> 100 | N11: =J11/D11*100 -> 138.82979
A12: директор | D12: 1 | F12: 1 | H12: 1 | J12: 1 | L12: =J12/H12*100 -> 100 | N12: =J12/D12*100 -> 100
A13: адміністративно-управлінський персонал | D13: 10.5 | F13: 11.5 | H13: 11.5 | J13: 11.5 | L13: =J13/H13*100 -> 100 | N13: =J13/D13*100 -> 109.52381
A14: працівники | D14: 35 | F14: 52.75 | H14: 52.75 | J14: 52.75 | L14: =J14/H14*100 -> 100 | N14: =J14/D14*100 -> 150.71429
A15: Фонд оплати праці, тис. грн, у тому числі: | D15: 8648.5 | F15: 9021 | H15: 9418 | J15: 10643.244 | L15: =J15/H15*100 -> 113.0096 | N15: =J15/D15*100 -> 123.06462
A16: директор | D16: 186.972 | F16: 348 | H16: 363 | J16: 402.588 | L16: =J16/H16*100 -> 110.90579 | N16: =J16/D16*100 -> 215.31994
A17: адміністративно-управлінський персонал | D17: 740.784 | F17: 1500 | H17: 1566 | J17: 2034.36 | L17: =J17/H17*100 -> 129.90805 | N17: =J17/D17*100 -> 274.62256
A18: працівники | D18: 7720.744 | F18: 7173 | H18: 7489 | J18: 8206.296 | L18: =J18/H18*100 -> 109.57799 | N18: =J18/D18*100 -> 106.28893
A19: Витрати на оплату праці, тис. грн, у тому числі: | D19: 8648.5 | F19: 9021 | H19: 9418 | J19: 10643.244 | L19: =J19/H19*100 -> 113.0096 | N19: =J19/D19*100 -> 123.06462
A20: директор | D20: 186.972 | F20: 348 | H20: 363 | J20: 402.588 | L20: =J20/H20*100 -> 110.90579 | N20: =J20/D20*100 -> 215.31994
A21: адміністративно-управлінський персонал | D21: 740.784 | F21: 1500 | H21: 1566 | J21: 2034.36 | L21: =J21/H21*100 -> 129.90805 | N21: =J21/D21*100 -> 274.62256
A22: працівники | D22: 7720.744 | F22: 7173 | H22: 7489 | J22: 8206.296 | L22: =J22/H22*100 -> 109.57799 | N22: =J22/D22*100 -> 106.28893
A23: Середньомісячні витрати на оплату праці одного працівника (грн), усього, у тому числі: | D23: =D24+D25+D26 -> 721.044 | F23: =F24+F25+F26 -> 752.10012 | H23: =H24+H25+H26 -> 785.19886 | J23: =J24+J25+J26 -> 887.34991 | L23: =J23/H23*100 -> 113.00958 | N23: =J23/D23*100 -> 123.0646
A24: директор | D24: =630.528/12 -> 52.544 | F24: =D24*1.04307105 -> 54.807125 | H24: =F24*1.04400842 -> 57.2191 | J24: =D24*1.230646 -> 64.663063 | L24: =J24/H24*100 -> 113.00958 | N24: =J24/D24*100 -> 123.0646
A25: адміністративно-управлінський персонал | D25: 63.7 | F25: =D25*1.04307105 -> 66.443626 | H25: =F25*1.04400842 -> 69.367705 | J25: =D25*1.230646 -> 78.39215 | L25: =J25/H25*100 -> 113.00958 | N25: =J25/D25*100 -> 123.0646
A26: працівники | D26: 604.8 | F26: =D26*1.04307105 -> 630.84937 | H26: =F26*1.04400842 -> 658.61206 | J26: =D26*1.230646 -> 744.2947 | L26: =J26/H26*100 -> 113.00958 | N26: =J26/D26*100 -> 123.0646
A28: У разі збільшення витрат на оплату праці в плановому році порівняно з установленим рівнем поточного року та фактом попереднього року надаються відповідні обґрунтування.
A30: 2. Перелік підприємств, які включені до консолідованого (зведеного) фінансового плану
A32: Код за ЄДРПОУ | B32: Найменування підприємства | F32: Вид діяльності
A33: 1 | B33: 2 | F33: 3
A44: 3. Інформація про бізнес підприємства (код рядка 1000 фінансового плану)
A46: Найменування видів діяльності за КВЕД | B46: Питома вага в загальному обсязі реалізації, % | D46: Фактичний показник за 2020 минулий рік | G46: Плановий показник поточного2021 року | J46: Фактичний показник поточного року за останній звітний період на 31.12.2021р | M46: Плановий 2022 рік
B47: за минулий рік | C47: за плановий рік | D47: чистий дохід від реалізації продукції (товарів, робіт, послуг), тис. грн | E47: кількість продукції/ наданих послуг, одиниця виміру | F47: ціна одиниці (вартість продукції/ наданих послуг), грн | G47: чистий дохід від реалізації продукції (товарів, робіт, послуг), тис. грн | H47: кількість продукції/ наданих послуг, одиниця виміру | I47: ціна одиниці (вартість продукції/ наданих послуг), грн | J47: чистий дохід від реалізації продукції (товарів, робіт, послуг), тис. грн | K47: кількість продукції/ наданих послуг, одиниця виміру | L47: ціна одиниці (вартість продукції/ наданих послуг), грн | M47: чистий дохід від реалізації продукції (товарів, робіт, послуг), тис. грн | N47: кількість продукції/ наданих послуг, одиниця виміру | O47: ціна одиниці (вартість продукції/ наданих послуг), грн
A48: 1 | B48: 2 | C48: 3 | D48: 4 | E48: 5 | F48: 6 | G48: 7 | H48: 8 | I48: 9 | J48: 10 | K48: 11 | L48: 12 | M48: 13 | N48: 14 | O48: 15
A49: Надання ландшафтних послуг | B49: =D49/D52*100 -> 54.455508 | C49: =M49/M52*100 -> 51.437941 | D49: 7473.0362 | G49: =7748/1.2 -> 6456.6667 | J49: 6725 | M49: 8156
A50: Електромонтажні роботи | B50: =D50/D52*100 -> 41.667844 | C50: =M50/M52*100 -> 43.51665 | D50: 5718.16 | G50: =5076.758/1.2 -> 4230.6317 | J50: 4330 | M50: 6900
A51: Інші будівельно-монтажні роботи | B51: =D51/D52*100 -> 3.8766479 | C51: =M51/M52*100 -> 5.0454087 | D51: =532 -> 532 | G51: 2465 | J51: =2733 -> 2733 | M51: 800
A52: Усього | D52: =D49+D50+D51 -> 13723.196 | G52: =G49+G50+G51 -> 13152.298 | J52: =J49+J50+J51 -> 13788 | M52: =M49+M50+M51 -> 15856
A54: 4. Діючі фінансові зобов'язання підприємства
A56: Найменування банку | B56: Вид кредитного продукту та цільове призначення | D56: Сума, валюта за договорами | F56: Процентна ставка | H56: Дата видачі/погашення (графік) | K56: Заборгованість на останню дату | M56: Забезпечення
A57: 1 | B57: 2 | D57: 3 | F57: 4 | H57: 5 | K57: 6 | M57: 7
A61: Усього | B61: х | D61: х | F61: х | K61: =SUM(K58:K60) -> 0
...

Sheet 6.2. Інша інфо_2
B2: 6. Витрати, пов'язані з використанням власних службових автомобілів (у складі адміністративних витрат, рядок 1031)
A4: № з/п | B4: Марка | C4: Рік придбання | G4: Мета використання | N4: Витрати, усього | Z4: Плановий рік до плану поточного року, % | AC4: Плановий рік до факту минулого року, %
N5: факт минулого року | R5: фінансовий план поточного року | V5: плановий рік
A6: 1 | B6: 2 | C6: 3 | G6: 4 | N6: 5 | R6: 6 | V6: 7 | Z6: 8 | AC6: 9
A7: 1 | N7: ='I. Фін результат'!C27 -> 0 | R7: ='I. Фін результат'!D27 -> 0 | V7: ='I. Фін результат'!F27 -> 0 | Z7: 0 | AC7: 0
Z8: 0 | AC8: 0
Z9: 0 | AC9: 0
Z10: 0 | AC10: 0
A11: Усього | N11: =SUM(N7:N10) -> 0 | R11: =SUM(R7:R10) -> 0 | V11: =SUM(V7:V10) -> 0 | Z11: 0 | AC11: 0
B13: 7. Витрати на оренду службових автомобілів (у складі адміністративних витрат, рядок 1032)
A15: № з/п | B15: Договір | C15: Марка | G15: Мета використання | N15: Дата початку оренди | Q15: Витрати, усього | Z15: Плановий рік до плану поточного року, % | AC15: Плановий рік до факту минулого року, %
Q16: факт минулого року | T16: фінансовий план поточного року | W16: плановий рік
A18: 1 | B18: 2 | C18: 3 | G18: 4 | N18: 5 | Q18: 6 | T18: 7 | W18: 8 | Z18: 9 | AC18: 10
A19: 1 | B19: Про оренду транспортного засобу від 22.01.2021 №8 | G19: оренда транспорту для виконання послуг по озелененні та утриманні мереж вуличного освітлення | N19: 22.01.2021 | Q19: 1 | T19: 49.9 | W19: 54 | Z19: =(W19/T19)*100 -> 108.21643 | AC19: =(W19/Q19)*100 -> 5400
A20: 2 | Q20: 0 | Z20: 0 | AC20: 0
Z21: 0 | AC21: 0
Z22: 0 | AC22: 0
A23: Усього | Q23: =SUM(Q19:Q22) -> 1 | T23: =SUM(T19:T22) -> 49.9 | W23: =SUM(W19:W22) -> 54 | Z23: =(W23/T23)*100 -> 108.21643 | AC23: =(W23/Q23)*100 -> 5400
B26: 8. Джерела капітальних інвестицій
AE27: тис. грн (без ПДВ)
A28: № з/п | B28: Найменування об’єкта | G28: Залучення кредитних коштів | L28: Бюджетне фінансування | Q28: Власні кошти (розшифрувати) | V28: Інші джерела (розшифрувати) | AA28: Усього
G29: рік | H29: у тому числі за кварталами | L29: рік | M29: у тому числі за кварталами | Q29: рік | R29: у тому числі за кварталами | V29: рік | W29: у тому числі за кварталами | AA29: рік | AB29: у тому числі за кварталами
H30: І | I30: ІІ | J30: ІІІ | K30: ІV | M30: І | N30: ІІ | O30: ІІІ | P30: ІV | R30: І | S30: ІІ | T30: ІІІ | U30: ІV | W30: І | X30: ІІ | Y30: ІІІ | Z30: ІV | AB30: І | AC30: ІІ | AD30: ІІІ | AE30: ІV
A31: 1 | B31: 2 | G31: 3 | H31: 4 | I31: 5 | J31: 6 | K31: 7 | L31: 8 | M31: 9 | N31: 10 | O31: 11 | P31: 12 | Q31: 13 | R31: 14 | S31: 15 | T31: 16 | U31: 17 | V31: 18 | W31: 19 | X31: 20 | Y31: 21 | Z31: 22 | AA31: 23 | AB31: 24 | AC31: 25 | AD31: 26 | AE31: 27
B32: придбання автомобіля | G32: =SUM(H32,I32,J32,K32) -> 0 | L32: 100 | N32: 100 | Q32: 0 | S32: 0 | V32: =SUM(W32,X32,Y32,Z32) -> 0 | AA32: =SUM(AB32,AC32,AD32,AE32) -> 100 | AB32: =SUM(H32,M32,R32,W32) -> 0 | AC32: =SUM(I32,N32,S32,X32) -> 100 | AD32: =SUM(J32,O32,T32,Y32) -> 0 | AE32: =SUM(K32,P32,U32,Z32) -> 0
G33: =SUM(H33,I33,J33,K33) -> 0 | L33: =SUM(M33,N33,O33,P33) -> 0 | Q33: =SUM(R33,S33,T33,U33) -> 0 | V33: =SUM(W33,X33,Y33,Z33) -> 0 | AA33: =SUM(AB33,AC33,AD33,AE33) -> 0 | AB33: =SUM(H33,M33,R33,W33) -> 0 | AC33: =SUM(I33,N33,S33,X33) -> 0 | AD33: =SUM(J33,O33,T33,Y33) -> 0 | AE33: =SUM(K33,P33,U33,Z33) -> 0
G34: =SUM(H34,I34,J34,K34) -> 0 | L34: =SUM(M34,N34,O34,P34) -> 0 | Q34: =SUM(R34,S34,T34,U34) -> 0 | V34: =SUM(W34,X34,Y34,Z34) -> 0 | AA34: =SUM(AB34,AC34,AD34,AE34) -> 0 | AB34: =SUM(H34,M34,R34,W34) -> 0 | AC34: =SUM(I34,N34,S34,X34) -> 0 | AD34: =SUM(J34,O34,T34,Y34) -> 0 | AE34: =SUM(K34,P34,U34,Z34) -> 0
G35: =SUM(H35,I35,J35,K35) -> 0 | L35: =SUM(M35,N35,O35,P35) -> 0 | Q35: =SUM(R35,S35,T35,U35) -> 0 | V35: =SUM(W35,X35,Y35,Z35) -> 0 | AA35: =SUM(AB35,AC35,AD35,AE35) -> 0 | AB35: =SUM(H35,M35,R35,W35) -> 0 | AC35: =SUM(I35,N35,S35,X35) -> 0 | AD35: =SUM(J35,O35,T35,Y35) -> 0 | AE35: =SUM(K35,P35,U35,Z35) -> 0
A36: Усього | G36: =SUM(G32:G35) -> 0 | H36: =SUM(H32:H35) -> 0 | I36: =SUM(I32:I35) -> 0 | J36: =SUM(J32:J35) -> 0 | K36: =SUM(K32:K35) -> 0 | L36: =SUM(L32:L35) -> 100 | M36: =SUM(M32:M35) -> 0 | N36: =SUM(N32:N35) -> 100 | ... P36: =SUM(P32:P35) -> 0 | Q36: 0 | R36: =SUM(R32:R35) -> 0 | S36: 0 | V36: =SUM(V32:V35) -> 0 | W36: =SUM(W32:W35) -> 0 | X36: =SUM(X32:X35) -> 0 | Y36: =SUM(Y32:Y35) -> 0 | Z36: =SUM(Z32:Z35) -> 0 | AA36: =SUM(AA32:AA35) -> 100 | AB36: =SUM(AB32:AB35) -> 0 | AC36: =SUM(AC32:AC35) -> 100 | ... AE36: =SUM(AE32:AE35) -> 0
A37: Відсоток | G37: =G36/AA36*100 -> 0 | L37: =L36/AA36*100 -> 100 | Q37: =Q36/AA36*100 -> 0 | V37: =V36/AA36*100 -> 0 | AA37: =SUM(G37,L37,Q37,V37) -> 100
B40: 9. Капітальне будівництво (рядок 4010 таблиці 4)
AE41: тис. грн (без ПДВ)
A42: № з/п | B42: Найменування об’єктів | C42: Рік початку і закінчення будівництва | E42: Загальна кошторисна вартість | G42: Первісна балансова вартість введених потужностей на початок планового року | I42: Незавершене будівництво на початок планового року | K42: Плановий рік | U42: Інформація щодо проектно-кошторисної документації (стан розроблення, затвердження, у разі затвердження зазначити орган, яким затверджено, та відповідний документ) | Z42: Документ, яким затверджений титул будови, із зазначенням органу, який його погодив
K43: освоєння капітальних вкладень | M43: фінансування капітальних інвестицій (оплата грошовими коштами), усього | O43: у тому числі
O44: власні кошти | Q44: кредитні кошти | S44: інші джерела (зазначити джерело)
A45: 1 | B45: 2 | C45: 3 | E45: 4 | G45: 5 | I45: 6 | K45: 7 | M45: 8 | O45: 9 | Q45: 10 | S45: 11 | U45: 12 | Z45: 13
B46: капітальний ремонт даху | C46: 2022-2022 | E46: 50 | K46: 50 | M46: 50 | S46: 50 | U46: ПКД буде виготовлена у 2022 році
M47: =SUM(O47,Q47,S47) -> 0
M48: =SUM(O48,Q48,S48) -> 0
M49: =SUM(O49,Q49,S49) -> 0
...
