Workbook
Name aa: '[2]1993'!$A$1:$IV$3,'[2]1993'!$A$1:$A$65536
Name ad: '[3]МТР Газ України'!$B$1
Name as: '[4]МТР Газ України'!$B$1
Name asdf: [5]Inform!$E$6
Name asdfg: [5]Inform!$F$2
Name BuiltIn_Print_Area___1___1: #REF!
Name ClDate: [6]Inform!$E$6
Name ClDate_21: [7]Inform!$E$6
Name ClDate_25: [7]Inform!$E$6
Name ClDate_6: [8]Inform!$E$6
Name CompName: [6]Inform!$F$2
Name CompName_21: [7]Inform!$F$2
Name CompName_25: [7]Inform!$F$2
Name CompName_6: [8]Inform!$F$2
Name CompNameE: [6]Inform!$G$2
Name CompNameE_21: [7]Inform!$G$2
Name CompNameE_25: [7]Inform!$G$2
Name CompNameE_6: [8]Inform!$G$2
Name Cost_Category_National_ID: #REF!
Name Cе511: #REF!
Name d: '[9]МТР Газ України'!$B$4
Name dCPIb: [10]попер_роз!#REF!
Name dPPIb: [10]попер_роз!#REF!
Name ds: '[11]7 Інші витрати'!#REF!
Name Fact_Type_ID: #REF!
Name G: '[12]МТР Газ України'!$B$1
Name ij1sssss: '[13]7 Інші витрати'!#REF!
Name LastItem: [14]Лист1!$A$1
Name Load: '[15]МТР Газ України'!$B$4
Name Load_ID: '[16]МТР Газ України'!$B$4
Name Load_ID_10: '[17]7 Інші витрати'!#REF!
Name Load_ID_11: '[18]МТР Газ України'!$B$4
Name Load_ID_12: '[18]МТР Газ України'!$B$4
Name Load_ID_13: '[18]МТР Газ України'!$B$4
Name Load_ID_14: '[18]МТР Газ України'!$B$4
Name Load_ID_15: '[18]МТР Газ України'!$B$4
Name Load_ID_16: '[18]МТР Газ України'!$B$4
Name Load_ID_17: '[18]МТР Газ України'!$B$4
Name Load_ID_18: '[19]МТР Газ України'!$B$4
Name Load_ID_19: '[20]МТР Газ України'!$B$4
Name Load_ID_20: '[19]МТР Газ України'!$B$4
Name Load_ID_200: '[15]МТР Газ України'!$B$4
Name Load_ID_21: '[21]МТР Газ України'!$B$4
Name Load_ID_23: '[20]МТР Газ України'!$B$4
Name Load_ID_25: '[21]МТР Газ України'!$B$4
Name Load_ID_542: '[22]МТР Газ України'!$B$4
Name Load_ID_6: '[18]МТР Газ України'!$B$4
Name OpDate: [6]Inform!$E$5
Name OpDate_21: [7]Inform!$E$5
Name OpDate_25: [7]Inform!$E$5
Name OpDate_6: [8]Inform!$E$5
Name QR: [23]Inform!$E$5
Name qw: [5]Inform!$E$5
Name qwert: [5]Inform!$G$2
Name qwerty: '[4]МТР Газ України'!$B$4
Name ShowFil: [14]!ShowFil
Name SU_ID: #REF!
Name Time_ID: '[16]МТР Газ України'!$B$1
Name Time_ID_10: '[17]7 Інші витрати'!#REF!
Name Time_ID_11: '[18]МТР Газ України'!$B$1

Sheet Осн. фін. пок.
A1: ПОГОДЖЕНО | G1: Додаток 1
G2: до Порядку складання, затвердження
A3: Управління комунального господарства Коломийської міської ради | G3: та контролю виконання фінансового плану
A4: (найменування органу, який розглянув фінансовий план) | G4: суб'єкта господарювання державного сектору економіки
A5: Начальник А.П.Радовець | G5: (пункт 2)
A7: М.П.(посада П.І.Б., дата, підпис)
G9: ЗАТВЕРДЖЕНО
G10: Рішення міської ради
G11: від 30.08.2021 р. № 1059-18/2021
G12: Міський голова Богдан Станіславський
G16: М. П. (посада, П.І.Б., дата, підпис)
I20: Рік | J20: Коди
A21: Підприємство | B21: КОМУНАЛЬНЕ ПІДПРИЄМСТВО "Коломийська міська ритуальна служба" | I21: за ЄДРПОУ | J21: 34378405
A22: Організаційно-правова форма | B22: комунальне підприємство | I22: за КОПФГ | J22: 150
A23: Територія | B23: м.Коломия | I23: за КОАТУУ | J23: 2610600000
A24: Орган державного управління | I24: за СПОДУ
A25: Галузь | B25: Житлово-комунальне господарство | I25: за ЗКГНГ
A26: Вид економічної діяльності | B26: Організування поховань і надання суміжних послуг | I26: за КВЕД | J26: 96.03
A27: Одиниця виміру, тис. грн | G27: Стандарти звітності П(с)БОУ
A28: Форма власності | B28: комунальна | G28: Стандарти звітності МСФЗ
A29: Середньооблікова кількість штатних працівників | J29: 14
A30: Місцезнаходження | B30: 78200, місто Коломия, вулиця Олекси Довбуша, 420
A31: Телефон | B31: (033 34) 3-61-00
A32: Прізвище та ініціали керівника | B32: Джаман Роман Васильович
A33: ФІНАНСОВИЙ ПЛАН ПІДПРИЄМСТВА НА 2022 рік
A35: Основні фінансові показники
J36: тис.грн
A37: Найменування показника | B37: Код рядка | C37: Факт минулого року 2020 рік | D37: Фінансовий план поточного року 2021 рік | E37: Прогноз на поточний рік 2021 рік | F37: Плановий 2022 рік | G37: Інформація згідно із стратегічним планом розвитку
G38: плановий рік +1 рік | H38: плановий рік +2 роки | I38: плановий рік +3 роки | J38: плановий рік +4 роки
A39: 1 | B39: 2 | C39: 3 | D39: 4 | E39: 5 | F39: 6 | G39: 7 | H39: 8 | I39: 9 | J39: 10
A40: І. Формування фінансових результатів
A41: Чистий дохід від реалізації продукції (товарів, робіт, послуг) | B41: 1000 | C41: 2782.7 | D41: - | E41: 3339.3 | F41: ='I. Фін результат'!F7 -> 3740
A42: Собівартість реалізованої продукції (товарів, робіт, послуг) | B42: 1010 | C42: 2016 | D42: - | E42: 2143.5 | F42: 2401
A43: Валовий прибуток/збиток | B43: 1020 | C43: 8.3 | D43: - | E43: 9.7 | F43: 12
A44: Адміністративні витрати | B44: 1030 | C44: 667 | D44: - | E44: 1059.5 | F44: 1186
A45: Витрати на збут | B45: 1060 | C45: ='I. Фін результат'!C47 -> 0 | E45: ='I. Фін результат'!E47 -> 0 | F45: ='I. Фін результат'!F47 -> 0
A46: Інші операційні доходи | B46: 1070 | C46: 21.7 | E46: ='I. Фін результат'!E55 -> 0
A47: Інші операційні витрати | B47: 1080 | C47: 108.4 | E47: 122 | F47: 135
A48: Фінансовий результат від операційної діяльності | B48: 1100 | C48: 13 | E48: 13 | F48: 18
A49: EBITDA | B49: 1310 | C49: 4 | E49: 4 | F49: 6
...

Sheet I. Фін результат
A1: I. Формування фінансових результатів
K2: тис.грн
A3: Найменування показника | B3: Код рядка | C3: Факт минулого року, 2020 рік | D3: Фінансовий план поточного року, 2021 рік | E3: Прогноз на поточний рік, 2021 рік | F3: Плановий рік (усього), 2022 рік | G3: У тому числі за кварталами | K3: Пояснення та обґрунтування до запланованого рівня доходів/витрат
G4: І | H4: ІІ | I4: ІІІ | J4: ІV
A5: 1 | B5: 2 | C5: 3 | D5: 4 | E5: 5 | F5: 6 | G5: 7 | H5: 8 | I5: 9 | J5: 10 | K5: 11
A6: Доходи і витрати (деталізація)
A7: Дохід від реалізації продукції (товарів, робіт, послуг)цільове фінансування | B7: 1000 | C7: 2783 | E7: 3339 | F7: 3740 | G7: 924 | H7: 917 | I7: 925 | J7: 974
A8: Собівартість реалізованої продукції (товарів, робіт, послуг) | B8: 1010 | C8: 2016 | E8: 2144 | F8: 2766 | G8: -709 | H8: -702 | I8: -711 | J8: -758
A9: Витрати на сировину та основні матеріали: | B9: 1011 | C9: 211 | E9: 104 | F9: -261 | G9: -32 | H9: -100 | I9: -96 | J9: -33
A10: матеріали (котушки до тримерів, ліска, рукавиці, диски для косіння, лопати та інш.) | B10: 1011.1 | F10: -261 | G10: -32 | H10: -100 | I10: -96 | J10: -33
A11: Витрати на паливо | B11: 1012 | C11: 90 | E11: 143 | F11: -130 | G11: -18 | H11: -37 | I11: -44 | J11: -31
A12: Витрати на електроенергію | B12: 1013 | C12: 43 | E12: 63 | F12: -65 | G12: -17 | H12: -15 | I12: -15 | J12: -18
A13: Витрати на оплату праці | B13: 1014 | C13: 1276 | E13: 1503 | F13: -1885 | G13: -501 | H13: -426 | I13: -430 | J13: -528
A14: Відрахування на соціальні заходи | B14: 1015 | C14: 282 | E14: 331 | F14: -415 | G14: -110 | H14: -94 | I14: -95 | J14: -116
A15: Витрати, що здійснюються для підтримання об’єкта в робочому стані (проведення ремонту, технічного огляду, нагляду, обслуговування тощо) | B15: 1016
A16: Амортизація основних засобів і нематеріальних активів | B16: 1017 | C16: 101.4 | E16: 113.4 | F16: -114 | G16: -28 | H16: -28 | I16: -28 | J16: -30
A17: Інші витрати (розшифрувати) | B17: 1018 | C17: 114 | F17: -10 | G17: -3 | H17: -2 | I17: -3 | J17: -2
A18: Послуги екскаватора | B18: 1018.1 | C18: 114
A19: обслуговування компютерної техніки | B19: 1018.2 | F19: -2 | G19: -1 | I19: -1
A20: канцелярські товари | B20: 1018.3 | F20: -8 | G20: -2 | H20: -2 | I20: -2 | J20: -2
A21: Валовий прибуток (збиток) | B21: 1020
A22: Адміністративні витрати, у тому числі: | B22: 1030 | C22: 668 | E22: 1060 | F22: 833 | G22: -211 | H22: -210 | I22: -209 | J22: -212
A23: витрати, пов'язані з використанням власних службових автомобілів | B23: 1031
A24: витрати на оренду службових автомобілів | B24: 1032 | D24: ( ) | E24: ( )
A25: витрати на консалтингові послуги | B25: 1033 | D25: ( ) | E25: ( ) | F25: =SUM(G25:J25) -> 0 | G25: ( ) | H25: ( ) | I25: ( ) | J25: ( )
A26: витрати на страхові послуги | B26: 1034 | D26: ( ) | E26: ( ) | F26: =SUM(G26:J26) -> 0 | G26: ( ) | H26: ( ) | I26: ( ) | J26: ( )
A27: витрати на аудиторські послуги | B27: 1035 | D27: ( ) | E27: ( ) | F27: =SUM(G27:J27) -> 0 | G27: ( ) | H27: ( ) | I27: ( ) | J27: ( )
A28: витрати на службові відрядження | B28: 1036 | C28: 2.5
A29: витрати на зв’язок | B29: 1037 | C29: 3.5 | E29: 4 | F29: -4 | G29: -1 | H29: -1 | I29: -1 | J29: -1
A30: витрати на оплату праці | B30: 1038 | C30: 530 | E30: 846 | F30: -673 | G30: ((168) | H30: -168 | I30: -168 | J30: -169
A31: відрахування на соціальні заходи | B31: 1039 | C31: 101 | E31: 182 | F31: -148 | G31: -37 | H31: -37 | I31: -37 | J31: -37
A32: амортизація основних засобів і нематеріальних активів загальногосподарського призначення | B32: 1040 | C32: 7 | E32: 9 | F32: -9 | G32: -2 | H32: -2 | I32: -2 | J32: -3
A33: витрати на операційну оренду основних засобів та роялті, що мають загальногосподарське призначення | B33: 1041
A34: витрати на страхування майна загальногосподарського призначення | B34: 1042 | D34: ( ) | E34: ( ) | F34: =SUM(G34:J34) -> 0 | G34: ( ) | H34: ( ) | I34: ( ) | J34: ( )
A35: витрати на страхування загальногосподарського персоналу | B35: 1043 | D35: ( ) | E35: ( ) | F35: =SUM(G35:J35) -> 0 | G35: ( ) | H35: ( ) | I35: ( ) | J35: ( )
A36: організаційно-технічні послуги | B36: 1044 | J36: ( )
A37: консультаційні та інформаційні послуги | B37: 1045 | D37: ( ) | E37: ( ) | F37: =SUM(G37:J37) -> 0 | G37: ( ) | H37: ( ) | I37: ( ) | J37: ( )
A38: юридичні послуги | B38: 1046 | D38: ( ) | E38: ( ) | F38: =SUM(G38:J38) -> 0 | G38: ( ) | H38: ( ) | I38: ( ) | J38: ( )
A39: послуги з оцінки майна | B39: 1047 | D39: ( ) | E39: ( ) | F39: =SUM(G39:J39) -> 0 | G39: ( ) | H39: ( ) | I39: ( ) | J39: ( )
A40: витрати на охорону праці загальногосподарського персоналу | B40: 1048 | D40: ( ) | E40: ( ) | F40: =SUM(G40:J40) -> 0 | G40: ( ) | H40: ( ) | I40: ( ) | J40: ( )
...

Sheet ІІ. Розр. з бюджетом
A1: IІ. Розрахунки з бюджетом
I2: тис.грн
A3: Найменування показника | B3: Код рядка | C3: Факт минулого року | D3: Фінансовий план поточного року | E3: Прогноз на поточний рік | F3: Плановий рік (усього) | G3: У тому числі за кварталами
G4: І | H4: ІІ | I4: ІІІ | J4: ІV
A5: 1 | B5: 2 | C5: 3 | D5: 4 | E5: 5 | F5: 6 | G5: 7 | H5: 8 | I5: 9 | J5: 10
A6: Розподіл чистого прибутку
A7: Залишок нерозподіленого прибутку (непокритого збитку) на початок звітного періоду | B7: 2000
A8: Нараховані до сплати відрахування частини чистого прибутку, усього, у тому числі: | B8: 2010 | C8: 2 | E8: 2 | F8: 4 | G8: 1 | H8: 1 | I8: 1 | J8: 1
A9: державними унітарними підприємствами та їх об'єднаннями до державного бюджету | B9: 2011 | D9: ( ) | E9: ( ) | F9: =SUM(G9:J9) -> 0 | G9: ( ) | H9: ( ) | I9: ( ) | J9: ( )
A10: господарськими товариствами, у статутному капіталі яких більше 50 відсотків акцій (часток, паїв) належать державі, на виплату дивідендів | B10: 2012 | C10: ( ) | D10: ( ) | E10: ( ) | F10: =SUM(G10:J10) -> 0 | G10: ( ) | H10: ( ) | I10: ( ) | J10: ( )
A11: у тому числі на державну частку | B11: 2012/1 | C11: ( ) | D11: ( ) | E11: ( ) | F11: =SUM(G11:J11) -> 0 | G11: ( ) | H11: ( ) | I11: ( ) | J11: ( )
A12: Перенесено з додаткового капіталу | B12: 2020 | F12: =SUM(G12:J12) -> 0
A13: Розвиток виробництва | B13: 2030 | C13: ( ) | D13: ( ) | E13: ( ) | F13: =SUM(G13:J13) -> 0 | G13: ( ) | H13: ( ) | I13: ( ) | J13: ( )
A14: у тому числі за основними видами діяльності за КВЕД | B14: 2031 | C14: ( ) | D14: ( ) | E14: ( ) | F14: =SUM(G14:J14) -> 0 | G14: ( ) | H14: ( ) | I14: ( ) | J14: ( )
A15: Резервний фонд | B15: 2040 | C15: ( ) | D15: ( ) | E15: ( ) | F15: =SUM(G15:J15) -> 0 | G15: ( ) | H15: ( ) | I15: ( ) | J15: ( )
A16: Інші фонди (розшифрувати) | B16: 2050 | C16: ( ) | D16: ( ) | E16: ( ) | F16: =SUM(G16:J16) -> 0 | G16: ( ) | H16: ( ) | I16: ( ) | J16: ( )
A17: Інші цілі (розшифрувати) | B17: 2060 | C17: ( ) | D17: ( ) | E17: ( ) | F17: =SUM(G17:J17) -> 0 | G17: ( ) | H17: ( ) | I17: ( ) | J17: ( )
A18: Залишок нерозподіленого прибутку (непокритого збитку) на кінець звітного періоду | B18: 2070
A19: Сплата податків, зборів та інших обов'язкових платежів
A20: Сплата податків та зборів до Державного бюджету України (податкові платежі), усього, у тому числі: | B20: 2110 | C20: 463 | E20: 489 | F20: 512 | G20: 127 | H20: 128 | I20: 128 | J20: 129
A21: податок на прибуток підприємств | B21: 2111 | C21: 3 | E21: 2 | F21: 4 | G21: 1 | H21: 1 | I21: 1 | J21: 1
A22: податок на додану вартість, що підлягає сплаті до бюджету за підсумками звітного періоду | B22: 2112 | C22: 430 | E22: 450 | F22: 467 | G22: 116 | H22: 117 | I22: 117 | J22: 117
A23: податок на додану вартість, що підлягає відшкодуванню з бюджету за підсумками звітного періоду | B23: 2113
A24: акцизний податок | B24: 2114
A25: відрахування частини чистого прибутку державними унітарними підприємствами та їх об'єднаннями | B25: 2115 | C25: 2 | E25: 2 | F25: 3 | H25: 1 | I25: 1 | J25: 1
A26: рентна плата за транспортування | B26: 2116
A27: рентна плата за користування надрами | B27: 2117
B28: 2118
A29: інші податки та збори (розшифрувати) (військ.збір) | B29: 2119 | C29: 28 | E29: 35 | F29: 38 | G29: 10 | H29: 9 | I29: 9 | J29: 10
A30: Сплата податків та зборів до місцевих бюджетів (податкові платежі), усього, у тому числі: | B30: 2120 | C30: 333 | E30: 372 | F30: 417 | G30: 104 | H30: 104 | I30: 104 | J30: 105
A31: податок на доходи фізичних осіб | B31: 2121 | C31: 333 | E31: 372 | F31: 417 | G31: 104 | H31: 104 | I31: 104 | J31: 105
A32: земельний податок | B32: 2122
A33: орендна плата | B33: 2123
A34: інші податки та збори (розшифрувати) | B34: 2124
A35: Інші податки, збори та платежі на користь держави, усього, у тому числі: | B35: 2130 | C35: 389 | E35: 512 | F35: 573 | G35: 147 | H35: 136 | I35: 137 | J35: 153
A36: відрахування частини чистого прибутку господарськими товариствами, у статутному капіталі яких більше 50 відсотків акцій (часток, паїв) належать державі, на виплату дивідендів на державну частку | B36: 2131
A37: митні платежі | B37: 2132
A38: єдиний внесок на загальнообов'язкове державне соціальне страхування | B38: 2133 | C38: 389 | E38: 512 | F38: 573 | G38: 147 | H38: 136 | I38: 137 | J38: 153
A39: інші податки, збори та платежі (розшифрувати) | B39: 2134
A40: Погашення податкового боргу, усього, у тому числі: | B40: 2140
...

Sheet ІІІ. Рух грош. коштів
A3: ІІІ. Рух грошових коштів (за прямим методом)
I4: тис.грн
A5: Найменування показника | B5: Код рядка | C5: Факт минулого року, 2020 | D5: План поточного року, 2021 | E5: Прогноз на поточний рік, 2021 | F5: Плановий рік (усього), 2022 | G5: У тому числі за кварталами
G6: І | H6: ІІ | I6: ІІІ | J6: ІV
A7: 1 | B7: 2 | C7: 3 | D7: 4 | E7: 5 | F7: 6 | G7: 7 | H7: 8 | I7: 9 | J7: 10
A8: І. Рух коштів у результаті операційної діяльності
A9: Надходження грошових коштів від операційної діяльності | B9: 3000 | C9: 3234 | E9: 3339 | F9: 4207 | G9: 1040 | H9: 1034 | I9: 1042 | J9: 1091
A10: Виручка від реалізації продукції (товарів, робіт, послуг) | B10: 3010 | C10: 3234 | E10: 3339 | F10: 4207 | G10: 1040 | H10: 1034 | I10: 1042 | J10: 1091
A11: Повернення податків і зборів, у тому числі: | B11: 3020
A12: податку на додану вартість | B12: 3021
A13: Цільове фінансування (розшифрувати) БЮДЖЕТ, ЛІКАРНЯНІ | B13: 3030
A14: Надходження авансів від покупців і замовників | B14: 3040
A15: Отримання коштів за короткостроковими зобов'язаннями, у тому числі: | B15: 3050
A16: кредити | B16: 3051
A17: позики | B17: 3052
A18: облігації | B18: 3053
A19: Інші надходження (розшифрувати) -ОРЕНДА, | B19: 3060
A20: Видатки грошових коштів від операційної діяльності | B20: 3100 | C20: 3269.3 | E20: 3203 | F20: 4076 | G20: 1007 | H20: 1002 | I20: 1010 | J20: 1057
A21: Розрахунки за продукцію (товари, роботи та послуги) | B21: 3110 | C21: 648 | E21: 310 | F21: 460 | G21: 68 | H21: 153 | I21: 156 | J21: 83
A22: Розрахунки з оплати праці | B22: 3120 | C22: 1452 | E22: 1667 | F22: 2060 | G22: 539 | H22: 478 | I22: 481 | J22: 562
A23: Повернення коштів за короткостроковими зобов'язаннями, у тому числі: | B23: 3130
A24: кредити | B24: 3131
A25: позики | B25: 3132
A26: облігації | B26: 3133
A27: Зобов’язання з податків, зборів та інших обов’язкових платежів, у тому числі: | B27: 3140 | C27: 715 | E27: 801 | F27: 931 | G27: 237 | H27: 225 | I27: 226 | J27: 243
A28: податок на прибуток підприємств | B28: 3141 | F28: 4 | G28: 1 | H28: 1 | I28: 1 | J28: 1
A29: податок на додану вартість | B29: 3142 | C29: 382 | E29: 428 | F29: 467 | G29: 116 | H29: 117 | I29: 117 | J29: 117
A30: акцизний податок | B30: 3143
A31: рентна плата | B31: 3144
A32: податок на доходи фізичних осіб | B32: 3145 | C32: 333 | E32: 373 | F32: 460 | G32: 120 | H32: 107 | I32: 108 | J32: 125
A33: інші обов’язкові платежі, у тому числі: | B33: 3146 | C33: 0.3 | F33: 4 | G33: 1 | H33: 1 | I33: 1 | J33: 1
A34: відрахування частини чистого прибутку комунальними підприємствами | B34: 3146/1 | C34: 0.3 | F34: 4 | G34: 1 | H34: 1 | I34: 1 | J34: 1
A35: відрахування частини чистого прибутку державними підприємствами | B35: 3146/2
A36: інші платежі (розшифрувати) ПОДАТКИ(єсв,військ.зб.) | B36: 3150 | C36: 417 | E36: 393 | F36: 601 | G36: 157 | H36: 140 | I36: 141 | J36: 163
A37: ЄСВ | B37: 3150.1 | C37: 389 | E37: 360 | F37: 563 | G37: 147 | H37: 131 | I37: 132 | J37: 153
A38: Військовий збір | B38: 3150.2 | C38: 28 | E38: 33 | F38: 38 | G38: 10 | H38: 9 | I38: 9 | J38: 10
A39: Повернення коштів до бюджету | B39: 3160
A40: Інші витрати (розшифрувати), (Банк.послуги, ліцензія до прогр.забезп.) | B40: 3170 | C40: 37 | E40: 32 | F40: 20 | G40: 5 | H40: 5 | I40: 5 | J40: 5
A41: Чистий рух коштів від операційної діяльності | B41: 3195 | C41: 3269.3 | E41: 3203 | F41: 4076 | G41: 1007 | H41: 1002 | I41: 1010 | J41: 1057
A42: II. Рух коштів у результаті інвестиційної діяльності
...

Sheet IV. Кап. інвестиції
A1: IV. Капітальні інвестиції
A2: тис.грн
A3: Найменування показника | B3: Код рядка | C3: Факт минулого року, 2020 | D3: Фінансовий план поточного року, 2021 | E3: Прогноз на поточний рік, 2021 | F3: Плановий рік (усього), 2022 | G3: У тому числі за кварталами
G4: І | H4: ІІ | I4: ІІІ | J4: ІV
A5: 1 | B5: 2 | C5: 3 | D5: 4 | E5: 5 | F5: 6 | G5: 7 | H5: 8 | I5: 9 | J5: 10
A6: Капітальні інвестиції, усього, у тому числі: | B6: 4000 | C6: 118 | D6: - | E6: - | F6: -
A7: капітальне будівництво | B7: 4010
A8: придбання (виготовлення) основних засобів | B8: 4020 | C8: 118 | D8: - | E8: - | F8: -
A9: придбання (виготовлення) інших необоротних матеріальних активів | B9: 4030
A10: придбання (створення) нематеріальних активів | B10: 4040
A11: модернізація, модифікація (добудова, дообладнання, реконструкція) основних засобів | B11: 4050
A12: капітальний ремонт | B12: 4060
A16: В.о.директора, заступник директора | C16: _____________________________ | H16: Р.В.Джаман
A17: (посада) | C17: (підпис) | H17: (ініціали, прізвище)

Sheet  V. Коефіцієнти
A1: V. Коефіцієнтний аналіз
A3: Найменування показника | B3: Код рядка | C3: Оптимальне значення | D3: Факт минулого року, 2020 | E3: Фінансовий план поточного року, 2021 | F3: Прогноз на поточний рік, 2021 | G3: Плановий рік, 2022 | H3: Примітки
A5: 1 | B5: 2 | C5: 3 | D5: 4 | E5: 5 | F5: 6 | G5: 7 | H5: 8
A6: Коефіцієнти рентабельності та прибутковості
A7: Валова рентабельність (валовий прибуток, рядок 1020 / чистий дохід від реалізації продукції (товарів, робіт, послуг), рядок 1000) х 100, % | B7: 5000 | C7: Збільшення | D7: 0.003 | F7: 0.003 | G7: 0.003
A8: Рентабельність EBITDA (EBITDA, рядок 1310 / чистий дохід від реалізації продукції (товарів, робіт, послуг), рядок 1000) х 100, % | B8: 5010 | C8: Збільшення | D8: 0.002 | F8: 0.001 | G8: 0.002
A9: Рентабельність активів (чистий фінансовий результат, рядок 1200 / вартість активів, рядок 6020) х 100, % | B9: 5020 | C9: Збільшення | D9: 0.03 | F9: 0.03 | G9: 0.04 | H9: Характеризує ефективність використання активів підприємства
A10: Рентабельність власного капіталу (чистий фінансовий результат, рядок 1200 / власний капітал, рядок 6080) х 100, % | B10: 5030 | C10: Збільшення | D10: 0.03 | F10: 0.03 | G10: 0.04
A11: Рентабельність діяльності (чистий фінансовий результат, рядок 1200 / чистий дохід від реалізації продукції (товарів, робіт, послуг), рядок 1000) х 100, % | B11: 5040 | C11: Збільшення | D11: 0.005 | F11: 0.004 | G11: 0.005 | H11: Характеризує ефективність господарської діяльності підприємства
A12: Коефіцієнти фінансової стійкості та ліквідності
A13: Коефіцієнт відношення боргу до EBITDA (довгострокові зобов'язання, рядок 6030 + поточні зобов'язання, рядок 6040) / EBITDA, рядок 1310 | B13: 5100
A14: Коефіцієнт фінансової стійкості (власний капітал, рядок 6080 / (довгострокові зобов'язання, рядок 6030 + поточні зобов'язання, рядок 6040)) | B14: 5110 | C14: > 1 | H14: Характеризує співвідношення власних та позикових коштів і залежність підприємства від зовнішніх фінансових джерел
A15: Коефіцієнт поточної ліквідності (покриття) (оборотні активи, рядок 6010 / поточні зобов'язання, рядок 6040) | B15: 5120 | C15: > 1 | H15: Показує достатність ресурсів підприємства, які може бути використано для погашення його поточних зобов'язань. Нормативним значенням для цього показника є > 1–1,5
A16: Аналіз капітальних інвестицій
A17: Коефіцієнт відношення капітальних інвестицій до амортизації (капітальні інвестиції, рядок 4000 / амортизація, рядок 1430) | B17: 5200
A18: Коефіцієнт відношення капітальних інвестицій до чистого доходу від реалізації продукції (товарів, робіт, послуг) (капітальні інвестиції, рядок 4000 / чистий дохід від реалізації продукції (товарів, робіт, послуг), рядок 1000) | B18: 5210
A19: Коефіцієнт зносу основних засобів (сума зносу, рядок 6003 / первісна вартість основних засобів, рядок 6002) | B19: 5220 | C19: Зменшення | H19: Характеризує інвестиційну політику підприємства
A20: Ковенанти/обмежувальні коефіцієнти
A21: Інші коефіцієнти/ковенанти, якщо такі передбачені умовами кредитних договорів, із зазначенням банку, валюти та суми зобов'язання на дату останньої звітності, строку погашення. У графі "Оптимальне значення" вказати граничне значення коефіцієнта | B21: 5300
A25: В.о.директора, заступник директора | C25: Р.В.Джаман | H25: В.М.Михайлищук
A26: (посада) | C26: (підпис) | H26: (ініціали, прізвище)

Sheet 6.1. Інша інфо_1
A1: Інформація
A2: до фінансового плану на 2022 рік
A3: КОМУНАЛЬНЕ ПІДПРИЄМСТВО "КОЛОМИЙСЬКА МІСЬКА РИТУАЛЬНА СЛУЖБА"
A4: (найменування підприємства)
A5: 1. Дані про підприємство, персонал та витрати на оплату праці тис.грн
A7: Загальна інформація про підприємство (резюме)
A9: Найменування показника | D9: Факт минулого року, 2020 | F9: Фінансовий план поточного року, 2021 | H9: Прогноз на поточний рік, 2021 | J9: Плановий рік, 2022 | L9: Плановий рік до прогнозу на поточний рік, % | N9: Плановий рік до факту минулого року, %
A10: 1 | D10: 2 | F10: 3 | H10: 4 | J10: 5 | L10: 6 | N10: 7
A11: Середня кількість працівників (штатних працівників, зовнішніх сумісників та працівників, що працюють за цивільно-правовими договорами), у тому числі: | D11: 16 | H11: 14 | J11: 14 | L11: =J11/H11*100 -> 100 | N11: =J11/D11*100 -> 87.5
A12: директор | D12: 1 | H12: 1 | J12: 1 | L12: =J12/H12*100 -> 100 | N12: =J12/D12*100 -> 100
A13: адміністративно-управлінський персонал | D13: 2 | H13: 3 | J13: 3 | L13: =J13/H13*100 -> 100 | N13: =J13/D13*100 -> 150
A14: працівники | D14: 13 | H14: 10 | J14: 10 | L14: =J14/H14*100 -> 100 | N14: =J14/D14*100 -> 76.923077
A15: Фонд оплати праці, тис. грн, у тому числі: | D15: 1806 | H15: 2349 | J15: 2558 | L15: =J15/H15*100 -> 108.8974 | N15: =J15/D15*100 -> 141.63898
A16: директор | D16: 261 | H16: 247 | J16: 272 | L16: =J16/H16*100 -> 110.12146 | N16: =J16/D16*100 -> 104.21456
A17: адміністративно-управлінський персонал | D17: 269.9 | H17: 451 | J17: 496 | L17: =J17/H17*100 -> 109.97783 | N17: =J17/D17*100 -> 183.77177
A18: працівники | D18: 1275 | H18: 1651 | J18: 1790 | L18: =J18/H18*100 -> 108.41914 | N18: =J18/D18*100 -> 140.39216
A19: Витрати на оплату праці, тис. грн, у тому числі: | D19: 1806 | H19: 2349 | J19: 2558 | L19: =J19/H19*100 -> 108.8974 | N19: =J19/D19*100 -> 141.63898
A20: директор | D20: 261 | H20: 247 | J20: 272 | L20: =J20/H20*100 -> 110.12146 | N20: =J20/D20*100 -> 104.21456
A21: адміністративно-управлінський персонал | D21: 270 | H21: 451 | J21: 496 | L21: =J21/H21*100 -> 109.97783 | N21: =J21/D21*100 -> 183.7037
A22: працівники | D22: 1275 | H22: 1651 | J22: 1790 | L22: =J22/H22*100 -> 108.41914 | N22: =J22/D22*100 -> 140.39216
... A26: працівники | D26: 8200 | H26: 13758 | J26: 14917 | L26: =J26/H26*100 -> 108.42419 | N26: =J26/D26*100 -> 181.91463
A28: У разі збільшення витрат на оплату праці в плановому році порівняно з установленим рівнем поточного року та фактом попереднього року надаються відповідні обґрунтування.
A30: 2. Перелік підприємств, які включені до консолідованого (зведеного) фінансового плану
A32: Код за ЄДРПОУ | B32: Найменування підприємства | F32: Вид діяльності
A33: 1 | B33: 2 | F33: 3
A44: 3. Інформація про бізнес підприємства (код рядка 1000 фінансового плану)
A46: Найменування видів діяльності за КВЕД | B46: Питома вага в загальному обсязі реалізації, % | D46: Фактичний показник за 2020 минулий рік | G46: Плановий показник поточного2021 року | J46: Фактичний показник поточного року за останній звітний період на 31.12.2021р | M46: Плановий 2022 рік
B47: за минулий рік | C47: за плановий рік | D47: чистий дохід від реалізації продукції (товарів, робіт, послуг), тис. грн | E47: кількість продукції/ наданих послуг, одиниця виміру | F47: ціна одиниці (вартість продукції/ наданих послуг), грн | G47: чистий дохід від реалізації продукції (товарів, робіт, послуг), тис. грн | H47: кількість продукції/ наданих послуг, одиниця виміру | I47: ціна одиниці (вартість продукції/ наданих послуг), грн | J47: чистий дохід від реалізації продукції (товарів, робіт, послуг), тис. грн | K47: кількість продукції/ наданих послуг, одиниця виміру | L47: ціна одиниці (вартість продукції/ наданих послуг), грн | M47: чистий дохід від реалізації продукції (товарів, робіт, послуг), тис. грн | N47: кількість продукції/ наданих послуг, одиниця виміру | O47: ціна одиниці (вартість продукції/ наданих послуг), грн
A48: 1 | B48: 2 | C48: 3 | D48: 4 | E48: 5 | F48: 6 | G48: 7 | H48: 8 | I48: 9 | J48: 10 | K48: 11 | L48: 12 | M48: 13 | N48: 14 | O48: 15
A49: Організування поховань і надання суміжних послуг | D49: 671 | E49: 574 | F49: 1170 | J49: 950 | K49: 641 | L49: 1482 | M49: 1404 | N49: 650 | O49: 2160
A50: Благоустрій кладовищ | D50: 2134 | E50: - | F50: - | J50: 2389 | K50: - | L50: - | M50: 2336 | N50: - | O50: -
A51: Усього | D51: 2805 | E51: 574 | F51: 1170 | J51: 3339 | K51: 641 | L51: 1482 | M51: 3740 | N51: 650 | O51: 2160
A53: 4. Діючі фінансові зобов'язання підприємства
A55: Найменування банку | B55: Вид кредитного продукту та цільове призначення | D55: Сума, валюта за договорами | F55: Процентна ставка | H55: Дата видачі/погашення (графік) | K55: Заборгованість на останню дату | M55: Забезпечення
A56: 1 | B56: 2 | D56: 3 | F56: 4 | H56: 5 | K56: 6 | M56: 7
A60: Усього | B60: х | D60: х | F60: х | K60: =SUM(K57:K59) -> 0
A62: 5. Інформація щодо отримання та повернення залучених коштів
A64: Зобов'язання | D64: Заборгованість за кредитами на початок ______ року | G64: План із залучення коштів | J64: План з повернення коштів | M64: Заборгованість за кредитами на кінець ______ року
A65: 1 | D65: 2 | G65: 3 | J65: 4 | M65: 5
A66: Довгострокові зобов'язання, усього | M66: =D66+G66-J66 -> 0
...

Sheet 6.2. Інша інфо_2
B2: 6. Витрати, пов'язані з використанням власних службових автомобілів (у складі адміністративних витрат, рядок 1031)
A4: № з/п | B4: Марка | C4: Рік придбання | G4: Мета використання | N4: Витрати, усього | Z4: Плановий рік до плану поточного року, % | AC4: Плановий рік до факту минулого року, %
N5: факт минулого року | R5: фінансовий план поточного року | V5: плановий рік
A6: 1 | B6: 2 | C6: 3 | G6: 4 | N6: 5 | R6: 6 | V6: 7 | Z6: 8 | AC6: 9
A7: 1 | Z7: =(V7/R7)*100 -> #DIV/0! | AC7: =(V7/N7)*100 -> #DIV/0!
Z8: =(V8/R8)*100 -> #DIV/0! | AC8: =(V8/N8)*100 -> #DIV/0!
Z9: =(V9/R9)*100 -> #DIV/0! | AC9: =(V9/N9)*100 -> #DIV/0!
Z10: =(V10/R10)*100 -> #DIV/0! | AC10: =(V10/N10)*100 -> #DIV/0!
A11: Усього | N11: =SUM(N7:N10) -> 0 | R11: =SUM(R7:R10) -> 0 | V11: =SUM(V7:V10) -> 0 | Z11: =(V11/R11)*100 -> #DIV/0! | AC11: =(V11/N11)*100 -> #DIV/0!
B13: 7. Витрати на оренду службових автомобілів (у складі адміністративних витрат, рядок 1032)
A15: № з/п | B15: Договір | C15: Марка | G15: Мета використання | N15: Дата початку оренди | Q15: Витрати, усього | Z15: Плановий рік до плану поточного року, % | AC15: Плановий рік до факту минулого року, %
Q16: факт минулого року | T16: фінансовий план поточного року | W16: плановий рік
A18: 1 | B18: 2 | C18: 3 | G18: 4 | N18: 5 | Q18: 6 | T18: 7 | W18: 8 | Z18: 9 | AC18: 10
Z19: =(W19/T19)*100 -> #DIV/0! | AC19: =(W19/Q19)*100 -> #DIV/0!
Z20: =(W20/T20)*100 -> #DIV/0! | AC20: =(W20/Q20)*100 -> #DIV/0!
Z21: =(W21/T21)*100 -> #DIV/0! | AC21: =(W21/Q21)*100 -> #DIV/0!
Z22: =(W22/T22)*100 -> #DIV/0! | AC22: =(W22/Q22)*100 -> #DIV/0!
A23: Усього | Q23: =SUM(Q19:Q22) -> 0 | T23: =SUM(T19:T22) -> 0 | W23: =SUM(W19:W22) -> 0 | Z23: =(W23/T23)*100 -> #DIV/0! | AC23: =(W23/Q23)*100 -> #DIV/0!
B26: 8. Джерела капітальних інвестицій
AE27: тис. грн (без ПДВ)
A28: № з/п | B28: Найменування об’єкта | G28: Залучення кредитних коштів | L28: Бюджетне фінансування | Q28: Власні кошти (розшифрувати) | V28: Інші джерела (розшифрувати) | AA28: Усього
G29: рік | H29: у тому числі за кварталами | L29: рік | M29: у тому числі за кварталами | Q29: рік | R29: у тому числі за кварталами | V29: рік | W29: у тому числі за кварталами | AA29: рік | AB29: у тому числі за кварталами
H30: І | I30: ІІ | J30: ІІІ | K30: ІV | M30: І | N30: ІІ | O30: ІІІ | P30: ІV | R30: І | S30: ІІ | T30: ІІІ | U30: ІV | W30: І | X30: ІІ | Y30: ІІІ | Z30: ІV | AB30: І | AC30: ІІ | AD30: ІІІ | AE30: ІV
A31: 1 | B31: 2 | G31: 3 | H31: 4 | I31: 5 | J31: 6 | K31: 7 | L31: 8 | M31: 9 | N31: 10 | O31: 11 | P31: 12 | Q31: 13 | R31: 14 | S31: 15 | T31: 16 | U31: 17 | V31: 18 | W31: 19 | X31: 20 | Y31: 21 | Z31: 22 | AA31: 23 | AB31: 24 | AC31: 25 | AD31: 26 | AE31: 27
G32: =SUM(H32,I32,J32,K32) -> 0 | L32: =SUM(M32,N32,O32,P32) -> 0 | Q32: =SUM(R32,S32,T32,U32) -> 0 | V32: =SUM(W32,X32,Y32,Z32) -> 0 | AA32: =SUM(AB32,AC32,AD32,AE32) -> 0 | AB32: =SUM(H32,M32,R32,W32) -> 0 | AC32: =SUM(I32,N32,S32,X32) -> 0 | AD32: =SUM(J32,O32,T32,Y32) -> 0 | AE32: =SUM(K32,P32,U32,Z32) -> 0
G33: =SUM(H33,I33,J33,K33) -> 0 | L33: =SUM(M33,N33,O33,P33) -> 0 | Q33: =SUM(R33,S33,T33,U33) -> 0 | V33: =SUM(W33,X33,Y33,Z33) -> 0 | AA33: =SUM(AB33,AC33,AD33,AE33) -> 0 | AB33: =SUM(H33,M33,R33,W33) -> 0 | AC33: =SUM(I33,N33,S33,X33) -> 0 | AD33: =SUM(J33,O33,T33,Y33) -> 0 | AE33: =SUM(K33,P33,U33,Z33) -> 0
G34: =SUM(H34,I34,J34,K34) -> 0 | L34: =SUM(M34,N34,O34,P34) -> 0 | Q34: =SUM(R34,S34,T34,U34) -> 0 | V34: =SUM(W34,X34,Y34,Z34) -> 0 | AA34: =SUM(AB34,AC34,AD34,AE34) -> 0 | AB34: =SUM(H34,M34,R34,W34) -> 0 | AC34: =SUM(I34,N34,S34,X34) -> 0 | AD34: =SUM(J34,O34,T34,Y34) -> 0 | AE34: =SUM(K34,P34,U34,Z34) -> 0
G35: =SUM(H35,I35,J35,K35) -> 0 | L35: =SUM(M35,N35,O35,P35) -> 0 | Q35: =SUM(R35,S35,T35,U35) -> 0 | V35: =SUM(W35,X35,Y35,Z35) -> 0 | AA35: =SUM(AB35,AC35,AD35,AE35) -> 0 | AB35: =SUM(H35,M35,R35,W35) -> 0 | AC35: =SUM(I35,N35,S35,X35) -> 0 | AD35: =SUM(J35,O35,T35,Y35) -> 0 | AE35: =SUM(K35,P35,U35,Z35) -> 0
A36: Усього | G36: =SUM(G32:G35) -> 0 | H36: =SUM(H32:H35) -> 0 | I36: =SUM(I32:I35) -> 0 | J36: =SUM(J32:J35) -> 0 | K36: =SUM(K32:K35) -> 0 | L36: =SUM(L32:L35) -> 0 | M36: =SUM(M32:M35) -> 0 | N36: =SUM(N32:N35) -> 0 | ... AE36: =SUM(AE32:AE35) -> 0
A37: Відсоток | G37: =G36/AA36*100 -> #DIV/0! | L37: =L36/AA36*100 -> #DIV/0! | Q37: =Q36/AA36*100 -> #DIV/0! | V37: =V36/AA36*100 -> #DIV/0! | AA37: =SUM(G37,L37,Q37,V37) -> #DIV/0!
B40: 9. Капітальне будівництво (рядок 4010 таблиці 4)
AE41: тис. грн (без ПДВ)
A42: № з/п | B42: Найменування об’єктів | C42: Рік початку і закінчення будівництва | E42: Загальна кошторисна вартість | G42: Первісна балансова вартість введених потужностей на початок планового року | I42: Незавершене будівництво на початок планового року | K42: Плановий рік | U42: Інформація щодо проектно-кошторисної документації (стан розроблення, затвердження, у разі затвердження зазначити орган, яким затверджено, та відповідний документ) | Z42: Документ, яким затверджений титул будови, із зазначенням органу, який його погодив
K43: освоєння капітальних вкладень | M43: фінансування капітальних інвестицій (оплата грошовими коштами), усього | O43: у тому числі
O44: власні кошти | Q44: кредитні кошти | S44: інші джерела (зазначити джерело)
A45: 1 | B45: 2 | C45: 3 | E45: 4 | G45: 5 | I45: 6 | K45: 7 | M45: 8 | O45: 9 | Q45: 10 | S45: 11 | U45: 12 | Z45: 13
M46: =SUM(O46,Q46,S46) -> 0
M47: =SUM(O47,Q47,S47) -> 0
M48: =SUM(O48,Q48,S48) -> 0
M49: =SUM(O49,Q49,S49) -> 0
...
