Workbook

Sheet 1-4
AJ4: Додаток 1
AJ5: до рішення виконавчого комітету
AJ6: від 08.09.2020 р. № 158
B8: Фактична мережа закладів загальної середньої освіти
B9: на 2020/2021 навчальний рік
A11: Заклади загальної середньої освіти | B11: 1-А | C11: 1-Б | D11: 1-В | E11: 1-Г | F11: 1-Д | G11: 1-І | H11: к-сть класів | I11: к-сть учнів | J11: к-ть учнів ГПД | K11: 2-А | L11: 2-Б | M11: 2-В | N11: 2-Г | O11: 2-Д | P11: 2-І | Q11: к-сть класів | R11: к-сть учнів | S11: к-ть учнів ГПД | T11: 3-А | U11: 3-Б | V11: 3-В | W11: 3-Г | X11: 3-Д | Y11: 3-І | Z11: к-сть класів | AA11: к-сть учнів | AB11: к-ть учнів ГПД | AC11: 4-А | AD11: 4-Б | AE11: 4-В | AF11: 4-Г | AG11: 4-Д | AH11: 4-I | AI11: к-сть класів | AJ11: к-сть учнів | AK11: к-ть учнів ГПД | AL11: к-сть 1-4 класів | AM11: к-сть учнів у 1-4 кл. | AN11: ГПД (всього дітей) | AO11: ГПД (всього груп) | AP11: ГПД (всього ставок)
A12: Коломийський ліцей №1 імені В.Стефаника | B12: 28 | C12: 22 | D12: 28 | E12: 22 | G12: 28 | H12: 5 | I12: =SUM(B12,C12,D12,E12,F12,G12) -> 128 | J12: 40 | K12: 30 | L12: 29 | M12: 28 | N12: 29 | P12: 29 | Q12: 5 | R12: =SUM(K12,L12,M12,N12,O12,P12) -> 145 | S12: 40 | T12: 28 | U12: 30 | V12: 31 | W12: 30 | Y12: 30 | Z12: 5 | AA12: =SUM(T12,U12,V12,W12,X12,Y12) -> 149 | AB12: 40 | AC12: 26 | AD12: 32 | AE12: 32 | AH12: 31 | AI12: 4 | AJ12: =SUM(AC12,AD12,AE12,AF12,AH12) -> 121 | AK12: 30 | AL12: =SUM(H12,Q12,Z12,AI12) -> 19 | AM12: =SUM(I12,R12,AA12,AJ12) -> 543 | AN12: =SUM(J12,S12,AB12,AK12) -> 150 | AO12: 5 | AP12: 5
A13: Коломийський ліцей №2 | B13: 28 | C13: 28 | H13: 2 | I13: =SUM(B13,C13,D13,E13,F13,G13) -> 56 | J13: 30 | K13: 30 | L13: 30 | M13: 30 | Q13: 3 | R13: =SUM(K13,L13,M13,N13,O13,P13) -> 90 | S13: 30 | T13: 28 | U13: 31 | Z13: 2 | AA13: =SUM(T13,U13,V13,W13,X13,Y13) -> 59 | AB13: 30 | AC13: 21 | AD13: 24 | AE13: 26 | AI13: 3 | AJ13: =SUM(AC13,AD13,AE13,AF13,AH13) -> 71 | AK13: 30 | AL13: =SUM(H13,Q13,Z13,AI13) -> 10 | AM13: =SUM(I13,R13,AA13,AJ13) -> 276 | AN13: =SUM(J13,S13,AB13,AK13) -> 120 | AO13: 4 | AP13: 4
A14: Коломийський ліцей №3 | B14: 28 | H14: 1 | I14: =SUM(B14,C14,D14,E14,F14,G14) -> 28 | J14: 15 | K14: 29 | Q14: 1 | R14: =SUM(K14,L14,M14,N14,O14,P14) -> 29 | S14: 15 | T14: 29 | Z14: 1 | AA14: =SUM(T14,U14,V14,W14,X14,Y14) -> 29 | AB14: 15 | AC14: 25 | AI14: 1 | AJ14: =SUM(AC14,AD14,AE14,AF14,AH14) -> 25 | AK14: 15 | AL14: =SUM(H14,Q14,Z14,AI14) -> 4 | AM14: =SUM(I14,R14,AA14,AJ14) -> 111 | AN14: =SUM(J14,S14,AB14,AK14) -> 60 | AO14: 2 | AP14: 1.5
A15: Коломийський ліцей №4 імені Сергія Лисенка | B15: 28 | C15: 27 | D15: 28 | E15: 26 | F15: 25 | H15: 5 | I15: =SUM(B15,C15,D15,E15,F15,G15) -> 134 | J15: 40 | K15: 29 | L15: 31 | M15: 29 | N15: 29 | O15: 29 | Q15: 5 | R15: =SUM(K15,L15,M15,N15,O15,P15) -> 147 | S15: 40 | T15: 30 | U15: 30 | V15: 24 | W15: 29 | X15: 30 | Z15: 5 | AA15: =SUM(T15,U15,V15,W15,X15,Y15) -> 143 | AB15: 40 | AC15: 28 | AD15: 30 | AE15: 30 | AF15: 30 | AG15: 19 | AI15: 5 | AJ15: =SUM(AD15:AH15,AC15) -> 137 | AK15: 30 | AL15: =SUM(H15,Q15,Z15,AI15) -> 20 | AM15: =SUM(I15,R15,AA15,AJ15) -> 561 | AN15: =SUM(J15,S15,AB15,AK15) -> 150 | AO15: 5 | AP15: 5
A16: Коломийський ліцей №5 імені Т.Г.Шевченка | B16: 25 | C16: 26 | D16: 25 | H16: 3 | I16: =SUM(B16,C16,D16,E16,F16,G16) -> 76 | J16: 60 | K16: 30 | L16: 30 | M16: 28 | Q16: 3 | R16: =SUM(K16,L16,M16,N16,O16,P16) -> 88 | S16: 60 | T16: 22 | U16: 30 | V16: 29 | Z16: 3 | AA16: =SUM(T16,U16,V16,W16,X16,Y16) -> 81 | AB16: 60 | AC16: 28 | AD16: 21 | AE16: 22 | AI16: 3 | AJ16: =SUM(AC16,AD16,AE16,AF16,AH16) -> 71 | AK16: 30 | AL16: =SUM(H16,Q16,Z16,AI16) -> 12 | AM16: =SUM(I16,R16,AA16,AJ16) -> 316 | AN16: 210 | AO16: 7 | AP16: 4
A17: Коломийський ліцей №6 імені Героя України Тараса Сенюка | B17: 24 | C17: 22 | D17: 21 | H17: 3 | I17: =SUM(B17,C17,D17,E17,F17,G17) -> 67 | J17: 30 | K17: 23 | L17: 25 | M17: 23 | Q17: 3 | R17: =SUM(K17,L17,M17,N17,O17,P17) -> 71 | S17: 30 | T17: 27 | U17: 24 | V17: 19 | Z17: 3 | AA17: =SUM(T17,U17,V17,W17,X17,Y17) -> 70 | AB17: 30 | AC17: 28 | AD17: 28 | AE17: 21 | AI17: 3 | AJ17: =SUM(AC17,AD17,AE17,AF17,AH17) -> 77 | AK17: 30 | AL17: =SUM(H17,Q17,Z17,AI17) -> 12 | AM17: =SUM(I17,R17,AA17,AJ17) -> 285 | AN17: =SUM(J17,S17,AB17,AK17) -> 120 | AO17: 4 | AP17: 4
A18: Коломийська гімназія №7 | B18: 22 | C18: 19 | H18: 2 | I18: =SUM(B18,C18,D18,E18,F18,G18) -> 41 | J18: 30 | K18: 30 | Q18: 1 | R18: =SUM(K18,L18,M18,N18,O18,P18) -> 30 | S18: 30 | T18: 30 | Z18: 1 | AA18: =SUM(T18,U18,V18,W18,X18,Y18) -> 30 | AB18: 30 | AC18: 25 | AD18: 16 | AI18: 2 | AJ18: =SUM(AC18,AD18,AE18,AF18,AH18) -> 41 | AK18: 30 | AL18: =SUM(H18,Q18,Z18,AI18) -> 6 | AM18: =SUM(I18,R18,AA18,AJ18) -> 142 | AN18: =SUM(J18,S18,AB18,AK18) -> 120 | AO18: 4 | AP18: 3
A19: Коломийський ліцей №8 | B19: 23 | C19: 28 | D19: 28 | H19: 3 | I19: =SUM(B19,C19,D19,E19,F19,G19) -> 79 | J19: 30 | K19: 28 | L19: 22 | M19: 28 | Q19: 3 | R19: =SUM(K19,L19,M19,N19,O19,P19) -> 78 | S19: 30 | T19: 28 | U19: 26 | V19: 28 | Z19: 3 | AA19: =SUM(T19,U19,V19,W19,X19,Y19) -> 82 | AB19: 30 | AC19: 29 | AD19: 16 | AE19: 29 | AI19: 3 | AJ19: =SUM(AC19,AD19,AE19,AF19,AH19) -> 74 | AK19: 30 | AL19: =SUM(H19,Q19,Z19,AI19) -> 12 | AM19: =SUM(I19,R19,AA19,AJ19) -> 313 | AN19: =SUM(J19,S19,AB19,AK19) -> 120 | AO19: 4 | AP19: 4
A20: Коломийський ліцей №9 | B20: 28 | C20: 28 | D20: 25 | E20: 28 | H20: 4 | I20: =SUM(B20,C20,D20,E20,F20,G20) -> 109 | J20: 60 | K20: 30 | L20: 30 | M20: 30 | Q20: 3 | R20: =SUM(K20,L20,M20,N20,O20,P20) -> 90 | S20: 60 | T20: 30 | U20: 29 | V20: 30 | W20: 28 | Z20: 4 | AA20: =SUM(T20,U20,V20,W20,X20,Y20) -> 117 | AB20: 60 | AC20: 29 | AD20: 28 | AE20: 29 | AF20: 24 | AI20: 4 | AJ20: =SUM(AC20,AD20,AE20,AF20,AH20) -> 110 | AK20: 60 | AL20: =SUM(H20,Q20,Z20,AI20) -> 15 | AM20: =SUM(I20,R20,AA20,AJ20) -> 426 | AN20: =SUM(J20,S20,AB20,AK20) -> 240 | AO20: 8 | AP20: 6
A21: Коломийська гімназія №10 | B21: 18 | C21: 18 | H21: 2 | I21: =SUM(B21,C21,D21,E21,F21,G21) -> 36 | J21: 15 | K21: 27 | Q21: 1 | R21: =SUM(K21,L21,M21,N21,O21,P21) -> 27 | S21: 15 | T21: 21 | U21: 17 | Z21: 2 | AA21: =SUM(T21,U21,V21,W21,X21,Y21) -> 38 | AB21: 15 | AC21: 26 | AI21: 1 | AJ21: =SUM(AC21,AD21,AE21,AF21,AH21) -> 26 | AK21: 15 | AL21: =SUM(H21,Q21,Z21,AI21) -> 6 | AM21: =SUM(I21,R21,AA21,AJ21) -> 127 | AN21: =SUM(J21,S21,AB21,AK21) -> 60 | AO21: 2 | AP21: 2
A22: Коломийський ліцей імені М.Грушевського | I22: =SUM(B22,C22,D22,E22,F22,G22) -> 0 | R22: =SUM(K22,L22,M22,N22,O22,P22) -> 0 | AA22: =SUM(T22,U22,V22,W22,X22,Y22) -> 0 | AJ22: =SUM(AC22,AD22,AE22,AF22,AH22) -> 0 | AN22: =SUM(J22,S22,AB22,AK22) -> 0
A23: Коломийська початкова школа №20 | B23: 20 | H23: 1 | I23: =SUM(B23,C23,D23,E23,F23,G23) -> 20 | J23: 15 | K23: 27 | Q23: 1 | R23: =SUM(K23,L23,M23,N23,O23,P23) -> 27 | S23: 15 | T23: 20 | Z23: 1 | AA23: =SUM(T23,U23,V23,W23,X23,Y23) -> 20 | AB23: 15 | AC23: 29 | AI23: 1 | AJ23: =SUM(AC23,AD23,AE23,AF23,AH23) -> 29 | AK23: 15 | AL23: =SUM(H23,Q23,Z23,AI23) -> 4 | AM23: =SUM(I23,R23,AA23,AJ23) -> 96 | AN23: =SUM(J23,S23,AB23,AK23) -> 60 | AO23: 2 | AP23: 1.5
A24: Воскресинцівський ліцей | B24: 14 | H24: 1 | I24: =SUM(B24,C24,D24,E24,F24,G24) -> 14 | K24: 19 | Q24: 1 | R24: =SUM(K24,L24,M24,N24,O24,P24) -> 19 | S24: 14 | T24: 18 | Z24: 1 | AA24: =SUM(T24,U24,V24,W24,X24,Y24) -> 18 | AB24: 16 | AC24: 9 | AI24: 1 | AJ24: =SUM(AC24,AD24,AE24,AF24,AH24) -> 9 | AL24: =SUM(H24,Q24,Z24,AI24) -> 4 | AM24: =SUM(I24,R24,AA24,AJ24) -> 60 | AN24: =SUM(J24,S24,AB24,AK24) -> 30 | AO24: 1 | AP24: 0.75
A25: Іванівецька гімназія | B25: 16 | H25: 1 | I25: =SUM(B25,C25,D25,E25,F25,G25) -> 16 | J25: 15 | K25: 13 | Q25: 1 | R25: =SUM(K25,L25,M25,N25,O25,P25) -> 13 | S25: 12 | T25: 16 | Z25: 1 | AA25: =SUM(T25,U25,V25,W25,X25,Y25) -> 16 | AB25: 15 | AC25: 19 | AI25: 1 | AJ25: =SUM(AC25,AD25,AE25,AF25,AH25) -> 19 | AK25: 18 | AL25: =SUM(H25,Q25,Z25,AI25) -> 4 | AM25: =SUM(I25,R25,AA25,AJ25) -> 64 | AN25: =SUM(J25,S25,AB25,AK25) -> 60 | AO25: 2 | AP25: 1
A26: Саджавський ліцей | B26: 17 | C26: 18 | H26: 2 | I26: =SUM(B26,C26,D26,E26,F26,G26) -> 35 | K26: 21 | L26: 20 | Q26: 2 | R26: =SUM(K26,L26,M26,N26,O26,P26) -> 41 | T26: 20 | U26: 21 | Z26: 2 | AA26: =SUM(T26,U26,V26,W26,X26,Y26) -> 41 | AB26: 15 | AC26: 24 | AD26: 25 | AI26: 2 | AJ26: =SUM(AC26,AD26,AE26,AF26,AH26) -> 49 | AK26: 15 | AL26: =SUM(H26,Q26,Z26,AI26) -> 8 | AM26: =SUM(I26,R26,AA26,AJ26) -> 166 | AN26: =SUM(J26,S26,AB26,AK26) -> 30 | AO26: 1 | AP26: 1
A27: Товмачицький ліцей | B27: 15 | H27: 1 | I27: =SUM(B27,C27,D27,E27,F27,G27) -> 15 | K27: 21 | Q27: 1 | R27: =SUM(K27,L27,M27,N27,O27,P27) -> 21 | T27: 16 | Z27: 1 | AA27: =SUM(T27,U27,V27,W27,X27,Y27) -> 16 | AB27: 10 | AC27: 27 | AI27: 1 | AJ27: =SUM(AC27,AD27,AE27,AF27,AH27) -> 27 | AK27: 20 | AL27: =SUM(H27,Q27,Z27,AI27) -> 4 | AM27: =SUM(I27,R27,AA27,AJ27) -> 79 | AN27: =SUM(J27,S27,AB27,AK27) -> 30 | AO27: 1 | AP27: 0.75
A28: З них вечірні класи | I28: =SUM(B28,C28,D28,E28,F28,G28) -> 0 | R28: =SUM(K28,L28,M28,N28,O28,P28) -> 0 | AA28: =SUM(T28,U28,V28,W28,X28,Y28) -> 0 | AJ28: =SUM(AC28,AD28,AE28,AF28,AH28) -> 0 | AN28: =SUM(J28,S28,AB28,AK28) -> 0
A29: Шепарівцівська гімназія | B29: 12 | H29: 1 | I29: =SUM(B29,C29,D29,E29,F29,G29) -> 12 | K29: 10 | Q29: 1 | R29: =SUM(K29,L29,M29,N29,O29,P29) -> 10 | T29: 11 | Z29: 1 | AA29: =SUM(T29,U29,V29,W29,X29,Y29) -> 11 | AC29: 7 | AI29: 1 | AJ29: =SUM(AC29,AD29,AE29,AF29,AH29) -> 7 | AL29: =SUM(H29,Q29,Z29,AI29) -> 4 | AM29: =SUM(I29,R29,AA29,AJ29) -> 40 | AN29: =SUM(J29,S29,AB29,AK29) -> 0
A30: Всього: | B30: =SUM(B12:B29) -> 346 | C30: =SUM(C12:C29) -> 236 | D30: =SUM(D12:D29) -> 155 | E30: =SUM(E12:E29) -> 76 | F30: =SUM(F12:F29) -> 25 | G30: =SUM(G12:G29) -> 28 | H30: =SUM(H12:H29) -> 37 | I30: =SUM(I12:I29) -> 866 | ... AP30: =SUM(AP12:AP29) -> 43.5
A32: З них інклюзивне навчання у:
A33: Коломийський ліцей №1 імені В. Стефаника
A34: Коломийський ліцей №2 | B34: 1 | H34: 1 | I34: =SUM(B34:G34) -> 1 | K34: 2 | M34: 1 | Q34: 2 | R34: =SUM(K34:P34) -> 3 | AL34: =SUM(H34,Q34,Z34,AI34) -> 3 | AM34: =SUM(I34,R34,AA34,AJ34) -> 4
A35: Коломийський ліцей №3 | AC35: 2 | AI35: 1 | AJ35: =SUM(AC35:AH35) -> 2 | AL35: =SUM(H35,Q35,Z35,AI35) -> 1 | AM35: =SUM(I35,R35,AA35,AJ35) -> 2
A36: Коломийський ліцей №4 імені Сергія Лисенка | F36: 1 | H36: 1 | I36: =SUM(B36:G36) -> 1 | N36: 1 | O36: 1 | Q36: 2 | R36: =SUM(K36:P36) -> 2 | V36: 1 | Z36: 1 | AA36: =SUM(T36:Y36) -> 1 | AL36: =SUM(H36,Q36,Z36,AI36) -> 4 | AM36: =SUM(I36,R36,AA36,AJ36) -> 4
A37: Коломийський ліцей №5 імені Т.Г.Шевченка | C37: 1 | D37: 1 | H37: 2 | I37: =SUM(B37:G37) -> 2 | L37: 1 | M37: 1 | Q37: 2 | R37: =SUM(K37:P37) -> 2 | T37: 1 | V37: 1 | Z37: 2 | AA37: =SUM(T37:Y37) -> 2 | AL37: =SUM(H37,Q37,Z37,AI37) -> 6 | AM37: =SUM(I37,R37,AA37,AJ37) -> 6
A38: Коломийський ліцей №6 імені Героя України Тараса Сенюка | C38: 1 | D38: 1 | H38: 2 | I38: =SUM(B38:G38) -> 2 | M38: 1 | Q38: 1 | R38: =SUM(K38:P38) -> 1 | AE38: 1 | AI38: 1 | AJ38: =SUM(AC38:AH38) -> 1 | AL38: =SUM(H38,Q38,Z38,AI38) -> 4 | AM38: =SUM(I38,R38,AA38,AJ38) -> 4
A39: Коломийська гімназія №7 | T39: 1 | Z39: 1 | AA39: =SUM(T39:Y39) -> 1 | AC39: 1 | AI39: 1 | AJ39: =SUM(AC39:AH39) -> 1 | AL39: =SUM(H39,Q39,Z39,AI39) -> 2 | AM39: =SUM(I39,R39,AA39,AJ39) -> 2
A40: Коломийський ліцей №8 | C40: 1 | H40: 1 | I40: =SUM(B40:G40) -> 1 | K40: 1 | Q40: 1 | R40: =SUM(K40:P40) -> 1 | AL40: =SUM(H40,Q40,Z40,AI40) -> 2 | AM40: =SUM(I40,R40,AA40,AJ40) -> 2
A41: Коломийський ліцей №9 | AF41: 1 | AI41: 1 | AJ41: 1 | AL41: 1 | AM41: 1
A42: Коломийська гімназія №10 | T42: 1 | U42: 1 | Z42: 2 | AA42: =SUM(T42:Y42) -> 2 | AC42: 1 | AI42: 1 | AJ42: =SUM(AC42:AH42) -> 1 | AL42: =SUM(H42,Q42,Z42,AI42) -> 3 | AM42: =SUM(I42,R42,AA42,AJ42) -> 3
A43: Саджавський ліцей | B43: 1 | H43: 1 | I43: 1 | K43: 1 | Q43: 1 | R43: =SUM(K43:P43) -> 1 | AL43: =SUM(H43,Q43,Z43,AI43) -> 2 | AM43: =SUM(I43,R43,AA43,AJ43) -> 2
A44: Товмачицький ліцей | AC44: 3 | AI44: 1 | AJ44: =SUM(AC44:AH44) -> 3 | AL44: =SUM(H44,Q44,Z44,AI44) -> 1 | AM44: =SUM(I44,R44,AA44,AJ44) -> 3
A45: Шепарівцівська гімназія | T45: 2 | Z45: 1 | AA45: =SUM(T45:Y45) -> 2 | AL45: =SUM(H45,Q45,Z45,AI45) -> 1 | AM45: =SUM(I45,R45,AA45,AJ45) -> 2
A46: Всього: | H46: =SUM(H33:H45) -> 8 | I46: =SUM(I33:I45) -> 8 | Q46: =SUM(Q33:Q45) -> 9 | R46: =SUM(R33:R45) -> 10 | Z46: =SUM(Z33:Z45) -> 7 | AA46: =SUM(AA33:AA45) -> 8 | AI46: =SUM(AI33:AI45) -> 6 | AJ46: =SUM(AJ33:AJ45) -> 9 | AL46: =SUM(AL33:AL45) -> 30 | AM46: =SUM(AM33:AM45) -> 35
...

Sheet 5-9
AB3: Продовження додатка 1
AB4: до рішення виконавчого комітету
AB5: від 08.09.2020 р. № 158
B7: Фактична мережа закладів загальної середньої освіти
B8: на 2020/2021 навчальний рік
A11: Заклади загальної середньої освіти | B11: 5-А | C11: 5-Б | D11: 5-В | E11: 5-Г | F11: 5-Д | G11: к-сть класів | H11: к-сть учнів | I11: 6-А | J11: 6-Б | K11: 6-В | L11: 6-Г | M11: 6-Д | N11: к-сть класів | O11: к-сть учнів | P11: 7-А | Q11: 7-Б | R11: 7-В | S11: 7-Г | T11: к-сть класів | U11: к-сть учнів | V11: 8-А | W11: 8-Б | X11: 8-В | Y11: 8-Г | Z11: к-сть класів | AA11: к-сть учнів | AB11: 9-А | AC11: 9-Б | AD11: 9-В | AE11: 9-Г | AF11: к-сть класів | AG11: к-сть учнів | AH11: к-сть 5-9 класів | AI11: к-сть учнів у 5-9 кл.
A12: Коломийський ліцей №1 імені В.Стефаника | B12: 28 | C12: 28 | D12: 25 | E12: 28 | F12: 17 | G12: 5 | H12: =SUM(B12:F12) -> 126 | I12: 32 | J12: 29 | K12: 33 | L12: 29 | M12: 29 | N12: 5 | O12: =SUM(I12:M12) -> 152 | P12: 32 | Q12: 30 | R12: 34 | S12: 31 | T12: 4 | U12: =SUM(P12:S12) -> 127 | V12: 30 | W12: 29 | X12: 28 | Y12: 29 | Z12: 4 | AA12: =SUM(V12:Y12) -> 116 | AB12: 29 | AC12: 23 | AD12: 29 | AF12: 3 | AG12: =SUM(AB12:AD12) -> 81 | AH12: =SUM(G12,N12,T12,Z12,AF12) -> 21 | AI12: =SUM(H12,O12,U12,AA12,AG12) -> 602
A13: Коломийський ліцей №2 | B13: 30 | C13: 25 | G13: 2 | H13: =SUM(B13:F13) -> 55 | I13: 28 | J13: 26 | K13: 24 | N13: 3 | O13: =SUM(I13:M13) -> 78 | P13: 27 | Q13: 25 | T13: 2 | U13: =SUM(P13:S13) -> 52 | V13: 30 | W13: 32 | Z13: 2 | AA13: =SUM(V13:Y13) -> 62 | AB13: 26 | AC13: 27 | AF13: 2 | AG13: =SUM(AB13:AD13) -> 53 | AH13: =SUM(G13,N13,T13,Z13,AF13) -> 11 | AI13: =SUM(H13,O13,U13,AA13,AG13) -> 300
A14: Коломийський ліцей №3 | B14: 19 | C14: 19 | G14: 2 | H14: =SUM(B14:F14) -> 38 | I14: 24 | J14: 21 | N14: 2 | O14: =SUM(I14:M14) -> 45 | P14: 33 | T14: 1 | U14: =SUM(P14:S14) -> 33 | V14: 18 | W14: 17 | Z14: 2 | AA14: =SUM(V14:Y14) -> 35 | AB14: 17 | AC14: 20 | AF14: 2 | AG14: =SUM(AB14:AD14) -> 37 | AH14: =SUM(G14,N14,T14,Z14,AF14) -> 9 | AI14: =SUM(H14,O14,U14,AA14,AG14) -> 188
A15: Коломийський ліцей №4 імені Сергія Лисенка | B15: 29 | C15: 30 | D15: 33 | E15: 27 | F15: 19 | G15: 5 | H15: =SUM(B15:F15) -> 138 | I15: 30 | J15: 30 | K15: 31 | L15: 31 | N15: 4 | O15: =SUM(I15:M15) -> 122 | P15: 29 | Q15: 30 | R15: 27 | S15: 30 | T15: 4 | U15: =SUM(P15:S15) -> 116 | V15: 29 | W15: 28 | X15: 30 | Y15: 27 | Z15: 4 | AA15: =SUM(V15:Y15) -> 114 | AB15: 30 | AC15: 30 | AD15: 25 | AE15: 21 | AF15: 4 | AG15: =SUM(AB15:AE15) -> 106 | AH15: =SUM(G15,N15,T15,Z15,AF15) -> 21 | AI15: =SUM(H15,O15,U15,AA15,AG15) -> 596
A16: Коломийський ліцей №5 імені Т.Г.Шевченка | B16: 26 | C16: 23 | D16: 16 | G16: 3 | H16: =SUM(B16:F16) -> 65 | I16: 32 | J16: 32 | N16: 2 | O16: =SUM(I16:M16) -> 64 | P16: 19 | Q16: 20 | T16: 2 | U16: =SUM(P16:S16) -> 39 | V16: 26 | W16: 24 | Z16: 2 | AA16: =SUM(V16:Y16) -> 50 | AB16: 21 | AC16: 29 | AF16: 2 | AG16: =SUM(AB16:AD16) -> 50 | AH16: =SUM(G16,N16,T16,Z16,AF16) -> 11 | AI16: =SUM(H16,O16,U16,AA16,AG16) -> 268
A17: Коломийський ліцей №6 імені Героя України Тараса Сенюка | B17: 28 | C17: 28 | G17: 2 | H17: =SUM(B17:F17) -> 56 | I17: 27 | J17: 27 | K17: 19 | N17: 3 | O17: =SUM(I17:M17) -> 73 | P17: 21 | Q17: 21 | R17: 21 | T17: 3 | U17: =SUM(P17:S17) -> 63 | V17: 26 | W17: 22 | Z17: 2 | AA17: =SUM(V17:Y17) -> 48 | AB17: 26 | AC17: 19 | AF17: 2 | AG17: =SUM(AB17:AD17) -> 45 | AH17: =SUM(G17,N17,T17,Z17,AF17) -> 12 | AI17: =SUM(H17,O17,U17,AA17,AG17) -> 285
A18: Коломийська гімназія №7 | B18: 23 | G18: 1 | H18: =SUM(B18:F18) -> 23 | I18: 32 | N18: 1 | O18: =SUM(I18:M18) -> 32 | P18: 28 | T18: 1 | U18: =SUM(P18:S18) -> 28 | V18: 22 | Z18: 1 | AA18: =SUM(V18:Y18) -> 22 | AB18: 23 | AF18: 1 | AG18: =SUM(AB18:AD18) -> 23 | AH18: =SUM(G18,N18,T18,Z18,AF18) -> 5 | AI18: =SUM(H18,O18,U18,AA18,AG18) -> 128
A19: Коломийський ліцей №8 | B19: 28 | C19: 28 | D19: 28 | G19: 3 | H19: =SUM(B19:F19) -> 84 | I19: 29 | J19: 28 | K19: 28 | N19: 3 | O19: =SUM(I19:M19) -> 85 | P19: 31 | Q19: 30 | R19: 29 | T19: 3 | U19: =SUM(P19:S19) -> 90 | V19: 28 | W19: 30 | X19: 29 | Z19: 3 | AA19: =SUM(V19:Y19) -> 87 | AB19: 20 | AC19: 22 | AD19: 20 | AF19: 3 | AG19: =SUM(AB19:AD19) -> 62 | AH19: =SUM(G19,N19,T19,Z19,AF19) -> 15 | AI19: =SUM(H19,O19,U19,AA19,AG19) -> 408
A20: Коломийський ліцей №9 | B20: 30 | C20: 30 | D20: 28 | E20: 28 | G20: 4 | H20: =SUM(B20:F20) -> 116 | I20: 28 | J20: 29 | K20: 28 | N20: 3 | O20: =SUM(I20:M20) -> 85 | P20: 25 | Q20: 29 | R20: 28 | S20: 29 | T20: 4 | U20: =SUM(P20:S20) -> 111 | V20: 23 | W20: 21 | X20: 22 | Y20: 20 | Z20: 4 | AA20: =SUM(V20:Y20) -> 86 | AB20: 20 | AC20: 20 | AD20: 28 | AF20: 3 | AG20: =SUM(AB20:AD20) -> 68 | AH20: =SUM(G20,N20,T20,Z20,AF20) -> 18 | AI20: =SUM(H20,O20,U20,AA20,AG20) -> 466
A21: Коломийська гімназія №10 | B21: 31 | G21: 1 | H21: =SUM(B21:F21) -> 31 | I21: 27 | N21: 1 | O21: =SUM(I21:M21) -> 27 | P21: 18 | Q21: 18 | T21: 2 | U21: =SUM(P21:S21) -> 36 | V21: 21 | W21: 15 | Z21: 2 | AA21: =SUM(V21:Y21) -> 36 | AB21: 23 | AF21: 1 | AG21: =SUM(AB21:AD21) -> 23 | AH21: =SUM(G21,N21,T21,Z21,AF21) -> 7 | AI21: =SUM(H21,O21,U21,AA21,AG21) -> 153
A22: Коломийський ліцей імені М.Грушевського | B22: 28 | C22: 28 | G22: 2 | H22: =SUM(B22:F22) -> 56 | I22: 30 | J22: 30 | N22: 2 | O22: =SUM(I22:M22) -> 60 | P22: 29 | Q22: 30 | T22: 2 | U22: =SUM(P22:S22) -> 59 | V22: 35 | W22: 35 | Z22: 2 | AA22: =SUM(V22:Y22) -> 70 | AB22: 31 | AC22: 31 | AF22: 2 | AG22: =SUM(AB22:AD22) -> 62 | AH22: =SUM(G22,N22,T22,Z22,AF22) -> 10 | AI22: =SUM(H22,O22,U22,AA22,AG22) -> 307
A23: Коломийська початкова школа №20
A24: Воскресинцівський ліцей | B24: 19 | G24: 1 | H24: =SUM(B24:F24) -> 19 | I24: 20 | N24: 1 | O24: =SUM(I24:M24) -> 20 | P24: 17 | T24: 1 | U24: =SUM(P24:S24) -> 17 | V24: 11 | Z24: 1 | AA24: =SUM(V24:Y24) -> 11 | AB24: 14 | AF24: 1 | AG24: =SUM(AB24:AD24) -> 14 | AH24: =SUM(G24,N24,T24,Z24,AF24) -> 5 | AI24: =SUM(H24,O24,U24,AA24,AG24) -> 81
A25: Іванівецька гімназія | B25: 13 | G25: 1 | H25: =SUM(B25:F25) -> 13 | I25: 20 | N25: 1 | O25: =SUM(I25:M25) -> 20 | P25: 12 | T25: 1 | U25: =SUM(P25:S25) -> 12 | V25: 12 | Z25: 1 | AA25: =SUM(V25:Y25) -> 12 | AB25: 19 | AF25: 1 | AG25: =SUM(AB25:AD25) -> 19 | AH25: =SUM(G25,N25,T25,Z25,AF25) -> 5 | AI25: =SUM(H25,O25,U25,AA25,AG25) -> 76
A26: Саджавський ліцей | B26: 21 | C26: 21 | D26: 21 | G26: 3 | H26: =SUM(B26:F26) -> 63 | I26: 21 | J26: 23 | N26: 2 | O26: =SUM(I26:M26) -> 44 | P26: 18 | Q26: 19 | T26: 2 | U26: =SUM(P26:S26) -> 37 | V26: 22 | W26: 21 | Z26: 2 | AA26: =SUM(V26:Y26) -> 43 | AB26: 19 | AC26: 22 | AF26: 2 | AG26: =SUM(AB26:AD26) -> 41 | AH26: =SUM(G26,N26,T26,Z26,AF26) -> 11 | AI26: =SUM(H26,O26,U26,AA26,AG26) -> 228
A27: Товмачицький ліцей | B27: 13 | G27: 1 | H27: =SUM(B27:F27) -> 13 | I27: 19 | N27: 1 | O27: =SUM(I27:M27) -> 19 | P27: 15 | T27: 1 | U27: =SUM(P27:S27) -> 15 | V27: 10 | Z27: 1 | AA27: =SUM(V27:Y27) -> 10 | AB27: 18 | AF27: 1 | AG27: =SUM(AB27:AD27) -> 18 | AH27: =SUM(G27,N27,T27,Z27,AF27) -> 5 | AI27: =SUM(H27,O27,U27,AA27,AG27) -> 75
A28: З них вечірні класи | I28: 6 | N28: 1 | O28: =SUM(I28:M28) -> 6 | AH28: =SUM(G28,N28,T28,Z28,AF28) -> 1 | AI28: =SUM(H28,O28,U28,AA28,AG28) -> 6
A29: Шепарівцівська гімназія | B29: 11 | G29: 1 | H29: =SUM(B29:F29) -> 11 | I29: 13 | N29: 1 | O29: =SUM(I29:M29) -> 13 | P29: 11 | T29: 1 | U29: =SUM(P29:S29) -> 11 | V29: 18 | Z29: 1 | AA29: =SUM(V29:Y29) -> 18 | AB29: 12 | AF29: 1 | AG29: =SUM(AB29:AD29) -> 12 | AH29: =SUM(G29,N29,T29,Z29,AF29) -> 5 | AI29: =SUM(H29,O29,U29,AA29,AG29) -> 65
A30: Всього: | B30: =SUM(B12:B29) -> 377 | C30: =SUM(C12:C29) -> 260 | D30: =SUM(D12:D29) -> 151 | E30: =SUM(E12:E29) -> 83 | F30: =SUM(F12:F29) -> 36 | G30: =SUM(G12:G29) -> 37 | H30: =SUM(H12:H29) -> 907 | I30: =SUM(I12:I29) -> 418 | ... L30: =SUM(L12:L29) -> 60 | N30: =SUM(N12:N29) -> 36 | O30: =SUM(O12:O29) -> 945 | P30: =SUM(P12:P29) -> 365 | Q30: =SUM(Q12:Q29) -> 252 | R30: =SUM(R12:R29) -> 139 | S30: =SUM(S12:S29) -> 90 | T30: =SUM(T12:T29) -> 34 | U30: =SUM(U12:U29) -> 846 | ... AI30: =SUM(AI12:AI29) -> 4232
A32: З них інклюзивне навчання у:
A33: Коломийський ліцей №1 імені В.Стефаника | H33: =SUM(F33) -> 0 | M33: 1 | N33: 1 | O33: =SUM(M33) -> 1 | U33: =SUM(P33:S33) -> 0 | AA33: =SUM(Y33) -> 0 | AG33: =SUM(AE33) -> 0 | AH33: =SUM(G33,T33,Z33,AF33) -> 0 | AI33: =SUM(H33,U33,AA33,AG33) -> 0
A34: Коломийський ліцей №3 | B34: 1 | G34: 1 | H34: =SUM(B34:F34) -> 1 | O34: =SUM(M34) -> 0 | P34: 1 | T34: 1 | U34: =SUM(P34:S34) -> 1 | AA34: =SUM(Y34) -> 0 | AG34: =SUM(AE34) -> 0 | AH34: =SUM(G34,T34,Z34,AF34) -> 2 | AI34: =SUM(H34,U34,AA34,AG34) -> 2
A35: Коломийський ліцей №5 імені Т.Г.Шевченка | D35: 1 | G35: 1 | H35: =SUM(B35:F35) -> 1 | J35: 1 | N35: 1 | O35: =SUM(I35:M35) -> 1 | Q35: 1 | T35: 1 | U35: =SUM(P35:S35) -> 1 | AA35: =SUM(Y35) -> 0 | AG35: =SUM(AE35) -> 0 | AH35: =SUM(G35,N35,T35,Z35) -> 3 | AI35: =SUM(H35,O35,AA35,U35) -> 3
A36: Коломийська гімназія №7 | B36: 1 | G36: 1 | H36: =SUM(B36:F36) -> 1 | O36: =SUM(M36) -> 0 | P36: 1 | T36: 1 | U36: =SUM(P36:S36) -> 1 | AA36: =SUM(Y36) -> 0 | AG36: =SUM(AE36) -> 0 | AH36: =SUM(G36,T36,Z36,AF36) -> 2 | AI36: =SUM(H36,U36,AA36,AG36) -> 2
A37: Коломийський ліцей №8 | D37: 1 | G37: 1 | H37: =SUM(B37:F37) -> 1 | K37: 1 | N37: 1 | O37: =SUM(I37:M37) -> 1 | R37: 1 | T37: 1 | U37: =SUM(P37:S37) -> 1 | AA37: =SUM(Y37) -> 0 | AG37: =SUM(AE37) -> 0 | AH37: =SUM(G37,N37,T37,AF37) -> 3 | AI37: =SUM(H37,O37,U37,AA37) -> 3
A38: Коломийський ліцей №9 | D38: 1 | G38: 1 | H38: =SUM(B38:F38) -> 1 | AH38: =SUM(G38,T38,Z38,AF38) -> 1 | AI38: =SUM(H38,U38,AA38,AG38) -> 1
A39: Коломийська гімназія №10 | B39: 1 | G39: 1 | H39: =SUM(B39:F39) -> 1 | O39: =SUM(M39) -> 0 | P39: 1 | T39: 1 | U39: =SUM(P39:S39) -> 1 | V39: 1 | W39: 1 | Z39: 2 | AA39: =SUM(V39:Y39) -> 2 | AG39: =SUM(AE39) -> 0 | AH39: =SUM(G39,T39,Z39,AF39) -> 4 | AI39: =SUM(H39,U39,AA39,AG39) -> 4
A40: Всього: | B40: =SUM(B33:B39) -> 3 | C40: =SUM(C33:C39) -> 0 | D40: =SUM(D33:D39) -> 3 | E40: =SUM(E33:E39) -> 0 | F40: =SUM(F33:F39) -> 0 | G40: =SUM(G33:G39) -> 6 | H40: =SUM(H33:H39) -> 6 | I40: =SUM(I33:I39) -> 0 | ... AI40: =SUM(AI33:AI39) -> 15
A43: Керуючий справами виконавчого комітету | AB43: Тарас КУХТАР

Sheet 10-12
S3: Продовження додатка 1
S4: до рішення виконавчого комітету
S5: від 08.09.2020 р. № 158
B8: Фактична мережа закладів загальної середньої освіти
B9: на 2020/2021 навчальний рік
A12: Заклади загальної середньої освіти | B12: 10-А | C12: 10-Б | D12: 10-В | E12: к-сть класів | F12: к-сть учнів | G12: 11-А | H12: 11-Б | I12: 11-В | J12: к-сть класів | K12: к-сть учнів | L12: 12 | M12: к-сть класів | N12: к-сть учнів | O12: к-сть 10-12 класів | P12: к-сть учнів 10-12 класах | Q12: к-сть 1-12 класів | R12: к-сть учнів у 1-12кл. | U12: Наповнюваність
U13: І-ІV | V13: V-IX | W13: X-XII | X13: I-XII
A14: Коломийський ліцей №1 імені В.Стефаника | B14: 25 | C14: 24 | D14: 23 | E14: 3 | F14: =SUM(B14,C14,D14) -> 72 | G14: 22 | H14: 19 | I14: 25 | J14: 3 | K14: =SUM(G14,H14,I14) -> 66 | O14: =SUM(E14,J14) -> 6 | P14: =SUM(F14,K14) -> 138 | Q14: =SUM(O14,'5-9'!AH12,'1-4'!AL12) -> 46 | R14: =SUM('1-4'!AM12,'5-9'!AI12,P14) -> 1283 | U14: ='1-4'!AM12/'1-4'!AL12 -> 28.578947 | V14: ='5-9'!AI12/'5-9'!AH12 -> 28.666667 | W14: =P14/O14 -> 23 | X14: =R14/Q14 -> 27.891304
A15: Коломийський ліцей №2 | B15: 20 | E15: 1 | F15: =SUM(B15,C15,D15) -> 20 | G15: 17 | J15: 1 | K15: =SUM(G15,H15,I15) -> 17 | O15: =SUM(E15,J15) -> 2 | P15: =SUM(F15,K15) -> 37 | Q15: =SUM('1-4'!AL13,'5-9'!AH13,O15) -> 23 | R15: =SUM('1-4'!AM13,'5-9'!AI13,P15) -> 613 | U15: ='1-4'!AM13/'1-4'!AL13 -> 27.6 | V15: ='5-9'!AI13/'5-9'!AH13 -> 27.272727 | W15: =P15/O15 -> 18.5 | X15: =R15/Q15 -> 26.652174
A16: Коломийський ліцей №3 | B16: 19 | E16: 1 | F16: =SUM(B16,C16,D16) -> 19 | G16: 28 | J16: 1 | K16: =SUM(G16,H16,I16) -> 28 | O16: =SUM(E16,J16) -> 2 | P16: =SUM(F16,K16) -> 47 | Q16: =SUM('1-4'!AL14,'5-9'!AH14,O16) -> 15 | R16: =SUM('1-4'!AM14,'5-9'!AI14,P16) -> 346 | U16: ='1-4'!AM14/'1-4'!AL14 -> 27.75 | V16: ='5-9'!AI14/'5-9'!AH14 -> 20.888889 | W16: =P16/O16 -> 23.5 | X16: =R16/Q16 -> 23.066667
A17: Коломийський ліцей №4 імені Сергія Лисенка | B17: 28 | C17: 24 | E17: 2 | F17: =SUM(B17,C17,D17) -> 52 | G17: 25 | H17: 24 | I17: 25 | J17: 3 | K17: =SUM(G17,H17,I17) -> 74 | O17: =SUM(E17,J17) -> 5 | P17: =SUM(F17,K17) -> 126 | Q17: =SUM('1-4'!AL15,'5-9'!AH15,O17) -> 46 | R17: =SUM('1-4'!AM15,'5-9'!AI15,P17) -> 1283 | U17: ='1-4'!AM15/'1-4'!AL15 -> 28.05 | V17: ='5-9'!AI15/'5-9'!AH15 -> 28.380952 | W17: =P17/O17 -> 25.2 | X17: =R17/Q17 -> 27.891304
A18: Коломийський ліцей №5 імені Т.Г.Шевченка | B18: 16 | C18: 20 | E18: 2 | F18: =SUM(B18,C18,D18) -> 36 | G18: 23 | J18: 1 | K18: =SUM(G18,H18,I18) -> 23 | O18: =SUM(E18,J18) -> 3 | P18: =SUM(F18,K18) -> 59 | Q18: =SUM('1-4'!AL16,'5-9'!AH16,O18) -> 26 | R18: =SUM('1-4'!AM16,'5-9'!AI16,P18) -> 643 | U18: ='1-4'!AM16/'1-4'!AL16 -> 26.333333 | V18: ='5-9'!AI16/'5-9'!AH16 -> 24.363636 | W18: =P18/O18 -> 19.666667 | X18: =R18/Q18 -> 24.730769
A19: Коломийський ліцей №6 імені Героя України Тараса Сенюка | B19: 20 | E19: 1 | F19: =SUM(B19,C19,D19) -> 20 | G19: 30 | J19: 1 | K19: =SUM(G19,H19,I19) -> 30 | O19: =SUM(E19,J19) -> 2 | P19: =SUM(F19,K19) -> 50 | Q19: =SUM('1-4'!AL17,'5-9'!AH17,O19) -> 26 | R19: =SUM('1-4'!AM17,'5-9'!AI17,P19) -> 620 | U19: ='1-4'!AM17/'1-4'!AL17 -> 23.75 | V19: ='5-9'!AI17/'5-9'!AH17 -> 23.75 | W19: =P19/O19 -> 25 | X19: =R19/Q19 -> 23.846154
A20: Коломийська гімназія №7 | Q20: =SUM('1-4'!AL18,'5-9'!AH18,O20) -> 11 | R20: =SUM('1-4'!AM18,'5-9'!AI18,P20) -> 270 | U20: ='1-4'!AM18/'1-4'!AL18 -> 23.666667 | V20: ='5-9'!AI18/'5-9'!AH18 -> 25.6 | X20: =R20/Q20 -> 24.545455
A21: Коломийський ліцей №8 | B21: 19 | C21: 18 | E21: 2 | F21: =SUM(B21,C21,D21) -> 37 | G21: 17 | H21: 17 | J21: 2 | K21: =SUM(G21,H21,I21) -> 34 | O21: =SUM(E21,J21) -> 4 | P21: =SUM(F21,K21) -> 71 | Q21: =SUM('1-4'!AL19,'5-9'!AH19,O21) -> 31 | R21: =SUM('1-4'!AM19,'5-9'!AI19,P21) -> 792 | U21: ='1-4'!AM19/'1-4'!AL19 -> 26.083333 | V21: ='5-9'!AI19/'5-9'!AH19 -> 27.2 | W21: =P21/O21 -> 17.75 | X21: =R21/Q21 -> 25.548387
A22: Коломийський ліцей №9 | B22: 18 | C22: 18 | D22: 18 | E22: 3 | F22: =SUM(B22,C22,D22) -> 54 | G22: 22 | H22: 26 | J22: 2 | K22: =SUM(G22,H22,I22) -> 48 | O22: =SUM(E22,J22) -> 5 | P22: =SUM(F22,K22) -> 102 | Q22: =SUM('1-4'!AL20,'5-9'!AH20,O22) -> 38 | R22: =SUM('1-4'!AM20,'5-9'!AI20,P22) -> 994 | U22: ='1-4'!AM20/'1-4'!AL20 -> 28.4 | V22: ='5-9'!AI20/'5-9'!AH20 -> 25.888889 | W22: =P22/O22 -> 20.4 | X22: =R22/Q22 -> 26.157895
A23: Коломийська гімназія №10 | F23: =SUM(B23,C23,D23) -> 0 | K23: =SUM(G23,H23,I23) -> 0 | Q23: =SUM('1-4'!AL21,'5-9'!AH21,O23) -> 13 | R23: =SUM('1-4'!AM21,'5-9'!AI21,P23) -> 280 | U23: ='1-4'!AM21/'1-4'!AL21 -> 21.166667 | V23: ='5-9'!AI21/'5-9'!AH21 -> 21.857143 | X23: =R23/Q23 -> 21.538462
A24: Коломийський ліцей імені М.Грушевського | B24: 28 | C24: 19 | E24: 2 | F24: =SUM(B24,C24,D24) -> 47 | G24: 30 | H24: 29 | J24: 2 | K24: =SUM(G24,H24,I24) -> 59 | O24: =SUM(E24,J24) -> 4 | P24: =SUM(F24,K24) -> 106 | Q24: =SUM('1-4'!AL22,'5-9'!AH22,O24) -> 14 | R24: =SUM('1-4'!AM22,'5-9'!AI22,P24) -> 413 | V24: ='5-9'!AI22/'5-9'!AH22 -> 30.7 | W24: =P24/O24 -> 26.5 | X24: =R24/Q24 -> 29.5
A25: Початкова школа №20 | F25: =SUM(B25,C25,D25) -> 0 | K25: =SUM(G25,H25,I25) -> 0 | Q25: =SUM('1-4'!AL23,'5-9'!AH23,O25) -> 4 | R25: =SUM('1-4'!AM23,'5-9'!AI23,P25) -> 96 | U25: ='1-4'!AM23/'1-4'!AL23 -> 24 | X25: =R25/Q25 -> 24
A26: Воскресинцівський ліцей | F26: =SUM(B26,C26,D26) -> 0 | G26: 7 | J26: 1 | K26: =SUM(G26,H26,I26) -> 7 | O26: =SUM(E26,J26) -> 1 | P26: =SUM(F26,K26) -> 7 | Q26: =SUM('1-4'!AL24,'5-9'!AH24,O26) -> 10 | R26: =SUM('1-4'!AM24,'5-9'!AI24,P26) -> 148 | U26: ='1-4'!AM24/'1-4'!AL24 -> 15 | V26: ='5-9'!AI24/'5-9'!AH24 -> 16.2 | W26: =P26/O26 -> 7 | X26: =R26/Q26 -> 14.8
A27: Іванівецька гімназія | F27: =SUM(B27,C27,D27) -> 0 | K27: =SUM(G27,H27,I27) -> 0 | Q27: =SUM('1-4'!AL25,'5-9'!AH25,O27) -> 9 | R27: =SUM('1-4'!AM25,'5-9'!AI25,P27) -> 140 | U27: ='1-4'!AM25/'1-4'!AL25 -> 16 | V27: ='5-9'!AI25/'5-9'!AH25 -> 15.2 | X27: =R27/Q27 -> 15.555556
A28: Саджавський ліцей | B28: 16 | C28: 17 | E28: 2 | F28: =SUM(B28,C28,D28) -> 33 | G28: 31 | J28: 1 | K28: =SUM(G28,H28,I28) -> 31 | O28: =SUM(E28,J28) -> 3 | P28: =SUM(F28,K28) -> 64 | Q28: =SUM('1-4'!AL26,'5-9'!AH26,O28) -> 22 | R28: =SUM('1-4'!AM26,'5-9'!AI26,P28) -> 458 | U28: ='1-4'!AM26/'1-4'!AL26 -> 20.75 | V28: ='5-9'!AI26/'5-9'!AH26 -> 20.727273 | W28: =P28/O28 -> 21.333333 | X28: =R28/Q28 -> 20.818182
A29: Товмачицький ліцей | B29: 8 | E29: 1 | F29: =SUM(B29,C29,D29) -> 8 | G29: 13 | J29: 1 | K29: =SUM(G29,H29,I29) -> 13 | O29: =SUM(E29,J29) -> 2 | P29: =SUM(F29,K29) -> 21 | Q29: =SUM('1-4'!AL27,'5-9'!AH27,O29) -> 11 | R29: =SUM('1-4'!AM27,'5-9'!AI27,P29) -> 175 | U29: ='1-4'!AM27/'1-4'!AL27 -> 19.75 | V29: ='5-9'!AI27/'5-9'!AH27 -> 15 | W29: =P29/O29 -> 10.5 | X29: =R29/Q29 -> 15.909091
A30: З них вечірні класи | B30: 10 | E30: 1 | F30: =SUM(B30,C30,D30) -> 10 | G30: 18 | J30: 1 | K30: =SUM(G30,H30,I30) -> 18 | L30: 8 | M30: 1 | N30: 8 | O30: =SUM(E30,J30,M30) -> 3 | P30: =SUM(F30,K30,N30) -> 36 | Q30: =SUM('1-4'!AL28,'5-9'!AH28,O30) -> 4 | R30: =SUM('1-4'!AM28,'5-9'!AI28,P30) -> 42 | V30: ='5-9'!AI28/'5-9'!AH28 -> 6 | W30: =P30/O30 -> 12 | X30: =R30/Q30 -> 10.5
A31: Шепарівцівська гімназія | F31: =SUM(B31,C31,D31) -> 0 | K31: =SUM(G31,H31,I31) -> 0 | Q31: =SUM('1-4'!AL29,'5-9'!AH29,O31) -> 9 | R31: =SUM('1-4'!AM29,'5-9'!AI29,P31) -> 105 | U31: ='1-4'!AM29/'1-4'!AL29 -> 10 | V31: ='5-9'!AI29/'5-9'!AH29 -> 13 | X31: =R31/Q31 -> 11.666667
A32: Всього: | B32: =SUM(B14:B31) -> 227 | C32: =SUM(C14:C31) -> 140 | D32: =SUM(D14:D31) -> 41 | E32: =SUM(E14:E31) -> 21 | F32: =SUM(F14:F31) -> 408 | G32: =SUM(G14:G31) -> 283 | H32: =SUM(H14:H31) -> 115 | I32: =SUM(I14:I31) -> 50 | ... R32: =SUM(R14:R31) -> 8701 | U32: ='1-4'!AM30/'1-4'!AL30 -> 25.034722 | V32: ='5-9'!AI30/'5-9'!AH30 -> 24.604651 | W32: =P32/O32 -> 20.571429 | X32: =R32/Q32 -> 24.304469
A38: Керуючий справами виконавчого комітету | S38: Тарас КУХТАР
