Workbook

Sheet 1-4
AJ4: Додаток 1
AJ5: до рішення виконавчого комітету
AJ6: від 26.05.2020 р. № 66
B8: Планова мережа закладів загальної середньої освіти
B9: на 2020/2021 навчальний рік
A11: Заклади загальної середньої освіти | B11: 1-А | C11: 1-Б | D11: 1-В | E11: 1-Г | F11: 1-Д | G11: 1-І | H11: к-сть класів | I11: к-сть учнів | J11: к-ть учнів ГПД | K11: 2-А | L11: 2-Б | M11: 2-В | N11: 2-Г | O11: 2-Д | P11: 2-І | Q11: к-сть класів | R11: к-сть учнів | S11: к-ть учнів ГПД | T11: 3-А | U11: 3-Б | V11: 3-В | W11: 3-Г | X11: 3-Д | Y11: 3-І | Z11: к-сть класів | AA11: к-сть учнів | AB11: к-ть учнів ГПД | AC11: 4-А | AD11: 4-Б | AE11: 4-В | AF11: 4-Г | AG11: 4-Д | AH11: 4-I | AI11: к-сть класів | AJ11: к-сть учнів | AK11: к-ть учнів ГПД | AL11: к-сть 1-4 класів | AM11: к-сть учнів у 1-4 кл. | AN11: ГПД (всього дітей) | AO11: ГПД (всього груп) | AP11: ГПД (всього ставок)
A12: Коломийський ліцей №1 імені В.Стефаника | B12: 28 | C12: 28 | D12: 28 | E12: 28 | G12: 28 | H12: 5 | I12: =SUM(B12,C12,D12,E12,F12,G12) -> 140 | J12: 40 | K12: 30 | L12: 30 | M12: 28 | N12: 30 | P12: 29 | Q12: 5 | R12: =SUM(K12,L12,M12,N12,O12,P12) -> 147 | S12: 40 | T12: 28 | U12: 30 | V12: 31 | W12: 30 | Y12: 29 | Z12: 5 | AA12: =SUM(T12,U12,V12,W12,X12,Y12) -> 148 | AB12: 40 | AC12: 24 | AD12: 32 | AE12: 32 | AH12: 32 | AI12: 4 | AJ12: =SUM(AC12,AD12,AE12,AF12,AH12) -> 120 | AK12: 30 | AL12: =SUM(H12,Q12,Z12,AI12) -> 19 | AM12: =SUM(I12,R12,AA12,AJ12) -> 555 | AN12: 150 | AO12: 5 | AP12: 5
A13: Коломийський ліцей №2 | B13: 28 | C13: 28 | H13: 2 | I13: =SUM(B13,C13,D13,E13,F13,G13) -> 56 | J13: 30 | K13: 30 | L13: 30 | M13: 29 | Q13: 3 | R13: =SUM(K13,L13,M13,N13,O13,P13) -> 89 | S13: 60 | T13: 30 | U13: 31 | Z13: 2 | AA13: =SUM(T13,U13,V13,W13,X13,Y13) -> 61 | AB13: 30 | AC13: 21 | AD13: 26 | AE13: 26 | AI13: 3 | AJ13: =SUM(AC13,AD13,AE13,AF13,AH13) -> 73 | AK13: 30 | AL13: =SUM(H13,Q13,Z13,AI13) -> 10 | AM13: =SUM(I13,R13,AA13,AJ13) -> 279 | AN13: 150 | AO13: 5 | AP13: 4
A14: Коломийський ліцей №3 | B14: 28 | H14: 1 | I14: =SUM(B14,C14,D14,E14,F14,G14) -> 28 | J14: 15 | K14: 28 | Q14: 1 | R14: =SUM(K14,L14,M14,N14,O14,P14) -> 28 | S14: 15 | T14: 29 | Z14: 1 | AA14: =SUM(T14,U14,V14,W14,X14,Y14) -> 29 | AB14: 15 | AC14: 25 | AI14: 1 | AJ14: =SUM(AC14,AD14,AE14,AF14,AH14) -> 25 | AK14: 15 | AL14: =SUM(H14,Q14,Z14,AI14) -> 4 | AM14: =SUM(I14,R14,AA14,AJ14) -> 110 | AN14: 60 | AO14: 2 | AP14: 1.5
A15: Коломийський ліцей №4 імені Сергія Лисенка | B15: 28 | C15: 28 | D15: 28 | E15: 28 | F15: 28 | H15: 5 | I15: =SUM(B15,C15,D15,E15,F15,G15) -> 140 | J15: 40 | K15: 30 | L15: 30 | M15: 29 | N15: 29 | O15: 29 | Q15: 5 | R15: =SUM(K15,L15,M15,N15,O15,P15) -> 147 | S15: 40 | T15: 30 | U15: 30 | V15: 25 | W15: 30 | X15: 30 | Z15: 5 | AA15: =SUM(T15,U15,V15,W15,X15,Y15) -> 145 | AB15: 40 | AC15: 28 | AD15: 30 | AE15: 30 | AF15: 30 | AG15: 21 | AI15: 5 | AJ15: =SUM(AC15:AH15) -> 139 | AK15: 30 | AL15: =SUM(H15,Q15,Z15,AI15) -> 20 | AM15: =SUM(I15,R15,AA15,AJ15) -> 571 | AN15: 150 | AO15: 5 | AP15: 5
A16: Коломийський ліцей №5 імені Т.Г.Шевченка | B16: 28 | C16: 28 | D16: 28 | H16: 3 | I16: =SUM(B16,C16,D16,E16,F16,G16) -> 84 | J16: 45 | K16: 29 | L16: 32 | M16: 29 | Q16: 3 | R16: =SUM(K16,L16,M16,N16,O16,P16) -> 90 | S16: 45 | T16: 22 | U16: 29 | V16: 30 | Z16: 3 | AA16: =SUM(T16,U16,V16,W16,X16,Y16) -> 81 | AB16: 45 | AC16: 29 | AD16: 21 | AE16: 23 | AI16: 3 | AJ16: =SUM(AC16,AD16,AE16,AF16,AH16) -> 73 | AK16: 45 | AL16: =SUM(H16,Q16,Z16,AI16) -> 12 | AM16: =SUM(I16,R16,AA16,AJ16) -> 328 | AN16: 180 | AO16: 6 | AP16: 4
A17: Коломийський ліцей №6 імені Героя України Тараса Сенюка | B17: 28 | C17: 28 | H17: 2 | I17: =SUM(B17,C17,D17,E17,F17,G17) -> 56 | J17: 30 | K17: 22 | L17: 25 | M17: 22 | Q17: 3 | R17: =SUM(K17,L17,M17,N17,O17,P17) -> 69 | S17: 30 | T17: 28 | U17: 24 | V17: 19 | Z17: 3 | AA17: =SUM(T17,U17,V17,W17,X17,Y17) -> 71 | AB17: 30 | AC17: 28 | AD17: 28 | AE17: 21 | AI17: 3 | AJ17: =SUM(AC17,AD17,AE17,AF17,AH17) -> 77 | AK17: 30 | AL17: =SUM(H17,Q17,Z17,AI17) -> 11 | AM17: =SUM(I17,R17,AA17,AJ17) -> 273 | AN17: 120 | AO17: 4 | AP17: 4
A18: Коломийська гімназія №7 | B18: 23 | C18: 22 | H18: 2 | I18: =SUM(B18,C18,D18,E18,F18,G18) -> 45 | J18: 30 | K18: 30 | Q18: 1 | R18: =SUM(K18,L18,M18,N18,O18,P18) -> 30 | S18: 30 | T18: 30 | Z18: 1 | AA18: =SUM(T18,U18,V18,W18,X18,Y18) -> 30 | AB18: 30 | AC18: 22 | AD18: 16 | AI18: 2 | AJ18: =SUM(AC18,AD18,AE18,AF18,AH18) -> 38 | AK18: 30 | AL18: =SUM(H18,Q18,Z18,AI18) -> 6 | AM18: =SUM(I18,R18,AA18,AJ18) -> 143 | AN18: 120 | AO18: 4 | AP18: 3
A19: Коломийський ліцей №8 | B19: 28 | C19: 28 | D19: 28 | H19: 3 | I19: =SUM(B19,C19,D19,E19,F19,G19) -> 84 | J19: 30 | K19: 28 | L19: 28 | M19: 29 | Q19: 3 | R19: =SUM(K19,L19,M19,N19,O19,P19) -> 85 | S19: 30 | T19: 29 | U19: 28 | V19: 28 | Z19: 3 | AA19: =SUM(T19,U19,V19,W19,X19,Y19) -> 85 | AB19: 30 | AC19: 29 | AD19: 17 | AE19: 28 | AI19: 3 | AJ19: =SUM(AC19,AD19,AE19,AF19,AH19) -> 74 | AK19: 30 | AL19: =SUM(H19,Q19,Z19,AI19) -> 12 | AM19: =SUM(I19,R19,AA19,AJ19) -> 328 | AN19: 120 | AO19: 4 | AP19: 4
A20: Коломийський ліцей №9 | B20: 28 | C20: 28 | D20: 28 | E20: 28 | H20: 4 | I20: =SUM(B20,C20,D20,E20,F20,G20) -> 112 | J20: 60 | K20: 29 | L20: 30 | M20: 30 | Q20: 3 | R20: =SUM(K20,L20,M20,N20,O20,P20) -> 89 | S20: 60 | T20: 30 | U20: 30 | V20: 30 | W20: 28 | Z20: 4 | AA20: =SUM(T20,U20,V20,W20,X20,Y20) -> 118 | AB20: 60 | AC20: 29 | AD20: 28 | AE20: 29 | AF20: 24 | AI20: 4 | AJ20: =SUM(AC20,AD20,AE20,AF20,AH20) -> 110 | AK20: 60 | AL20: =SUM(H20,Q20,Z20,AI20) -> 15 | AM20: =SUM(I20,R20,AA20,AJ20) -> 429 | AN20: 240 | AO20: 8 | AP20: 6
A21: Коломийська гімназія №10 | B21: 24 | C21: 20 | H21: 2 | I21: =SUM(B21,C21,D21,E21,F21,G21) -> 44 | J21: 20 | K21: 28 | Q21: 1 | R21: =SUM(K21,L21,M21,N21,O21,P21) -> 28 | S21: 10 | T21: 21 | U21: 18 | Z21: 2 | AA21: =SUM(T21,U21,V21,W21,X21,Y21) -> 39 | AB21: 20 | AC21: 26 | AI21: 1 | AJ21: =SUM(AC21,AD21,AE21,AF21,AH21) -> 26 | AK21: 10 | AL21: =SUM(H21,Q21,Z21,AI21) -> 6 | AM21: =SUM(I21,R21,AA21,AJ21) -> 137 | AN21: 60 | AO21: 2 | AP21: 2
A22: Коломийський ліцей імені М.Грушевського | I22: =SUM(B22,C22,D22,E22,F22,G22) -> 0 | R22: =SUM(K22,L22,M22,N22,O22,P22) -> 0 | AA22: =SUM(T22,U22,V22,W22,X22,Y22) -> 0 | AJ22: =SUM(AC22,AD22,AE22,AF22,AH22) -> 0
A23: НВК "Дошкільний навчальний заклад-загальноосвітній навчальний заклад І ступеня №20 "Світлячок" | B23: 20 | H23: 1 | I23: =SUM(B23,C23,D23,E23,F23,G23) -> 20 | J23: 15 | K23: 28 | Q23: 1 | R23: =SUM(K23,L23,M23,N23,O23,P23) -> 28 | S23: 15 | T23: 20 | Z23: 1 | AA23: =SUM(T23,U23,V23,W23,X23,Y23) -> 20 | AB23: 15 | AC23: 29 | AI23: 1 | AJ23: =SUM(AC23,AD23,AE23,AF23,AH23) -> 29 | AK23: 15 | AL23: =SUM(H23,Q23,Z23,AI23) -> 4 | AM23: =SUM(I23,R23,AA23,AJ23) -> 97 | AN23: 60 | AO23: 2 | AP23: 1.5
A24: Воскресинцівський ліцей | B24: 15 | H24: 1 | I24: =SUM(B24,C24,D24,E24,F24,G24) -> 15 | K24: 19 | Q24: 1 | R24: =SUM(K24,L24,M24,N24,O24,P24) -> 19 | S24: 14 | T24: 19 | Z24: 1 | AA24: =SUM(T24,U24,V24,W24,X24,Y24) -> 19 | AB24: 16 | AC24: 9 | AI24: 1 | AJ24: =SUM(AC24,AD24,AE24,AF24,AH24) -> 9 | AL24: =SUM(H24,Q24,Z24,AI24) -> 4 | AM24: =SUM(I24,R24,AA24,AJ24) -> 62 | AN24: 30 | AO24: 1 | AP24: 0.75
A25: Іванівецький НВК "Загальноосвітня школа І-ІІІ ступенів-дошкільний навчальний заклад" | B25: 16 | H25: 1 | I25: =SUM(B25,C25,D25,E25,F25,G25) -> 16 | J25: 15 | K25: 12 | Q25: 1 | R25: =SUM(K25,L25,M25,N25,O25,P25) -> 12 | S25: 12 | T25: 17 | Z25: 1 | AA25: =SUM(T25,U25,V25,W25,X25,Y25) -> 17 | AB25: 15 | AC25: 19 | AI25: 1 | AJ25: =SUM(AC25,AD25,AE25,AF25,AH25) -> 19 | AK25: 18 | AL25: =SUM(H25,Q25,Z25,AI25) -> 4 | AM25: =SUM(I25,R25,AA25,AJ25) -> 64 | AN25: 60 | AO25: 2 | AP25: 1
A26: Саджавський ліцей | B26: 20 | C26: 20 | H26: 2 | I26: =SUM(B26,C26,D26,E26,F26,G26) -> 40 | K26: 21 | L26: 20 | Q26: 2 | R26: =SUM(K26,L26,M26,N26,O26,P26) -> 41 | T26: 20 | U26: 20 | Z26: 2 | AA26: =SUM(T26,U26,V26,W26,X26,Y26) -> 40 | AB26: 15 | AC26: 24 | AD26: 24 | AI26: 2 | AJ26: =SUM(AC26,AD26,AE26,AF26,AH26) -> 48 | AK26: 15 | AL26: =SUM(H26,Q26,Z26,AI26) -> 8 | AM26: =SUM(I26,R26,AA26,AJ26) -> 169 | AN26: 30 | AO26: 1 | AP26: 1
A27: Товмачицький ліцей | B27: 15 | H27: 1 | I27: =SUM(B27,C27,D27,E27,F27,G27) -> 15 | K27: 20 | Q27: 1 | R27: =SUM(K27,L27,M27,N27,O27,P27) -> 20 | T27: 16 | Z27: 1 | AA27: =SUM(T27,U27,V27,W27,X27,Y27) -> 16 | AB27: 10 | AC27: 27 | AI27: 1 | AJ27: =SUM(AC27,AD27,AE27,AF27,AH27) -> 27 | AK27: 20 | AL27: =SUM(H27,Q27,Z27,AI27) -> 4 | AM27: =SUM(I27,R27,AA27,AJ27) -> 78 | AN27: 30 | AO27: 1 | AP27: 0.75
A28: Товмачицька вечірня (змінна) школа ІІ-ІІІ ступенів | I28: =SUM(B28,C28,D28,E28,F28,G28) -> 0 | R28: =SUM(K28,L28,M28,N28,O28,P28) -> 0 | AA28: =SUM(T28,U28,V28,W28,X28,Y28) -> 0 | AJ28: =SUM(AC28,AD28,AE28,AF28,AH28) -> 0
A29: Шепарівцівська гімназія | B29: 12 | H29: 1 | I29: =SUM(B29,C29,D29,E29,F29,G29) -> 12 | K29: 10 | Q29: 1 | R29: =SUM(K29,L29,M29,N29,O29,P29) -> 10 | T29: 11 | Z29: 1 | AA29: =SUM(T29,U29,V29,W29,X29,Y29) -> 11 | AC29: 7 | AI29: 1 | AJ29: =SUM(AC29,AD29,AE29,AF29,AH29) -> 7 | AL29: =SUM(H29,Q29,Z29,AI29) -> 4 | AM29: =SUM(I29,R29,AA29,AJ29) -> 40
A30: Всього: | B30: =SUM(B12:B29) -> 369 | C30: =SUM(C12:C29) -> 258 | D30: =SUM(D12:D29) -> 140 | E30: =SUM(E12:E29) -> 84 | F30: =SUM(F12:F29) -> 28 | G30: =SUM(G12:G29) -> 28 | H30: =SUM(H12:H29) -> 36 | I30: =SUM(I12:I29) -> 907 | K30: =SUM(K12:K29) -> 394 | L30: =SUM(L12:L29) -> 225 | M30: =SUM(M12:M29) -> 196 | N30: =SUM(N12:N29) -> 59 | O30: =SUM(O12:O29) -> 29 | P30: =SUM(P12:P29) -> 29 | Q30: =SUM(Q12:Q29) -> 35 | R30: =SUM(R12:R29) -> 932 | T30: =SUM(T12:T29) -> 380 | U30: =SUM(U12:U29) -> 240 | V30: =SUM(V12:V29) -> 163 | W30: =SUM(W12:W29) -> 88 | X30: =SUM(X12:X29) -> 30 | Y30: 29 | Z30: =SUM(Z12:Z29) -> 36 | AA30: =SUM(AA12:AA29) -> 930 | AC30: =SUM(AC12:AC29) -> 376 | AD30: =SUM(AD12:AD29) -> 222 | AE30: =SUM(AE12:AE29) -> 189 | AF30: =SUM(AF12:AF29) -> 54 | AG30: =SUM(AG12:AG29) -> 21 | AH30: =SUM(AH12:AH29) -> 32 | AI30: =SUM(AI12:AI29) -> 36 | AJ30: =SUM(AJ12:AJ29) -> 894 | AL30: =SUM(AL12:AL29) -> 143 | AM30: =SUM(AM12:AM29) -> 3663 | AN30: =SUM(AN12:AN29) -> 1560 | AO30: =SUM(AO12:AO29) -> 52 | AP30: 43.5
A32: З них інклюзивне навчання у:
A33: Кологмийський ліцей №1 імені В. Стефаника | D33: 1 | H33: 1 | I33: 1 | AL33: 1 | AM33: 1
A34: Коломийський ліцей №2 | B34: 1 | H34: 1 | I34: 1 | AL34: 1 | AM34: 1
A35: Коломийський ліцей №3 | AC35: 2 | AI35: 1 | AJ35: 2 | AL35: 1 | AM35: 2
A36: Коломийський ліцей №4 імені Сергія Лисенка | N36: 1 | O36: 1 | Q36: 2 | R36: 2 | V36: 1 | Z36: 1 | AA36: 1 | AL36: 3 | AM36: 3
A37: Коломийський ліцей №5 імені Т.Г.Шевченка | C37: 1 | D37: 1 | H37: 2 | I37: 2 | L37: 1 | M37: 1 | Q37: 2 | R37: 2 | T37: 1 | V37: 1 | Z37: 2 | AA37: 2 | AL37: 6 | AM37: 6
A38: Коломийський ліцей №6 імені Героя України Тараса Сенюка | M38: 1 | Q38: 1 | R38: 1 | AE38: 1 | AI38: 1 | AJ38: 1 | AL38: 2 | AM38: 2
A39: Коломийська гімназія №7 | T39: 1 | Z39: 1 | AA39: 1 | AC39: 1 | AI39: 1 | AJ39: 1 | AL39: 2 | AM39: 2
A40: Коломийський ліцей №8 | C40: 1 | H40: 1 | I40: 1 | K40: 1 | Q40: 1 | R40: 1 | AL40: 2 | AM40: 2
A41: Коломийська гімназія №10 | C41: 1 | H41: 1 | I41: 1 | T41: 1 | U41: 1 | Z41: 2 | AA41: 2 | AC41: 1 | AI41: 1 | AJ41: 1 | AL41: 4 | AM41: 4
A42: Саджавський ліцей | K42: 1 | Q42: 1 | R42: 1 | AL42: 1 | AM42: 1
A43: Товмачицький ліцей | AC43: 3 | AI43: 1 | AJ43: 3 | AL43: 1 | AM43: 3
A44: Шепарівцівська гімназія | T44: 2 | Z44: 1 | AA44: 2 | AL44: 1 | AM44: 2
A45: Всього: | B45: 1 | C45: 3 | D45: 2 | H45: 6 | I45: 6 | K45: 2 | L45: 1 | M45: 2 | N45: 1 | O45: 1 | Q45: 7 | R45: 7 | T45: 5 | U45: 1 | V45: 2 | Z45: 7 | AA45: 8 | AC45: 7 | AE45: 1 | AI45: 5 | AJ45: 8 | AL45: 25 | AM45: 29
A49: Керуючий справами виконавчого комітету | AD49: Тарас Кухтар

Sheet 5-9
AB3: Продовження додатка 1
AB4: до рішення виконавчого комітету
AB5: від 26.05.2020 р. №66
B7: Планова мережа закладів загальної середньої освіти
B8: на 2020/2021 навчальний рік
A11: Заклади загальної середньої освіти | B11: 5-А | C11: 5-Б | D11: 5-В | E11: 5-Г | F11: 5-Д | G11: к-сть класів | H11: к-сть учнів | I11: 6-А | J11: 6-Б | K11: 6-В | L11: 6-Г | M11: 6-Д | N11: к-сть класів | O11: к-сть учнів | P11: 7-А | Q11: 7-Б | R11: 7-В | S11: 7-Г | T11: к-сть класів | U11: к-сть учнів | V11: 8-А | W11: 8-Б | X11: 8-В | Y11: 8-Г | Z11: к-сть класів | AA11: к-сть учнів | AB11: 9-А | AC11: 9-Б | AD11: 9-В | AE11: 9-Г | AF11: к-сть класів | AG11: к-сть учнів | AH11: к-сть 5-9 класів | AI11: к-сть учнів у 5-9 кл.
A12: Коломийський ліцей №1 імені В.Стефаника | B12: 30 | C12: 30 | D12: 30 | E12: 29 | F12: 18 | G12: 5 | H12: =SUM(B12:F12) -> 137 | I12: 32 | J12: 29 | K12: 33 | L12: 30 | M12: 30 | N12: 5 | O12: =SUM(I12:M12) -> 154 | P12: 32 | Q12: 31 | R12: 34 | S12: 32 | T12: 4 | U12: =SUM(P12:S12) -> 129 | V12: 28 | W12: 28 | X12: 28 | Y12: 31 | Z12: 4 | AA12: =SUM(V12:Y12) -> 115 | AB12: 30 | AC12: 24 | AD12: 29 | AF12: 3 | AG12: =SUM(AB12:AD12) -> 83 | AH12: =SUM(G12,N12,T12,Z12,AF12) -> 21 | AI12: =SUM(H12,O12,U12,AA12,AG12) -> 618
A13: Коломийський ліцей №2 | B13: 31 | C13: 30 | G13: 2 | H13: =SUM(B13:F13) -> 61 | I13: 28 | J13: 25 | K13: 25 | N13: 3 | O13: =SUM(I13:M13) -> 78 | P13: 27 | Q13: 25 | T13: 2 | U13: =SUM(P13:S13) -> 52 | V13: 29 | W13: 33 | Z13: 2 | AA13: =SUM(V13:Y13) -> 62 | AB13: 27 | AC13: 27 | AF13: 2 | AG13: =SUM(AB13:AD13) -> 54 | AH13: =SUM(G13,N13,T13,Z13,AF13) -> 11 | AI13: =SUM(H13,O13,U13,AA13,AG13) -> 307
A14: Коломийський ліцей №3 | B14: 20 | C14: 20 | G14: 2 | H14: =SUM(B14:F14) -> 40 | I14: 24 | J14: 21 | N14: 2 | O14: =SUM(I14:M14) -> 45 | P14: 32 | T14: 1 | U14: =SUM(P14:S14) -> 32 | V14: 18 | W14: 17 | Z14: 2 | AA14: =SUM(V14:Y14) -> 35 | AB14: 17 | AC14: 20 | AF14: 2 | AG14: =SUM(AB14:AD14) -> 37 | AH14: =SUM(G14,N14,T14,Z14,AF14) -> 9 | AI14: =SUM(H14,O14,U14,AA14,AG14) -> 189
A15: Коломийський ліцей №4 імені Сергія Лисенка | B15: 32 | C15: 31 | D15: 35 | E15: 30 | F15: 20 | G15: 5 | H15: =SUM(B15:F15) -> 148 | I15: 30 | J15: 30 | K15: 31 | L15: 30 | N15: 4 | O15: =SUM(I15:M15) -> 121 | P15: 29 | Q15: 30 | R15: 28 | S15: 28 | T15: 4 | U15: =SUM(P15:S15) -> 115 | V15: 29 | W15: 28 | X15: 30 | Y15: 28 | Z15: 4 | AA15: =SUM(V15:Y15) -> 115 | AB15: 30 | AC15: 30 | AD15: 25 | AE15: 21 | AF15: 4 | AG15: =SUM(AB15:AE15) -> 106 | AH15: =SUM(G15,N15,T15,Z15,AF15) -> 21 | AI15: =SUM(H15,O15,U15,AA15,AG15) -> 605
A16: Коломийський ліцей №5 імені Т.Г.Шевченка | B16: 26 | C16: 24 | D16: 23 | G16: 3 | H16: =SUM(B16:F16) -> 73 | I16: 32 | J16: 32 | N16: 2 | O16: =SUM(I16:M16) -> 64 | P16: 19 | Q16: 21 | T16: 2 | U16: =SUM(P16:S16) -> 40 | V16: 25 | W16: 24 | Z16: 2 | AA16: =SUM(V16:Y16) -> 49 | AB16: 20 | AC16: 29 | AF16: 2 | AG16: =SUM(AB16:AD16) -> 49 | AH16: =SUM(G16,N16,T16,Z16,AF16) -> 11 | AI16: =SUM(H16,O16,U16,AA16,AG16) -> 275
A17: Коломийський ліцей №6 імені Героя України Тараса Сенюка | B17: 31 | C17: 30 | G17: 2 | H17: =SUM(B17:F17) -> 61 | I17: 28 | J17: 28 | K17: 20 | N17: 3 | O17: =SUM(I17:M17) -> 76 | P17: 22 | Q17: 22 | R17: 21 | T17: 3 | U17: =SUM(P17:S17) -> 65 | V17: 27 | W17: 21 | Z17: 2 | AA17: =SUM(V17:Y17) -> 48 | AB17: 25 | AC17: 18 | AF17: 2 | AG17: =SUM(AB17:AD17) -> 43 | AH17: =SUM(G17,N17,T17,Z17,AF17) -> 12 | AI17: =SUM(H17,O17,U17,AA17,AG17) -> 293
A18: Коломийська гімназія №7 | B18: 22 | G18: 1 | H18: =SUM(B18:F18) -> 22 | I18: 31 | N18: 1 | O18: =SUM(I18:M18) -> 31 | P18: 27 | T18: 1 | U18: =SUM(P18:S18) -> 27 | V18: 23 | Z18: 1 | AA18: =SUM(V18:Y18) -> 23 | AB18: 23 | AF18: 1 | AG18: =SUM(AB18:AD18) -> 23 | AH18: =SUM(G18,N18,T18,Z18,AF18) -> 5 | AI18: =SUM(H18,O18,U18,AA18,AG18) -> 126
A19: Коломийський ліцей №8 | B19: 28 | C19: 28 | D19: 28 | G19: 3 | H19: =SUM(B19:F19) -> 84 | I19: 28 | J19: 30 | K19: 30 | N19: 3 | O19: =SUM(I19:M19) -> 88 | P19: 29 | Q19: 30 | R19: 30 | T19: 3 | U19: =SUM(P19:S19) -> 89 | V19: 28 | W19: 30 | X19: 28 | Z19: 3 | AA19: =SUM(V19:Y19) -> 86 | AB19: 20 | AC19: 22 | AD19: 20 | AF19: 3 | AG19: =SUM(AB19:AD19) -> 62 | AH19: =SUM(G19,N19,T19,Z19,AF19) -> 15 | AI19: =SUM(H19,O19,U19,AA19,AG19) -> 409
A20: Коломийський ліцей №9 | B20: 30 | C20: 30 | D20: 30 | E20: 30 | G20: 4 | H20: =SUM(B20:F20) -> 120 | I20: 28 | J20: 30 | K20: 28 | N20: 3 | O20: =SUM(I20:M20) -> 86 | P20: 25 | Q20: 28 | R20: 29 | S20: 29 | T20: 4 | U20: =SUM(P20:S20) -> 111 | V20: 25 | W20: 25 | X20: 25 | Z20: 3 | AA20: =SUM(V20:Y20) -> 75 | AB20: 21 | AC20: 21 | AD20: 28 | AF20: 3 | AG20: =SUM(AB20:AD20) -> 70 | AH20: =SUM(G20,N20,T20,Z20,AF20) -> 17 | AI20: =SUM(H20,O20,U20,AA20,AG20) -> 462
A21: Коломийська гімназія №10 | B21: 31 | G21: 1 | H21: =SUM(B21:F21) -> 31 | I21: 27 | N21: 1 | O21: =SUM(I21:M21) -> 27 | P21: 18 | Q21: 18 | T21: 2 | U21: =SUM(P21:S21) -> 36 | V21: 20 | W21: 18 | Z21: 2 | AA21: =SUM(V21:Y21) -> 38 | AB21: 23 | AF21: 1 | AG21: =SUM(AB21:AD21) -> 23 | AH21: =SUM(G21,N21,T21,Z21,AF21) -> 7 | AI21: =SUM(H21,O21,U21,AA21,AG21) -> 155
A22: Коломийський ліцей імені М.Грушевського | B22: 30 | C22: 30 | G22: 2 | H22: =SUM(B22:F22) -> 60 | I22: 30 | J22: 30 | N22: 2 | O22: =SUM(I22:M22) -> 60 | P22: 29 | Q22: 29 | T22: 2 | U22: =SUM(P22:S22) -> 58 | V22: 35 | W22: 35 | Z22: 2 | AA22: =SUM(V22:Y22) -> 70 | AB22: 31 | AC22: 29 | AF22: 2 | AG22: =SUM(AB22:AD22) -> 60 | AH22: =SUM(G22,N22,T22,Z22,AF22) -> 10 | AI22: =SUM(H22,O22,U22,AA22,AG22) -> 308
A23: НВК "Дошкільний навчальний заклад-загальноосвітній навчальний заклад І ступеня №20 "Світлячок" | H23: =SUM(B23:F23) -> 0 | O23: =SUM(I23:M23) -> 0 | U23: =SUM(P23:S23) -> 0 | AA23: =SUM(V23:Y23) -> 0 | AG23: =SUM(AB23:AD23) -> 0 | AH23: =SUM(G23,N23,T23,Z23,AF23) -> 0 | AI23: =SUM(H23,O23,U23,AA23,AG23) -> 0
A24: Воскресинцівський ліцей | B24: 20 | G24: 1 | H24: =SUM(B24:F24) -> 20 | I24: 21 | N24: 1 | O24: =SUM(I24:M24) -> 21 | P24: 17 | T24: 1 | U24: =SUM(P24:S24) -> 17 | V24: 12 | Z24: 1 | AA24: =SUM(V24:Y24) -> 12 | AB24: 14 | AF24: 1 | AG24: =SUM(AB24:AD24) -> 14 | AH24: =SUM(G24,N24,T24,Z24,AF24) -> 5 | AI24: =SUM(H24,O24,U24,AA24,AG24) -> 84
A25: Іванівецький НВК "Загальноосвітня школа І-ІІІ ступенів-дошкільний навчальний заклад" | B25: 14 | G25: 1 | H25: =SUM(B25:F25) -> 14 | I25: 20 | N25: 1 | O25: =SUM(I25:M25) -> 20 | P25: 13 | T25: 1 | U25: =SUM(P25:S25) -> 13 | V25: 12 | Z25: 1 | AA25: =SUM(V25:Y25) -> 12 | AB25: 19 | AF25: 1 | AG25: =SUM(AB25:AD25) -> 19 | AH25: =SUM(G25,N25,T25,Z25,AF25) -> 5 | AI25: =SUM(H25,O25,U25,AA25,AG25) -> 78
A26: Саджавський ліцей | B26: 21 | C26: 21 | D26: 20 | G26: 3 | H26: =SUM(B26:F26) -> 62 | I26: 21 | J26: 22 | N26: 2 | O26: =SUM(I26:M26) -> 43 | P26: 18 | Q26: 20 | T26: 2 | U26: =SUM(P26:S26) -> 38 | V26: 22 | W26: 21 | Z26: 2 | AA26: =SUM(V26:Y26) -> 43 | AB26: 19 | AC26: 22 | AF26: 2 | AG26: =SUM(AB26:AD26) -> 41 | AH26: =SUM(G26,N26,T26,Z26,AF26) -> 11 | AI26: =SUM(H26,O26,U26,AA26,AG26) -> 227
A27: Товмачицький ліцей | B27: 15 | G27: 1 | H27: =SUM(B27:F27) -> 15 | I27: 19 | N27: 1 | O27: =SUM(I27:M27) -> 19 | P27: 15 | T27: 1 | U27: =SUM(P27:S27) -> 15 | V27: 10 | Z27: 1 | AA27: =SUM(V27:Y27) -> 10 | AB27: 18 | AF27: 1 | AG27: =SUM(AB27:AD27) -> 18 | AH27: =SUM(G27,N27,T27,Z27,AF27) -> 5 | AI27: =SUM(H27,O27,U27,AA27,AG27) -> 77
A28: Товмачицька вечірня (змінна) школа ІІ-ІІІ ступенів | H28: =SUM(B28:F28) -> 0 | I28: 6 | N28: 1 | O28: =SUM(I28:M28) -> 6 | U28: =SUM(P28:S28) -> 0 | AA28: =SUM(V28:Y28) -> 0 | AG28: =SUM(AB28:AD28) -> 0 | AH28: =SUM(G28,N28,T28,Z28,AF28) -> 1 | AI28: =SUM(H28,O28,U28,AA28,AG28) -> 6
A29: Шепарівцівська гімназія | B29: 11 | G29: 1 | H29: =SUM(B29:F29) -> 11 | I29: 12 | N29: 1 | O29: =SUM(I29:M29) -> 12 | P29: 11 | T29: 1 | U29: =SUM(P29:S29) -> 11 | V29: 18 | Z29: 1 | AA29: =SUM(V29:Y29) -> 18 | AB29: 12 | AF29: 1 | AG29: =SUM(AB29:AD29) -> 12 | AH29: =SUM(G29,N29,T29,Z29,AF29) -> 5 | AI29: =SUM(H29,O29,U29,AA29,AG29) -> 64
A30: Всього: | B30: =SUM(B12:B29) -> 392 | C30: =SUM(C12:C29) -> 274 | D30: =SUM(D12:D29) -> 166 | E30: =SUM(E12:E29) -> 89 | F30: =SUM(F12:F29) -> 38 | G30: =SUM(G12:G29) -> 37 | H30: =SUM(H12:H29) -> 959 | I30: =SUM(I12:I29) -> 417 | ... L30: =SUM(L12:L29) -> 60 | N30: =SUM(N12:N29) -> 36 | O30: =SUM(O12:O29) -> 951 | P30: =SUM(P12:P29) -> 363 | Q30: =SUM(Q12:Q29) -> 254 | R30: =SUM(R12:R29) -> 142 | S30: =SUM(S12:S29) -> 89 | T30: =SUM(T12:T29) -> 34 | U30: =SUM(U12:U29) -> 848 | ... AI30: =SUM(AI12:AI29) -> 4283
A32: З них інклюзивне навчання у:
A33: Коломийський ліцей №1 імені В.Стефаника | M33: 1 | N33: 1 | O33: 1
A34: Коломийський ліцей №3 | B34: 1 | G34: 1 | H34: 1 | P34: 1 | T34: 1 | U34: 1 | AH34: 2 | AI34: 2
A35: Коломийський ліцей №5 імені Т.Г.Шевченка | C35: 1 | G35: 1 | H35: 1 | J35: 1 | N35: 1 | O35: 1 | Q35: 1 | T35: 1 | U35: 1 | AH35: 3 | AI35: 3
A36: Коломийська гімназія №7 | B36: 1 | G36: 1 | H36: 1 | P36: 1 | T36: 1 | U36: 1 | AH36: 2 | AI36: 2
A37: Коломийський ліцей №8 | K37: 1 | N37: 1 | O37: 1 | R37: 1 | T37: 1 | U37: 1 | AH37: 2 | AI37: 2
A38: Коломийська гімназія №10 | B38: 1 | G38: 1 | H38: 1 | P38: 1 | T38: 1 | U38: 1 | V38: 1 | W38: 1 | Z38: 2 | AA38: 2 | AH38: 4 | AI38: 4
A39: Всього: | B39: =SUM(B32:B38) -> 3 | C39: =SUM(C32:C38) -> 1 | G39: =SUM(G33:G38) -> 4 | H39: =SUM(H32:H38) -> 4 | J39: =SUM(J32:J38) -> 1 | K39: =SUM(K32:K38) -> 1 | M39: =SUM(M32:M38) -> 1 | N39: =SUM(N32:N38) -> 3 | O39: =SUM(O32:O38) -> 3 | P39: =SUM(P32:P38) -> 3 | Q39: =SUM(Q33:Q38) -> 1 | R39: =SUM(R32:R38) -> 1 | T39: =SUM(T32:T38) -> 5 | U39: =SUM(U32:U38) -> 5 | V39: =SUM(V32:V38) -> 1 | W39: =SUM(W32:W38) -> 1 | Z39: =SUM(Z32:Z38) -> 2 | AA39: =SUM(AA32:AA38) -> 2 | AH39: =SUM(AH32:AH38) -> 13 | AI39: =SUM(AI32:AI38) -> 13
A42: Керуючий справами виконавчого комітету | AB42: Тарас Кухтар

Sheet 10-12
S3: Продовження додатка 1
S4: до рішення виконавчого комітету
S5: від 26.05.2020 р. № 66
B8: Планова мережа закладів загальної середньої освіти
B9: на 2020/2021 навчальний рік
A12: Заклади загальної середньої освіти | B12: 10-А | C12: 10-Б | D12: 10-В | E12: к-сть класів | F12: к-сть учнів | G12: 11-А | H12: 11-Б | I12: 11-В | J12: к-сть класів | K12: к-сть учнів | L12: 12 | M12: к-сть класів | N12: к-сть учнів | O12: к-сть 10-12 класів | P12: к-сть учнів 10-12 класах | Q12: к-сть 1-12 класів | R12: к-сть учнів у 1-12кл. | U12: Наповнюваність
U13: І-ІV | V13: V-IX | W13: X-XII | X13: I-XII
A14: Коломийський ліцей №1 імені В.Стефаника | B14: 24 | C14: 24 | D14: 25 | E14: 3 | F14: =SUM(B14,C14,D14) -> 73 | G14: 22 | H14: 19 | I14: 25 | J14: 3 | K14: =SUM(G14,H14,I14) -> 66 | O14: =SUM(E14,J14) -> 6 | P14: =SUM(F14,K14) -> 139 | Q14: =SUM(O14,'5-9'!AH12,'1-4'!AL12) -> 46 | R14: =SUM('1-4'!AM12,'5-9'!AI12,P14) -> 1312 | U14: ='1-4'!AM12/'1-4'!AL12 -> 29.210526 | V14: ='5-9'!AI12/'5-9'!AH12 -> 29.428571 | W14: =P14/O14 -> 23.166667 | X14: =R14/Q14 -> 28.521739
A15: Коломийський ліцей №2 | B15: 20 | E15: 1 | F15: =SUM(B15,C15,D15) -> 20 | G15: 18 | J15: 1 | K15: =SUM(G15,H15,I15) -> 18 | O15: =SUM(E15,J15) -> 2 | P15: =SUM(F15,K15) -> 38 | Q15: =SUM('1-4'!AL13,'5-9'!AH13,O15) -> 23 | R15: =SUM('1-4'!AM13,'5-9'!AI13,P15) -> 624 | U15: ='1-4'!AM13/'1-4'!AL13 -> 27.9 | V15: ='5-9'!AI13/'5-9'!AH13 -> 27.909091 | W15: =P15/O15 -> 19 | X15: =R15/Q15 -> 27.130435
A16: Коломийський ліцей №3 | B16: 20 | E16: 1 | F16: =SUM(B16,C16,D16) -> 20 | G16: 28 | J16: 1 | K16: =SUM(G16,H16,I16) -> 28 | O16: =SUM(E16,J16) -> 2 | P16: =SUM(F16,K16) -> 48 | Q16: =SUM('1-4'!AL14,'5-9'!AH14,O16) -> 15 | R16: =SUM('1-4'!AM14,'5-9'!AI14,P16) -> 347 | U16: ='1-4'!AM14/'1-4'!AL14 -> 27.5 | V16: ='5-9'!AI14/'5-9'!AH14 -> 21 | W16: =P16/O16 -> 24 | X16: =R16/Q16 -> 23.133333
A17: Коломийський ліцей №4 імені Сергія Лисенка | B17: 22 | C17: 23 | E17: 2 | F17: =SUM(B17,C17,D17) -> 45 | G17: 24 | H17: 26 | I17: 24 | J17: 3 | K17: =SUM(G17,H17,I17) -> 74 | O17: =SUM(E17,J17) -> 5 | P17: =SUM(F17,K17) -> 119 | Q17: =SUM('1-4'!AL15,'5-9'!AH15,O17) -> 46 | R17: =SUM('1-4'!AM15,'5-9'!AI15,P17) -> 1295 | U17: ='1-4'!AM15/'1-4'!AL15 -> 28.55 | V17: ='5-9'!AI15/'5-9'!AH15 -> 28.809524 | W17: =P17/O17 -> 23.8 | X17: =R17/Q17 -> 28.152174
A18: Коломийський ліцей №5 імені Т.Г.Шевченка | B18: 17 | C18: 18 | E18: 2 | F18: =SUM(B18,C18,D18) -> 35 | G18: 24 | J18: 1 | K18: =SUM(G18,H18,I18) -> 24 | O18: =SUM(E18,J18) -> 3 | P18: =SUM(F18,K18) -> 59 | Q18: =SUM('1-4'!AL16,'5-9'!AH16,O18) -> 26 | R18: =SUM('1-4'!AM16,'5-9'!AI16,P18) -> 662 | U18: ='1-4'!AM16/'1-4'!AL16 -> 27.333333 | V18: ='5-9'!AI16/'5-9'!AH16 -> 25 | W18: =P18/O18 -> 19.666667 | X18: =R18/Q18 -> 25.461538
A19: Коломийський ліцей №6 імені Героя України Тараса Сенюка | B19: 22 | E19: 1 | F19: =SUM(B19,C19,D19) -> 22 | G19: 30 | J19: 1 | K19: =SUM(G19,H19,I19) -> 30 | O19: =SUM(E19,J19) -> 2 | P19: =SUM(F19,K19) -> 52 | Q19: =SUM('1-4'!AL17,'5-9'!AH17,O19) -> 25 | R19: =SUM('1-4'!AM17,'5-9'!AI17,P19) -> 618 | U19: ='1-4'!AM17/'1-4'!AL17 -> 24.818182 | V19: ='5-9'!AI17/'5-9'!AH17 -> 24.416667 | W19: =P19/O19 -> 26 | X19: =R19/Q19 -> 24.72
A20: Коломийська гімназія №7 | Q20: =SUM('1-4'!AL18,'5-9'!AH18,O20) -> 11 | R20: =SUM('1-4'!AM18,'5-9'!AI18,P20) -> 269 | U20: ='1-4'!AM18/'1-4'!AL18 -> 23.833333 | V20: ='5-9'!AI18/'5-9'!AH18 -> 25.2 | X20: =R20/Q20 -> 24.454545
A21: Коломийський ліцей №8 | B21: 20 | C21: 21 | E21: 2 | F21: =SUM(B21,C21,D21) -> 41 | G21: 17 | H21: 17 | J21: 2 | K21: =SUM(G21,H21,I21) -> 34 | O21: =SUM(E21,J21) -> 4 | P21: =SUM(F21,K21) -> 75 | Q21: =SUM('1-4'!AL19,'5-9'!AH19,O21) -> 31 | R21: =SUM('1-4'!AM19,'5-9'!AI19,P21) -> 812 | U21: ='1-4'!AM19/'1-4'!AL19 -> 27.333333 | V21: ='5-9'!AI19/'5-9'!AH19 -> 27.266667 | W21: =P21/O21 -> 18.75 | X21: =R21/Q21 -> 26.193548
A22: Коломийський ліцей №9 | B22: 20 | C22: 20 | D22: 20 | E22: 3 | F22: =SUM(B22,C22,D22) -> 60 | G22: 22 | H22: 26 | J22: 2 | K22: =SUM(G22,H22,I22) -> 48 | O22: =SUM(E22,J22) -> 5 | P22: =SUM(F22,K22) -> 108 | Q22: =SUM('1-4'!AL20,'5-9'!AH20,O22) -> 37 | R22: =SUM('1-4'!AM20,'5-9'!AI20,P22) -> 999 | U22: ='1-4'!AM20/'1-4'!AL20 -> 28.6 | V22: ='5-9'!AI20/'5-9'!AH20 -> 27.176471 | W22: =P22/O22 -> 21.6 | X22: =R22/Q22 -> 27
A23: Коломийська гімназія №10 | F23: =SUM(B23,C23,D23) -> 0 | K23: =SUM(G23,H23,I23) -> 0 | Q23: =SUM('1-4'!AL21,'5-9'!AH21,O23) -> 13 | R23: =SUM('1-4'!AM21,'5-9'!AI21,P23) -> 292 | U23: ='1-4'!AM21/'1-4'!AL21 -> 22.833333 | V23: ='5-9'!AI21/'5-9'!AH21 -> 22.142857 | X23: =R23/Q23 -> 22.461538
A24: Коломийський ліцей імені М.Грушевського | B24: 28 | C24: 28 | E24: 2 | F24: =SUM(B24,C24,D24) -> 56 | G24: 31 | H24: 29 | J24: 2 | K24: =SUM(G24,H24,I24) -> 60 | O24: =SUM(E24,J24) -> 4 | P24: =SUM(F24,K24) -> 116 | Q24: =SUM('1-4'!AL22,'5-9'!AH22,O24) -> 14 | R24: =SUM('1-4'!AM22,'5-9'!AI22,P24) -> 424 | V24: ='5-9'!AI22/'5-9'!AH22 -> 30.8 | W24: =P24/O24 -> 29 | X24: =R24/Q24 -> 30.285714
A25: НВК "Дошкільний навчальний заклад-загальноосвітній навчальний заклад І ступеня №20 "Світлячок" | F25: =SUM(B25,C25,D25) -> 0 | K25: =SUM(G25,H25,I25) -> 0 | Q25: =SUM('1-4'!AL23,'5-9'!AH23,O25) -> 4 | R25: =SUM('1-4'!AM23,'5-9'!AI23,P25) -> 97 | U25: ='1-4'!AM23/'1-4'!AL23 -> 24.25 | X25: =R25/Q25 -> 24.25
A26: Воскресинцівський ліцей | F26: =SUM(B26,C26,D26) -> 0 | G26: 6 | J26: 1 | K26: =SUM(G26,H26,I26) -> 6 | O26: =SUM(E26,J26) -> 1 | P26: =SUM(F26,K26) -> 6 | Q26: =SUM('1-4'!AL24,'5-9'!AH24,O26) -> 10 | R26: =SUM('1-4'!AM24,'5-9'!AI24,P26) -> 152 | U26: ='1-4'!AM24/'1-4'!AL24 -> 15.5 | V26: ='5-9'!AI24/'5-9'!AH24 -> 16.8 | W26: =P26/O26 -> 6 | X26: =R26/Q26 -> 15.2
A27: Іванівецький НВК "Загальноосвітня школа І-ІІІ ступенів-дошкільний навчальний заклад" | F27: =SUM(B27,C27,D27) -> 0 | K27: =SUM(G27,H27,I27) -> 0 | Q27: =SUM('1-4'!AL25,'5-9'!AH25,O27) -> 9 | R27: =SUM('1-4'!AM25,'5-9'!AI25,P27) -> 142 | U27: ='1-4'!AM25/'1-4'!AL25 -> 16 | V27: ='5-9'!AI25/'5-9'!AH25 -> 15.6 | X27: =R27/Q27 -> 15.777778
A28: Саджавський ліцей | B28: 17 | C28: 18 | E28: 2 | F28: =SUM(B28,C28,D28) -> 35 | G28: 31 | J28: 1 | K28: =SUM(G28,H28,I28) -> 31 | O28: =SUM(E28,J28) -> 3 | P28: =SUM(F28,K28) -> 66 | Q28: =SUM('1-4'!AL26,'5-9'!AH26,O28) -> 22 | R28: =SUM('1-4'!AM26,'5-9'!AI26,P28) -> 462 | U28: ='1-4'!AM26/'1-4'!AL26 -> 21.125 | V28: ='5-9'!AI26/'5-9'!AH26 -> 20.636364 | W28: =P28/O28 -> 22 | X28: =R28/Q28 -> 21
A29: Товмачицький ліцей | B29: 10 | E29: 1 | F29: =SUM(B29,C29,D29) -> 10 | G29: 13 | J29: 1 | K29: =SUM(G29,H29,I29) -> 13 | O29: =SUM(E29,J29) -> 2 | P29: =SUM(F29,K29) -> 23 | Q29: =SUM('1-4'!AL27,'5-9'!AH27,O29) -> 11 | R29: =SUM('1-4'!AM27,'5-9'!AI27,P29) -> 178 | U29: ='1-4'!AM27/'1-4'!AL27 -> 19.5 | V29: ='5-9'!AI27/'5-9'!AH27 -> 15.4 | W29: =P29/O29 -> 11.5 | X29: =R29/Q29 -> 16.181818
A30: Товмачицька вечірня (змінна) школа ІІ-ІІІ ступенів | B30: 25 | E30: 1 | F30: =SUM(B30,C30,D30) -> 25 | G30: 20 | J30: 1 | K30: =SUM(G30,H30,I30) -> 20 | L30: 12 | M30: 1 | N30: 12 | O30: =SUM(E30,J30,M30) -> 3 | P30: =SUM(F30,K30,N30) -> 57 | Q30: =SUM('1-4'!AL28,'5-9'!AH28,O30) -> 4 | R30: =SUM('1-4'!AM28,'5-9'!AI28,P30) -> 63 | V30: ='5-9'!AI28/'5-9'!AH28 -> 6 | W30: =P30/O30 -> 19 | X30: =R30/Q30 -> 15.75
A31: Шепарівцівська гімназія | F31: =SUM(B31,C31,D31) -> 0 | K31: =SUM(G31,H31,I31) -> 0 | Q31: =SUM('1-4'!AL29,'5-9'!AH29,O31) -> 9 | R31: =SUM('1-4'!AM29,'5-9'!AI29,P31) -> 104 | U31: ='1-4'!AM29/'1-4'!AL29 -> 10 | V31: ='5-9'!AI29/'5-9'!AH29 -> 12.8 | X31: =R31/Q31 -> 11.555556
A32: Всього: | B32: =SUM(B14:B31) -> 245 | C32: =SUM(C14:C31) -> 152 | D32: =SUM(D14:D31) -> 45 | E32: =SUM(E14:E31) -> 21 | F32: =SUM(F14:F31) -> 442 | G32: =SUM(G14:G31) -> 286 | H32: =SUM(H14:H31) -> 117 | I32: =SUM(I14:I31) -> 49 | ... R32: =SUM(R14:R31) -> 8852 | U32: ='1-4'!AM30/'1-4'!AL30 -> 25.615385 | V32: ='5-9'!AI30/'5-9'!AH30 -> 25.046784 | W32: =P32/O32 -> 21.571429 | X32: =R32/Q32 -> 24.865169
A38: Керуючий справами виконавчого комітету | S38: Тарас Кухтар

Sheet Cадки по новому
AH2: Додаток 2
AH3: до рішення виконавчого комітету
AH4: від 26.05.2020 р. № 66
B6: Планова мережа закладів дошкільної освіти
B7: на 2020/2021 навчальний рік
A10: Заклади дошкільної освіти | B10: Кількість | F10: Тривалість робочого часу
F11: 10,5 год | AI11: Цілодобовий
B12: всього груп | C12: всього дітей | D12: з них: спеціальні та логопедичні | F12: груп | G12: дітей | H12: ранній вік (2- 3 р) | M12: молодший дошкільний вік (3-4 р) | R12: середній дошкільний вік (4-5 р) | X12: старший дошкільний вік (5-6 р) | AC12: передшкільний вік (2-6 р) | AG12: спеціальні | AI12: всього груп | AJ12: всього дітей | AK12: до 3 років | AM12: 3-6 років
D13: груп | E13: дітей | H13: І група | I13: ІІ група | J13: ІІІ група | K13: всього груп | L13: всього дітей | M13: І група | N13: ІІ група | O13: ІІІ група | P13: всього груп | Q13: всього дітей | R13: І група | S13: ІІ група | T13: ІІІ група | U13: IV група | V13: всього груп | W13: всього дітей | X13: І група | Y13: ІІ група | Z13: ІІІ група | AA13: всього груп | AB13: всього дітей | AC13: І група | AD13: ІІ група | AE13: всього груп | AF13: всього дітей | AG13: груп | AH13: дітей | AK13: груп | AL13: дітей | AM13: груп | AN13: дітей
A14: Коломийський ЗДО (ясла-садок) комбінованого типу №2 "Дударик" | B14: 12 | C14: 240 | D14: 6 | E14: 92 | F14: 11 | G14: 230 | H14: 20 | K14: 1 | L14: 20 | M14: 25 | N14: 25 | P14: 2 | Q14: 50 | R14: 26 | S14: 26 | V14: 2 | W14: 52 | X14: 26 | AA14: 1 | AB14: 26 | AG14: 5 | AH14: 80 | AI14: 1 | AJ14: 10 | AM14: 1 | AN14: 10
A15: Коломийський ЗДО (ясла-садок) №3 "Берізка" | B15: 10 | C15: 240 | D15: 1 | E15: 12 | F15: 10 | G15: 240 | H15: 20 | I15: 20 | J15: 20 | K15: 3 | L15: 60 | M15: 25 | N15: 25 | P15: 2 | Q15: 50 | R15: 24 | S15: 25 | T15: 25 | V15: 3 | W15: 74 | X15: 28 | Y15: 28 | AA15: 2 | AB15: 56
A16: Коломийський ЗДО (ясла-садок) №5 "Барвінок" | B16: 8 | C16: 180 | D16: 1 | E16: 18 | F16: 8 | G16: 180 | H16: 20 | I16: 20 | K16: 2 | L16: 40 | M16: 25 | N16: 25 | P16: 2 | Q16: 50 | R16: 26 | S16: 18 | V16: 2 | W16: 44 | X16: 26 | Y16: 20 | AA16: 2 | AB16: 46
A17: Коломийський ЗДО (ясла-садок) №7 "Росинка" | B17: 10 | C17: 222 | D17: 1 | E17: 12 | F17: 10 | G17: 222 | H17: 20 | I17: 20 | J17: 20 | K17: 3 | L17: 60 | M17: 25 | N17: 25 | P17: 2 | Q17: 50 | R17: 26 | S17: 26 | V17: 2 | W17: 52 | X17: 22 | Y17: 23 | Z17: 15 | AA17: 3 | AB17: 60
A18: Коломийський ЗДО (ясла-садок)№9 "Веселка" | B18: 4 | C18: 115 | F18: 4 | G18: 115 | H18: 25 | K18: 1 | L18: 25 | M18: 30 | P18: 1 | Q18: 30 | R18: 30 | V18: 1 | W18: 30 | X18: 30 | AA18: 1 | AB18: 30
A19: Коломийський ЗДО (ясла-садок) №11 "Сонечко" | B19: 6 | C19: 178 | D19: 1 | E19: 14 | F19: 6 | G19: 178 | H19: 30 | K19: 1 | L19: 30 | M19: 35 | P19: 1 | Q19: 35 | R19: 25 | S19: 23 | V19: 2 | W19: 48 | X19: 33 | Y19: 32 | AA19: 2 | AB19: 65
A20: Коломийський ЗДО (ясла-садок) №14 "Світанок" | B20: 6 | C20: 149 | D20: 1 | E20: 12 | F20: 6 | G20: 149 | H20: 22 | I20: 20 | K20: 2 | L20: 42 | M20: 26 | N20: 25 | P20: 2 | Q20: 51 | R20: 27 | V20: 1 | W20: 27 | X20: 29 | AA20: 1 | AB20: 29
A21: Коломийський ЗДО (ясла-садок) №16 "Орлятко" | B21: 11 | C21: 271 | D21: 1 | E21: 12 | F21: 11 | G21: 271 | H21: 20 | I21: 20 | K21: 2 | L21: 40 | M21: 27 | N21: 27 | P21: 2 | Q21: 54 | R21: 25 | S21: 25 | T21: 25 | U21: 20 | V21: 4 | W21: 95 | X21: 31 | Y21: 31 | Z21: 20 | AA21: 3 | AB21: 82
A22: Коломийський ЗДО (ясла-садок) №17 "Калинка" | B22: 10 | C22: 210 | D22: 1 | E22: 12 | F22: 10 | G22: 210 | H22: 20 | I22: 20 | K22: 2 | L22: 40 | M22: 23 | N22: 22 | P22: 2 | Q22: 45 | R22: 22 | S22: 22 | T22: 12 | V22: 3 | W22: 56 | X22: 21 | Y22: 23 | Z22: 25 | AA22: 3 | AB22: 69
A23: Коломийський ЗДО (ясла-садок) №18 "Ластівка" | B23: 3 | C23: 77 | F23: 3 | G23: 77 | H23: 23 | K23: 1 | L23: 23 | R23: 24 | V23: 1 | W23: 24 | X23: 30 | AA23: 1 | AB23: 30
A24: Коломийський ЗДО (ясла-садок) №19 "Ромашка" | B24: 11 | C24: 266 | D24: 1 | E24: 14 | F24: 11 | G24: 266 | H24: 20 | I24: 20 | J24: 20 | K24: 3 | L24: 60 | M24: 26 | N24: 26 | P24: 2 | Q24: 52 | R24: 26 | S24: 25 | T24: 25 | V24: 3 | W24: 76 | X24: 24 | Y24: 27 | Z24: 27 | AA24: 3 | AB24: 78
A25: НВК "Дошкільний навчальний заклад-загальноосвітній навчальний заклад І ступеня №20 "Світлячок" | B25: 8 | C25: 187 | D25: 1 | E25: 12 | F25: 8 | G25: 187 | H25: 20 | I25: 20 | K25: 2 | L25: 40 | M25: 26 | N25: 27 | P25: 2 | Q25: 53 | R25: 22 | S25: 22 | V25: 2 | W25: 44 | X25: 24 | Y25: 26 | AA25: 2 | AB25: 50
A26: Коломийський ЗДО (ясла-садок) №21 "Пролісок" | B26: 11 | C26: 260 | D26: 1 | E26: 13 | F26: 11 | G26: 260 | H26: 20 | I26: 20 | J26: 20 | K26: 3 | L26: 60 | M26: 25 | N26: 25 | O26: 25 | P26: 3 | Q26: 75 | R26: 25 | S26: 25 | V26: 2 | W26: 50 | X26: 25 | Y26: 25 | Z26: 25 | AA26: 3 | AB26: 75
A27: Воскресинцівський ЗДО (дитячий садок) "Світанок" | B27: 2 | C27: 49 | F27: 2 | G27: 49 | M27: 25 | P27: 1 | Q27: 25 | X27: 24 | AA27: 1 | AB27: 24
A28: Іванівецький НВК "Загальноосвітня школа І-ІІІ ступенів-дошкільний навчальний заклад" | B28: 2 | C28: 48 | F28: 2 | G28: 48 | N28: 24 | P28: 1 | Q28: 24 | X28: 24 | AA28: 1 | AB28: 24
A29: Саджавський ЗДО (ясла-садок) "Дударик" | B29: 4 | C29: 98 | F29: 4 | G29: 98 | H29: 20 | K29: 1 | L29: 20 | M29: 25 | P29: 1 | Q29: 25 | R29: 25 | V29: 1 | W29: 25 | X29: 28 | AA29: 1 | AB29: 28
A30: Товмачицький ЗДО (дитячий садок) "Теремок" | B30: 1 | C30: 28 | F30: 1 | G30: 28 | AC30: 28 | AE30: 1 | AF30: 28
A31: Шепарівцівський ЗДО (дитячий садок) "Лісовичок" | B31: 2 | C31: 45 | F31: 2 | G31: 45 | M31: 21 | P31: 1 | Q31: 21 | AA31: 1 | AB31: 24 | AC31: 24 | AE31: 1 | AF31: 24
A32: Всього | B32: =SUM(B14:B31) -> 121 | C32: =SUM(C14:C31) -> 2863 | D32: =SUM(D14:D29) -> 16 | E32: =SUM(E14:E29) -> 223 | F32: =SUM(F14:F31) -> 120 | G32: =SUM(G14:G31) -> 2853 | H32: =SUM(H14:H31) -> 300 | I32: =SUM(I14:I31) -> 180 | J32: =SUM(J14:J31) -> 80 | K32: =SUM(K14:K29) -> 27 | L32: =SUM(L14:L29) -> 560 | M32: =SUM(M14:M31) -> 389 | N32: =SUM(N14:N31) -> 276 | O32: =SUM(O14:O31) -> 25 | P32: =SUM(P14:P31) -> 27 | Q32: =SUM(Q14:Q31) -> 690 | R32: =SUM(R14:R31) -> 353 | S32: =SUM(S14:S31) -> 237 | T32: =SUM(T14:T31) -> 87 | V32: =SUM(V14:V31) -> 29 | W32: =SUM(W14:W31) -> 697 | X32: =SUM(X14:X31) -> 425 | Y32: =SUM(Y14:Y31) -> 235 | Z32: =SUM(Z14:Z31) -> 112 | AA32: =SUM(AA14:AA31) -> 31 | AB32: =SUM(AB14:AB31) -> 796 | AC32: =SUM(AC14:AC31) -> 52 | ... AF32: =SUM(AF14:AF31) -> 52 | AG32: =SUM(AG14:AG26) -> 5 | AH32: 97 | AI32: =SUM(AI14:AI26) -> 1 | AJ32: =SUM(AJ14:AJ23) -> 10 | AK32: =SUM(AK14:AK23) -> 0 | AL32: =SUM(AL14:AL23) -> 0 | AM32: =SUM(AM14:AM23) -> 1 | AN32: =SUM(AN14:AN23) -> 10
A34: З них інклюзивне навчання у:
A35: Коломийський ЗДО (ясла-садок) №3 "Берізка" | B35: 2 | C35: 2 | R35: 1 | V35: 1 | W35: 1 | X35: 1 | AA35: 1 | AB35: 1
A36: Коломийський ЗДО (ясла-садок) №5 "Барвінок" | B36: 4 | C36: 5 | R36: 1 | S36: 1 | V36: 2 | W36: 2 | X36: 2 | Y36: 1 | AA36: 2 | AB36: 3
A37: Коломийський ЗДО (ясла-садок) №7 "Росинка" | B37: 1 | C37: 2 | Y37: 2 | AA37: 1 | AB37: 2
A38: Коломийський ЗДО (ясла-садок) №11 "Сонечко" | B38: 4 | C38: 4 | R38: 1 | S38: 1 | V38: 2 | W38: 2 | X38: 1 | Y38: 1 | AA38: 2 | AB38: 2
A39: Коломийський ЗДО (ясла-садок) №16 "Орлятко" | B39: 3 | C39: 3 | M39: 1 | P39: 1 | Q39: 1 | R39: 1 | V39: 1 | W39: 1 | X39: 1 | AA39: 1 | AB39: 1
A40: Коломийський ЗДО(ясла-садок) №17 "Калинка" | B40: 1 | C40: 1 | Z40: 1 | AA40: 1 | AB40: 1
A41: Коломийський ЗДО (ясла-садок) №19 "Ромашка" | B41: 1 | C41: 1 | X41: 1 | AA41: 1 | AB41: 1
A42: Коломийський ЗДО(ясла-садок) №21 "Пролісок" | B42: 1 | C42: 1 | X42: 1 | AA42: 1 | AB42: 1
A43: Всього | B43: =SUM(B35:B42) -> 17 | C43: =SUM(C35:C42) -> 19 | M43: =SUM(M34:M42) -> 1 | P43: 1 | Q43: 1 | R43: =SUM(R34:R42) -> 4 | S43: =SUM(S34:S42) -> 2 | V43: =SUM(V35:V42) -> 6 | W43: =SUM(W35:W42) -> 6 | X43: =SUM(X34:X42) -> 7 | Y43: =SUM(Y34:Y42) -> 4 | AA43: =SUM(AA34:AA42) -> 10 | AB43: =SUM(AB35:AB42) -> 12 | AC43: =SUM(AC34:AC42) -> 0 | AD43: =SUM(AD34:AD42) -> 0 | AG43: =SUM(AG34:AG42) -> 0 | AH43: =SUM(AH34:AH42) -> 0
A48: Керуючий справами виконавчого комітету | AA48: Тарас Кухтар

Sheet позашкілля нове
T1: Додаток 3
T2: до рішення виконавчого комітету
T3: від 26.05.2020 р. № 66
E4: Планова мережа закладів позашкільної освіти на 2020/2021 навчальний рік
A7: Заклад позашкільної освіти | B7: Всього груп | C7: Всього дітей | D7: Еколого-натуралістичний напрям | I7: Науково-технічний напрям | N7: Художньо-естетичний напрям | S7: Туристсько-краєзнавчий напрям | X7: Військово-патріотичний
D8: Назва гуртка | E8: груп | F8: в них дітей | G8: всього груп | H8: всього дітей | I8: Назва гуртка | J8: груп | K8: в них дітей | L8: всього груп | M8: всього дітей | N8: Назва гуртка | O8: груп | P8: в них дітей | Q8: всього груп | R8: всього дітей | S8: Назва гуртка | T8: груп | U8: в них дітей | V8: всього груп | W8: всього дітей | X8: Назва гуртка | Y8: груп | Z8: в них дітей | AA8: всього груп | AB8: всього дітей
A9: Коломийський навчально-виробничий центр творчості учнівської молоді | B9: 31 | C9: 372 | D9: Юні орнітологи | E9: 1 | F9: 12 | G9: 9 | H9: 108 | I9: Конструювання повітряних зміїв | J9: 1 | K9: 13 | L9: 21 | M9: 252 | N9: Гаптування шовковими стрічками | O9: 1 | P9: 12 | Q9: 1 | R9: 12
D10: Юні охоронці природи | E10: 2 | F10: 24 | I10: Цікава майстерня | J10: 3 | K10: 36
D11: Лікарські рослини | E11: 1 | F11: 12 | I11: Історико-технічне стендове моделювання | J11: 2 | K11: 24
D12: Флористика та фітодизайн інтер'єру | E12: 1 | F12: 12 | I12: Основи робототехніки та комп'ютерного моделювання | J12: 1 | K12: 12
D13: Юні рослинники | E13: 1 | F13: 12 | I13: Конструювання з матеріалів вторинного використання | J13: 1 | K13: 12
D14: Екофітодизайн | E14: 3 | F14: 36 | I14: Юні конструктори приладів радіоелектроніки | J14: 1 | K14: 12
I15: Початкове технічне моделювання | J15: 1 | K15: 12
I16: Початкове технічне моделювання з елементами англійської мови | J16: 2 | K16: 24
I17: Юні дослідники | J17: 1 | K17: 12
I18: Технічні вироби з паперу | J18: 1 | K18: 12
I19: Цифрова фотографія | J19: 3 | K19: 36
I20: Дизайн з елементами польської мови | J20: 3 | K20: 36
I21: Технічний дизайн | J21: 1 | K21: 12
A22: Коломийська музична студія | B22: 11 | C22: 150 | N22: Вокальний | O22: 3 | P22: 32 | Q22: 11 | R22: 150
N23: Фортепіанний | O23: 8 | P23: 118
A24: Коломийська станція юних туристів | B24: 29 | C24: 348 | S24: Пішохідний туризм | T24: 4 | U24: 48 | V24: 21 | W24: 252 | X24: Пластове новацтво | Y24: 3 | Z24: 36 | AA24: 8 | AB24: 96
S25: Велосипедний туризм | T25: 2 | U25: 24 | X25: Пластове юнацтво | Y25: 4 | Z25: 48
S26: Гірський туризм | T26: 2 | U26: 24 | X26: Юний захисник Вітчизни | Y26: 1 | Z26: 12
S27: Спортивний туризм | T27: 2 | U27: 24
S28: Спортивно-оздоровчий | T28: 2 | U28: 24
S29: Організатор спортивного туризму | T29: 1 | U29: 12
S30: Спортивне орієнтування | T30: 1 | U30: 12
S31: Юні туристи краєзнавці | T31: 2 | U31: 24
S32: Геологічне краєзнавство | T32: 1 | U32: 12
S33: Географічне краєзнавство | T33: 3 | U33: 36
S34: Екологічне краєзнавство | T34: 1 | U34: 12
A35: Коломийський будинок дитячої та юнацької творчості | B35: 70 | C35: 796 | I35: Початкове технічне моделювання | J35: 3 | K35: 30 | L35: 9 | M35: 90 | N35: Вокальний | O35: 6 | P35: 60 | Q35: 54 | R35: 636 | X35: Молодий патріот | Y35: 2 | Z35: 20 | AA35: 4 | AB35: 40
I36: Скретч програмування | J36: 3 | K36: 30 | N36: Бальні танці | O36: 4 | P36: 96 | X36: Бойовий гопак | Y36: 2 | Z36: 20
I37: Робототехніка | J37: 3 | K37: 30 | N37: Народні танці | O37: 4 | P37: 80
N38: Брейк-данс | O38: 3 | P38: 30
N39: Духовий оркестр | O39: 3 | P39: 30
N40: Вишиванка | O40: 3 | P40: 30
N41: Оркестр народних інструментів | O41: 2 | P41: 20
N42: Рукоділля | O42: 2 | P42: 20
N43: Театральний | O43: 3 | P43: 30
N44: Прикладне мистецтво | O44: 3 | P44: 30
N45: Іграшка | O45: 3 | P45: 30
N46: Плетіння гачком | O46: 3 | P46: 30
N47: Бісероплетіння | O47: 4 | P47: 40
N48: В'язання спицями | O48: 3 | P48: 30
N49: Гердан | O49: 3 | P49: 30
... N52: Музично-літературний | O52: 2 | P52: 20
A53: Всього | B53: =SUM(B9:B52) -> 141 | C53: =SUM(C9:C52) -> 1666 | E53: =SUM(E9:E52) -> 9 | F53: =SUM(F9:F52) -> 108 | G53: =SUM(G9:G52) -> 9 | H53: =SUM(H9:H52) -> 108 | J53: =SUM(J9:J52) -> 30 | K53: =SUM(K9:K52) -> 343 | L53: =SUM(L9:L52) -> 30 | M53: =SUM(M9:M52) -> 342 | O53: =SUM(O9:O52) -> 69 | P53: =SUM(P9:P52) -> 828 | Q53: =SUM(Q9:Q52) -> 66 | R53: =SUM(R9:R52) -> 798 | T53: =SUM(T9:T52) -> 21 | U53: =SUM(U9:U52) -> 252 | V53: =SUM(V9:V52) -> 21 | W53: =SUM(W9:W52) -> 252 | Y53: =SUM(Y9:Y52) -> 12 | Z53: =SUM(Z9:Z52) -> 136 | AA53: =SUM(AA9:AA52) -> 12 | AB53: =SUM(AB9:AB52) -> 136
A59: Керуючий справами виконавчого комітету | T59: Тарас Кухтар

Sheet Садки
U2: Додаток 2
U3: до рішення виконавчого комітету
U4: від ________________ №_______
B6: Планова мережа закладів дошкільної освіти
B7: на 2020-2021 навчальний рік
A10: Заклади дошкільної освіти | B10: Кількість | H10: Тривалість робочого часу
H11: 10,5 год | V11: Цілодобовий
B12: груп | C12: Дітей | D12: з них: спеціальні та логопедичні | F12: ранній вік (2-3 р) | H12: груп | I12: дітей | J12: ранній вік (2- 3 р) | L12: молодший дошкільний вік (3-4 р) | N12: середній дошкільний вік (4-5 р) | P12: старший дошкільний вік (5-6 р) | R12: перед- шкільний вік (2-6 р) | T12: спеціальні | V12: груп | W12: дітей | X12: до 3 років | Z12: спец.
C13: (списковий склад) | D13: груп | E13: дітей | F13: груп | G13: дітей | J13: груп | K13: дітей | L13: груп | M13: дітей | N13: груп | O13: дітей | P13: груп | Q13: дітей | R13: груп | S13: дітей | T13: груп | U13: дітей | X13: груп | Y13: дітей | Z13: груп | AA13: груп | AB13: дітей
A14: Коломийський ЗДО №2 "Дударик" | B14: 12 | C14: 240 | D14: 6 | E14: 92 | F14: 1 | G14: 20 | H14: 11 | I14: 230 | J14: 1 | K14: 20 | L14: 2 | M14: 50 | N14: 2 | O14: 52 | P14: 1 | Q14: 26 | T14: 5 | U14: 80 | V14: 1 | W14: 10 | AA14: 1 | AB14: 10
A15: Коломийський ЗДО №3 "Берізка" | B15: 10 | C15: 240 | D15: 1 | E15: 28 | F15: 3 | G15: 60 | H15: 10 | I15: 240 | J15: 3 | K15: 60 | L15: 2 | M15: 50 | N15: 3 | O15: 124 | P15: 2 | Q15: 56
A16: Коломийський ЗДО №5 "Барвінок" | B16: 8 | C16: 180 | D16: 1 | E16: 18 | F16: 2 | G16: 40 | H16: 8 | I16: 180 | J16: 2 | K16: 40 | L16: 2 | M16: 50 | N16: 1 | O16: 26 | P16: 1 | Q16: 26 | R16: 1 | S16: 20
A17: Коломийський ЗДО №7 "Росинка" | B17: 10 | C17: 222 | D17: 1 | E17: 22 | F17: 3 | G17: 60 | H17: 10 | I17: 222 | J17: 3 | K17: 60 | L17: 2 | M17: 50 | N17: 2 | O17: 52 | P17: 2 | Q17: 45 | R17: 1 | S17: 15
A18: Коломийський ЗДО №9 "Веселка" | B18: 4 | C18: 115 | F18: 1 | G18: 25 | H18: 4 | I18: 115 | J18: 1 | K18: 25 | L18: 1 | M18: 30 | N18: 1 | O18: 30 | P18: 1 | Q18: 30
A19: Коломийський ЗДО №11 "Сонечко" | B19: 6 | C19: 178 | D19: 1 | E19: 14 | F19: 1 | G19: 30 | H19: 6 | I19: 178 | J19: 1 | K19: 30 | L19: 1 | M19: 35 | N19: 2 | O19: 48 | P19: 2 | Q19: 65
A20: Коломийський ЗДО №14 "Світанок" | B20: 6 | C20: 149 | D20: 1 | E20: 12 | F20: 2 | G20: 42 | H20: 6 | I20: 149 | J20: 2 | K20: 42 | L20: 2 | M20: 51 | N20: 1 | O20: 27 | P20: 1 | Q20: 29
A21: Коломийський ЗДО №16 "Орлятко" | B21: 11 | C21: 271 | D21: 1 | E21: 20 | F21: 2 | G21: 40 | H21: 11 | I21: 271 | J21: 2 | K21: 40 | L21: 2 | M21: 54 | N21: 3 | O21: 75 | P21: 2 | Q21: 62 | R21: 1 | S21: 20
A22: Коломийський ЗДО №17 "Калинка" | B22: 10 | C22: 210 | D22: 1 | E22: 12 | F22: 2 | G22: 40 | H22: 10 | I22: 210 | J22: 2 | K22: 40 | L22: 2 | M22: 45 | N22: 2 | O22: 44 | P22: 2 | Q22: 44
A23: Коломийський ЗДО №18 "Ластівка" | B23: 3 | C23: 77 | F23: 1 | G23: 23 | H23: 3 | I23: 77 | J23: 1 | K23: 23 | L23: 1 | M23: 24 | R23: 1 | S23: 30
A24: Коломийський ЗДО №19 "Ромашка" | B24: 11 | C24: 266 | D24: 1 | E24: 14 | F24: 3 | G24: 60 | H24: 11 | I24: 266 | J24: 3 | K24: 60 | L24: 2 | M24: 52 | N24: 2 | O24: 50 | P24: 3 | Q24: 78
A25: НВК "Дошкільний навчальний заклад-загальноосвітній навчальний заклад І ступеня №20 "Світлячок" | B25: 8 | C25: 187 | D25: 1 | E25: 12 | F25: 2 | G25: 40 | H25: 8 | I25: 187 | J25: 2 | K25: 40 | L25: 2 | M25: 53 | N25: 2 | O25: 44 | P25: 2 | Q25: 50
A26: Коломийський ЗДО №21 "Пролісок" | B26: 11 | C26: 260 | D26: 1 | E26: 13 | F26: 3 | G26: 60 | H26: 11 | I26: 260 | J26: 3 | K26: 60 | L26: 3 | M26: 75 | N26: 2 | O26: 50 | P26: 2 | Q26: 50
A27: Воскресинцівський ЗДО"Світанок" | B27: 2 | C27: 49 | H27: 2 | I27: 49 | L27: 1 | M27: 25 | N27: 1 | O27: 24
A28: Іванівецький НВК "Загальноосвітня школа І-ІІІ ступенів-дошкільний навчальний заклад" | B28: 2 | C28: 48 | H28: 2 | I28: 48 | L28: 1 | M28: 24 | P28: 1 | Q28: 24
A29: Саджавський ЗДО "Дударик" | B29: 4 | C29: 98 | F29: 1 | G29: 20 | H29: 4 | I29: 98 | J29: 1 | K29: 20 | L29: 1 | M29: 25 | N29: 1 | O29: 25 | P29: 1 | Q29: 28
A30: Товмачицький ЗДО "Теремок" | B30: 1 | C30: 28 | H30: 1 | I30: 28 | R30: 1 | S30: 28
A31: Шепарівцівський ЗДО "Лісовичок" | B31: 2 | C31: 45 | H31: 2 | I31: 45 | L31: 1 | M31: 21 | P31: 1 | Q31: 24
A32: Всього | B32: =SUM(B14:B31) -> 121 | C32: =SUM(C14:C31) -> 2863 | D32: =SUM(D14:D29) -> 16 | E32: =SUM(E14:E29) -> 257 | F32: 26 | G32: 583 | H32: =SUM(H14:H31) -> 120 | I32: =SUM(I14:I31) -> 2853 | J32: =SUM(J14:J29) -> 27 | K32: =SUM(K14:K29) -> 560 | L32: =SUM(L14:L31) -> 28 | M32: =SUM(M14:M31) -> 714 | N32: =SUM(N14:N31) -> 25 | O32: =SUM(O14:O31) -> 671 | P32: =SUM(P14:P31) -> 24 | Q32: =SUM(Q14:Q31) -> 637 | R32: =SUM(R14:R31) -> 5 | S32: =SUM(S14:S31) -> 113 | T32: =SUM(T14:T26) -> 5 | U32: 80 | V32: =SUM(V14:V26) -> 1 | W32: =SUM(W14:W23) -> 10 | X32: =SUM(X14:X23) -> 0 | Y32: =SUM(Y14:Y23) -> 0 | Z32: =SUM(Z14:Z23) -> 0 | AA32: =SUM(AA14:AA23) -> 1 | AB32: =SUM(AB14:AB23) -> 10
A34: З них інклюзивне навчання у:
A35: Коломийський ЗДО №3 "Берізка"
A36: Коломийський ЗДО №5 "Барвінок"
A37: Коломийський ЗДО №7 "Росинка"
A38: Коломийський ЗДО №11 "Сонечко"
A39: Коломийський ЗДО №16 "Орлятко"
A40: Коломийський ЗДО №17 "Калинка"
A41: Коломийський ЗДО №19 "Ромашка"
A42: Коломийський ЗДО №21 "Пролісок"
A43: Всього
A45: Примітка. Фактична кількість дітей у кожному дошкільному закладі може змінюватися відповідно до потреб батьків.
A48: Керуючий справами виконавчого комітету Т. Кухтар

Sheet Позашкілля
L3: Додаток 5
L4: до рішення виконавчого комітету
L5: від ________________ №_______
C7: Планова мережа закладів позашкільної освіти Коломийської міської об'єднаної територіальної громади на 2020-2021 навчальний рік
E9: на 2020-2021 навчальний рік
A11: № з/п | B11: Назва закладу позашкільної освіти | C11: Напрями позашкільної освіти | O11: Кількість гуртків | P11: Кількість учнів
C12: художньо-естетичний | E12: військово-патріотичний | G12: еколого-натуралістичний | I12: науково-технічний | K12: туристсько-краєзнавчий | M12: гуманітарний
C13: кількість груп | D13: кількість учнів | E13: кількість груп | F13: кількість учнів | G13: кількість груп | H13: кількість учнів | I13: кількість груп | J13: кількість учнів | K13: кількість груп | L13: кількість учнів | M13: кількість груп | N13: кількість учнів
A14: 1 | B14: Коломийський будинок дитячої та юнацької творчості | C14: 54 | D14: 636 | E14: 4 | F14: 40 | I14: 9 | J14: 90 | O14: 67 | P14: 766
A15: 2 | B15: Коломийська станція юних туристів | E15: 9 | F15: 108 | K15: 20 | L15: 240 | O15: 29 | P15: 348
A16: 3 | B16: Коломийський навчально-виробничий центр творчості учнівської молоді | C16: 1 | D16: 12 | G16: 9 | H16: 108 | I16: 21 | J16: 252 | O16: 31 | P16: 372
A17: 4 | B17: Коломийська музична студія | C17: 11 | D17: 150 | O17: 11 | P17: 150
B18: Всього по закладах | C18: =SUM(C14:C17) -> 66 | D18: =SUM(D14:D17) -> 798 | E18: =SUM(E14:E17) -> 13 | F18: =SUM(F14:F17) -> 148 | G18: =SUM(G14:G17) -> 9 | H18: =SUM(H14:H17) -> 108 | I18: =SUM(I14:I17) -> 30 | J18: =SUM(J14:J17) -> 342 | ... N18: =SUM(N14:N17) -> 0 | O18: 138 | P18: 1636
A24: Керуючий справами виконавчого комітету | N24: Т. Кухтар
