Workbook

Sheet 1-4
Y4: Додаток 1
Y5: до рішення виконавчого комітету
Y6: від 10.09.2019 № 172
B8: Фактична мережа закладів загальної середньої освіти
B9: на 2019/2020 навчальний рік
A11: Заклади загальної середньої освіти | B11: 1-А | C11: 1-Б | D11: 1-В | E11: 1-Г | F11: 1-Д | G11: 1-І | H11: к-сть класів | I11: к-сть учнів | J11: 2-А | K11: 2-Б | L11: 2-В | M11: 2-Г | N11: 2-Д | O11: 2-І | P11: к-сть класів | Q11: к-сть учнів | R11: 3-А | S11: 3-Б | T11: 3-В | U11: 3-Г | V11: 3-Д | W11: 3-І | X11: к-сть класів | Y11: к-сть учнів | Z11: 4-А | AA11: 4-Б | AB11: 4-В | AC11: 4-Г | AD11: 4-Д | AE11: к-сть класів | AF11: к-сть учнів | AG11: к-сть 1-4 класів | AH11: к-сть учнів у 1-4 кл.
A12: Коломийський ліцей №1 імені В.Стефаника | B12: 30 | C12: 30 | D12: 26 | E12: 30 | G12: 29 | H12: 5 | I12: 145 | J12: 28 | K12: 30 | L12: 31 | M12: 30 | O12: 29 | P12: 5 | Q12: 148 | R12: 24 | S12: 32 | T12: 32 | W12: 32 | X12: 4 | Y12: 120 | Z12: 34 | AA12: 31 | AB12: 30 | AC12: 29 | AD12: 18 | AE12: 5 | AF12: 142 | AG12: =SUM(H12,P12,X12,AE12) -> 19 | AH12: =SUM(I12,Q12,Y12,AF12) -> 555
A13: Коломийський ліцей №2 | B13: 30 | C13: 30 | D13: 28 | H13: 3 | I13: 88 | J13: 29 | K13: 31 | P13: 2 | Q13: 60 | R13: 22 | S13: 26 | T13: 26 | X13: 3 | Y13: 74 | Z13: 30 | AA13: 29 | AE13: 2 | AF13: 59 | AG13: =SUM(H13,P13,X13,AE13) -> 10 | AH13: =SUM(I13,Q13,Y13,AF13) -> 281
A14: Коломийський ліцей №3 | B14: 28 | H14: 1 | I14: 28 | J14: 29 | P14: 1 | Q14: 29 | R14: 25 | X14: 1 | Y14: 25 | Z14: 33 | AE14: 1 | AF14: 33 | AG14: =SUM(H14,P14,X14,AE14) -> 4 | AH14: =SUM(I14,Q14,Y14,AF14) -> 115
A15: Коломийський ліцей №4 імені Сергія Лисенка | B15: 29 | C15: 30 | D15: 30 | E15: 28 | F15: 29 | H15: 5 | I15: 146 | J15: 30 | K15: 30 | L15: 25 | M15: 30 | N15: 28 | P15: 5 | Q15: 143 | R15: 29 | S15: 29 | T15: 30 | U15: 30 | V15: 20 | X15: 5 | Y15: 138 | Z15: 32 | AA15: 32 | AB15: 35 | AC15: 32 | AE15: 4 | AF15: 131 | AG15: =SUM(H15,P15,X15,AE15) -> 19 | AH15: =SUM(I15,Q15,Y15,AF15) -> 558
A16: Коломийський ліцей №5 імені Т.Г.Шевченка | B16: 30 | C16: 30 | D16: 30 | H16: 3 | I16: 90 | J16: 23 | K16: 29 | L16: 29 | P16: 3 | Q16: 81 | R16: 29 | S16: 22 | T16: 23 | X16: 3 | Y16: 74 | Z16: 26 | AA16: 24 | AB16: 22 | AE16: 3 | AF16: 72 | AG16: =SUM(H16,P16,X16,AE16) -> 12 | AH16: =SUM(I16,Q16,Y16,AF16) -> 317
A17: Коломийський ліцей №6 імені Героя України Тараса Сенюка | B17: 23 | C17: 25 | D17: 24 | H17: 3 | I17: 72 | J17: 27 | K17: 25 | L17: 19 | P17: 3 | Q17: 71 | R17: 28 | S17: 28 | T17: 20 | X17: 3 | Y17: 76 | Z17: 31 | AA17: 30 | AE17: 2 | AF17: 61 | AG17: =SUM(H17,P17,X17,AE17) -> 11 | AH17: =SUM(I17,Q17,Y17,AF17) -> 280
A18: Коломийська гімназія №7 | B18: 29 | H18: 1 | I18: 29 | J18: 30 | P18: 1 | Q18: 30 | R18: 22 | S18: 16 | X18: 2 | Y18: 38 | Z18: 22 | AE18: 1 | AF18: 22 | AG18: =SUM(H18,P18,X18,AE18) -> 5 | AH18: =SUM(I18,Q18,Y18,AF18) -> 119
A19: Коломийський ліцей №8 | B19: 28 | C19: 28 | D19: 29 | H19: 3 | I19: 85 | J19: 29 | K19: 28 | L19: 28 | P19: 3 | Q19: 85 | R19: 29 | S19: 17 | T19: 28 | X19: 3 | Y19: 74 | Z19: 28 | AA19: 28 | AB19: 27 | AE19: 3 | AF19: 83 | AG19: =SUM(H19,P19,X19,AE19) -> 12 | AH19: =SUM(I19,Q19,Y19,AF19) -> 327
A20: Коломийський ліцей №9 | B20: 30 | C20: 30 | D20: 30 | H20: 3 | I20: 90 | J20: 30 | K20: 30 | L20: 30 | M20: 28 | P20: 4 | Q20: 118 | R20: 30 | S20: 28 | T20: 29 | U20: 24 | X20: 4 | Y20: 111 | Z20: 30 | AA20: 30 | AB20: 30 | AC20: 30 | AE20: 4 | AF20: 120 | AG20: =SUM(H20,P20,X20,AE20) -> 15 | AH20: =SUM(I20,Q20,Y20,AF20) -> 439
A21: Коломийська гімназія №10 | B21: 30 | H21: 1 | I21: 30 | J21: 21 | K21: 16 | P21: 2 | Q21: 37 | R21: 26 | X21: 1 | Y21: 26 | Z21: 30 | AE21: 1 | AF21: 30 | AG21: =SUM(H21,P21,X21,AE21) -> 5 | AH21: =SUM(I21,Q21,Y21,AF21) -> 123
A22: Коломийський ліцей імені М.Грушевського
A23: НВК "Дошкільний навчальний заклад-загальноосвітній навчальний заклад І ступеня №20 "Світлячок" | B23: 26 | H23: 1 | I23: 26 | J23: 20 | P23: 1 | Q23: 20 | R23: 29 | X23: 1 | Y23: 29 | Z23: 23 | AE23: 1 | AF23: 23 | AG23: =SUM(H23,P23,X23,AE23) -> 4 | AH23: =SUM(I23,Q23,Y23,AF23) -> 98
A24: Воскресинцівський ліцей | B24: 19 | H24: 1 | I24: 19 | J24: 21 | P24: 1 | Q24: 21 | R24: 9 | X24: 1 | Y24: 9 | Z24: 20 | AE24: 1 | AF24: 20 | AG24: =SUM(H24,P24,X24,AE24) -> 4 | AH24: =SUM(I24,Q24,Y24,AF24) -> 69
A25: Іванівецький НВК "Загальноосвітня школа І-ІІІ ступенів-дошкільний навчальний заклад" | B25: 12 | H25: 1 | I25: 12 | J25: 18 | P25: 1 | Q25: 18 | R25: 19 | X25: 1 | Y25: 19 | Z25: 14 | AE25: 1 | AF25: 14 | AG25: =SUM(H25,P25,X25,AE25) -> 4 | AH25: =SUM(I25,Q25,Y25,AF25) -> 63
A26: Саджавський ліцей | B26: 21 | C26: 20 | H26: 2 | I26: 41 | J26: 20 | K26: 20 | P26: 2 | Q26: 40 | R26: 24 | S26: 24 | X26: 2 | Y26: 48 | Z26: 21 | AA26: 21 | AB26: 20 | AE26: 3 | AF26: 62 | AG26: =SUM(H26,P26,X26,AE26) -> 9 | AH26: =SUM(I26,Q26,Y26,AF26) -> 191
A27: Товмачицький ліцей | B27: 20 | H27: 1 | I27: 20 | J27: 16 | P27: 1 | Q27: 16 | R27: 27 | X27: 1 | Y27: 27 | Z27: 16 | AE27: 1 | AF27: 16 | AG27: =SUM(H27,P27,X27,AE27) -> 4 | AH27: =SUM(I27,Q27,Y27,AF27) -> 79
A28: Товмачицька вечірня (змінна) школа ІІ-ІІІ ст.
A29: Шепарівцівська гімназія | B29: 10 | H29: 1 | I29: 10 | J29: 11 | P29: 1 | Q29: 11 | R29: 6 | X29: 1 | Y29: 6 | Z29: 10 | AE29: 1 | AF29: 10 | AG29: =SUM(H29,P29,X29,AE29) -> 4 | AH29: =SUM(I29,Q29,Y29,AF29) -> 37
A30: Всього: | B30: =SUM(B12:B29) -> 395 | C30: =SUM(C12:C29) -> 223 | D30: =SUM(D12:D29) -> 197 | E30: =SUM(E12:E29) -> 58 | G30: =SUM(G12:G29) -> 29 | H30: =SUM(H12:H29) -> 35 | I30: =SUM(I12:I29) -> 931 | J30: =SUM(J12:J29) -> 382 | K30: =SUM(K12:K29) -> 239 | L30: =SUM(L12:L29) -> 162 | M30: =SUM(M12:M29) -> 88 | N30: =SUM(N12:N29) -> 28 | ... V30: =SUM(V12:V29) -> 20 | X30: =SUM(X12:X29) -> 36 | Y30: =SUM(Y12:Y29) -> 894 | Z30: =SUM(Z12:Z29) -> 400 | AA30: =SUM(AA12:AA29) -> 225 | AB30: =SUM(AB12:AB29) -> 164 | AC30: =SUM(AC12:AC29) -> 91 | AD30: =SUM(AD12:AD29) -> 18 | AE30: =SUM(AE12:AE29) -> 34 | ... AH30: =SUM(AH12:AH29) -> 3651
A32: З них інклюзивне навчання у:
A33: Коломийський ліцей №2 | B33: 1 | D33: 1 | H33: 2 | I33: 2
A34: Коломийський ліцей №3 | R34: 2 | X34: 1 | Y34: 2 | Z34: 1 | AE34: 1 | AF34: 1 | AG34: 2 | AH34: 3
A35: Коломийський ліцей №4 імені Сергія Лисенка | E35: 1 | F35: 1 | H35: 2 | I35: 2 | L35: 1 | P35: 1 | Q35: 1 | AG35: 3 | AH35: 3
A36: Коломийський ліцей №5 імені Т.Г.Шевченка | C36: 1 | D36: 1 | H36: 2 | I36: 2 | J36: 1 | L36: 1 | P36: 2 | Q36: 2 | AA36: 1 | AE36: 1 | AF36: 1 | AG36: 5 | AH36: 5
A37: Коломийський ліцей №6 імені Героя України Тараса Сенюка | T37: 1 | X37: 1 | Y37: 1 | AG37: 1 | AH37: 1
A38: Коломийська гімназія №7 | J38: 1 | P38: 1 | Q38: 1 | R38: 1 | X38: 1 | Y38: 1 | Z38: 1 | AE38: 1 | AF38: 1 | AG38: 3 | AH38: 3
A39: Коломийський ліцей №8 | B39: 1 | H39: 1 | I39: 1 | AG39: 1 | AH39: 1
A40: Коломийська гімназія №10 | J40: 1 | K40: 1 | P40: 2 | Q40: 2 | R40: 1 | X40: 1 | Y40: 1 | Z40: 1 | AE40: 1 | AF40: 1 | AG40: 4 | AH40: 4
A41: Саджавський ліцей | B41: 1 | H41: 1 | I41: 1 | AG41: 1 | AH41: 1
A42: Товмачицький ліцей | R42: 3 | X42: 1 | Y42: 3 | AG42: 1 | AH42: 3
A43: Шепарівцівська гімназія | J43: 2 | P43: 1 | Q43: 2 | AG43: 1 | AH43: 2
A44: Всього: | B44: 3 | C44: 1 | D44: 2 | E44: 1 | F44: 1 | H44: 8 | I44: 8 | J44: 5 | K44: 1 | L44: 2 | P44: 7 | Q44: 8 | R44: 7 | T44: 1 | X44: 5 | Y44: 8 | Z44: 3 | AA44: 1 | AE44: 4 | AF44: 4 | AG44: 22 | AH44: 26
A46: Керуючий справами виконавчого комітету | AA46: Тарас Кухтар

Sheet 5-9
AA3: Продовження додатка 1
AA4: до рішення виконавчого комітету
AA5: від 10.09.2019 № 172
B7: Фактична мережа закладів загальної середньої освіти
B8: на 2019/2020 навчальний рік
A11: Заклади загальної середньої освіти | B11: 5-А | C11: 5-Б | D11: 5-В | E11: 5-Г | F11: 5-Д | G11: к-сть класів | H11: к-сть учнів | I11: 6-А | J11: 6-Б | K11: 6-В | L11: 6-Г | M11: к-сть класів | N11: к-сть учнів | O11: 7-А | P11: 7-Б | Q11: 7-В | R11: 7-Г | S11: к-сть класів | T11: к-сть учнів | U11: 8-А | V11: 8-Б | W11: 8-В | X11: 8-Г | Y11: к-сть класів | Z11: к-сть учнів | AA11: 9-А | AB11: 9-Б | AC11: 9-В | AD11: 9-Г | AE11: к-сть класів | AF11: к-сть учнів | AG11: к-сть 5-9 класів | AH11: к-сть учнів у 5-9 кл.
A12: Коломийський ліцей №1 імені В.Стефаника | B12: 32 | C12: 30 | D12: 33 | E12: 30 | F12: 32 | G12: 5 | H12: 157 | I12: 32 | J12: 30 | K12: 34 | L12: 31 | M12: 4 | N12: 127 | O12: 28 | P12: 28 | Q12: 28 | R12: 31 | S12: 4 | T12: 115 | U12: 30 | V12: 24 | W12: 29 | Y12: 3 | Z12: 83 | AA12: 24 | AB12: 29 | AC12: 30 | AD12: 29 | AE12: 4 | AF12: 112 | AG12: =SUM(G12,M12,S12,Y12,AE12) -> 20 | AH12: =SUM(H12,N12,T12,Z12,AF12) -> 594
A13: Коломийський ліцей №2 | B13: 28 | C13: 26 | D13: 25 | G13: 3 | H13: 79 | I13: 27 | J13: 26 | M13: 2 | N13: 53 | O13: 32 | P13: 33 | S13: 2 | T13: 65 | U13: 27 | V13: 26 | Y13: 2 | Z13: 53 | AA13: 26 | AB13: 21 | AE13: 2 | AF13: 47 | AG13: =SUM(G13,M13,S13,Y13,AE13) -> 11 | AH13: =SUM(H13,N13,T13,Z13,AF13) -> 297
A14: Коломийський ліцей №3 | B14: 25 | C14: 21 | G14: 2 | H14: 46 | I14: 33 | M14: 1 | N14: 33 | O14: 19 | P14: 17 | S14: 2 | T14: 36 | U14: 16 | V14: 21 | Y14: 2 | Z14: 37 | AA14: 24 | AE14: 1 | AF14: 24 | AG14: =SUM(G14,M14,S14,Y14,AE14) -> 8 | AH14: =SUM(H14,N14,T14,Z14,AF14) -> 176
A15: Коломийський ліцей №4 імені Сергія Лисенка | B15: 30 | C15: 30 | D15: 31 | E15: 31 | G15: 4 | H15: 122 | I15: 29 | J15: 30 | K15: 29 | L15: 30 | M15: 4 | N15: 118 | O15: 26 | P15: 28 | Q15: 30 | R15: 27 | S15: 4 | T15: 111 | U15: 28 | V15: 30 | W15: 25 | X15: 21 | Y15: 4 | Z15: 104 | AA15: 26 | AB15: 30 | AC15: 28 | AD15: 17 | AE15: 4 | AF15: 101 | AG15: =SUM(G15,M15,S15,Y15,AE15) -> 20 | AH15: =SUM(H15,N15,T15,Z15,AF15) -> 556
A16: Коломийський ліцей №5 імені Т.Г.Шевченка | B16: 32 | C16: 31 | G16: 2 | H16: 63 | I16: 19 | J16: 21 | M16: 2 | N16: 40 | O16: 27 | P16: 24 | S16: 2 | T16: 51 | U16: 21 | V16: 29 | Y16: 2 | Z16: 50 | AA16: 28 | AB16: 30 | AE16: 2 | AF16: 58 | AG16: =SUM(G16,M16,S16,Y16,AE16) -> 10 | AH16: =SUM(H16,N16,T16,Z16,AF16) -> 262
A17: Коломийський ліцей №6 імені Героя України Тараса Сенюка | B17: 27 | C17: 26 | D17: 19 | G17: 3 | H17: 72 | I17: 22 | J17: 22 | K17: 22 | M17: 3 | N17: 66 | O17: 26 | P17: 21 | S17: 2 | T17: 47 | U17: 21 | V17: 18 | Y17: 2 | Z17: 39 | AA17: 19 | AB17: 21 | AE17: 2 | AF17: 40 | AG17: =SUM(G17,M17,S17,Y17,AE17) -> 12 | AH17: =SUM(H17,N17,T17,Z17,AF17) -> 264
A18: Коломийська гімназія №7 | B18: 32 | G18: 1 | H18: 32 | I18: 26 | M18: 1 | N18: 26 | O18: 23 | S18: 1 | T18: 23 | U18: 23 | Y18: 1 | Z18: 23 | AA18: 19 | AE18: 1 | AF18: 19 | AG18: =SUM(G18,M18,S18,Y18,AE18) -> 5 | AH18: =SUM(H18,N18,T18,Z18,AF18) -> 123
A19: Коломийський ліцей №8 | B19: 28 | C19: 30 | D19: 30 | G19: 3 | H19: 88 | I19: 29 | J19: 30 | K19: 30 | M19: 3 | N19: 89 | O19: 27 | P19: 29 | Q19: 28 | S19: 3 | T19: 84 | U19: 20 | V19: 21 | W19: 21 | Y19: 3 | Z19: 62 | AA19: 27 | AB19: 25 | AC19: 28 | AE19: 3 | AF19: 80 | AG19: =SUM(G19,M19,S19,Y19,AE19) -> 15 | AH19: =SUM(H19,N19,T19,Z19,AF19) -> 403
A20: Коломийський ліцей №9 | B20: 28 | C20: 30 | D20: 29 | G20: 3 | H20: 87 | I20: 26 | J20: 28 | K20: 29 | L20: 29 | M20: 4 | N20: 112 | O20: 30 | P20: 30 | Q20: 30 | S20: 3 | T20: 90 | U20: 20 | V20: 22 | W20: 28 | Y20: 3 | Z20: 70 | AA20: 29 | AB20: 21 | AC20: 21 | AE20: 3 | AF20: 71 | AG20: =SUM(G20,M20,S20,Y20,AE20) -> 16 | AH20: =SUM(H20,N20,T20,Z20,AF20) -> 430
A21: Коломийська гімназія №10 | B21: 26 | G21: 1 | H21: 26 | I21: 17 | J21: 18 | M21: 2 | N21: 35 | O21: 20 | P21: 17 | S21: 2 | T21: 37 | U21: 25 | Y21: 1 | Z21: 25 | AA21: 28 | AE21: 1 | AF21: 28 | AG21: =SUM(G21,M21,S21,Y21,AE21) -> 7 | AH21: =SUM(H21,N21,T21,Z21,AF21) -> 151
A22: Коломийський ліцей імені М.Грушевського | B22: 30 | C22: 30 | G22: 2 | H22: 60 | I22: 29 | J22: 29 | M22: 2 | N22: 58 | O22: 35 | P22: 35 | S22: 2 | T22: 70 | U22: 32 | V22: 33 | Y22: 2 | Z22: 65 | AA22: 28 | AB22: 28 | AE22: 2 | AF22: 56 | AG22: =SUM(G22,M22,S22,Y22,AE22) -> 10 | AH22: =SUM(H22,N22,T22,Z22,AF22) -> 309
A23: НВК "Дошкільний навчальний заклад-загальноосвітній навчальний заклад І ступеня №20 "Світлячок" | AG23: =SUM(G23,M23,S23,Y23,AE23) -> 0 | AH23: =SUM(H23,N23,T23,Z23,AF23) -> 0
A24: Воскресинцівський ліцей | B24: 21 | G24: 1 | H24: 21 | I24: 17 | M24: 1 | N24: 17 | O24: 13 | S24: 1 | T24: 13 | U24: 14 | Y24: 1 | Z24: 14 | AA24: 14 | AE24: 1 | AF24: 14 | AG24: =SUM(G24,M24,S24,Y24,AE24) -> 5 | AH24: =SUM(H24,N24,T24,Z24,AF24) -> 79
A25: Іванівецький НВК "Загальноосвітня школа І-ІІІ ступенів-дошкільний навчальний заклад" | B25: 19 | G25: 1 | H25: 19 | I25: 13 | M25: 1 | N25: 13 | O25: 12 | S25: 1 | T25: 12 | U25: 19 | Y25: 1 | Z25: 19 | AA25: 8 | AE25: 1 | AF25: 8 | AG25: =SUM(G25,M25,S25,Y25,AE25) -> 5 | AH25: =SUM(H25,N25,T25,Z25,AF25) -> 71
A26: Саджавський ліцей | B26: 21 | C26: 22 | G26: 2 | H26: 43 | I26: 18 | J26: 20 | M26: 2 | N26: 38 | O26: 22 | P26: 21 | S26: 2 | T26: 43 | U26: 19 | V26: 22 | Y26: 2 | Z26: 41 | AA26: 17 | AB26: 21 | AE26: 2 | AF26: 38 | AG26: =SUM(G26,M26,S26,Y26,AE26) -> 10 | AH26: =SUM(H26,N26,T26,Z26,AF26) -> 203
A27: Товмачицький ліцей | B27: 19 | G27: 1 | H27: 19 | I27: 15 | M27: 1 | N27: 15 | O27: 10 | S27: 1 | T27: 10 | U27: 18 | Y27: 1 | Z27: 18 | AA27: 16 | AE27: 1 | AF27: 16 | AG27: =SUM(G27,M27,S27,Y27,AE27) -> 5 | AH27: =SUM(H27,N27,T27,Z27,AF27) -> 78
A28: Товмачицька вечірня (змінна)школа ІІ-ІІІ ст. | B28: 6 | G28: 1 | H28: 6 | AG28: =SUM(G28,M28,S28,Y28,AE28) -> 1 | AH28: =SUM(H28,N28,T28,Z28,AF28) -> 6
A29: Шепарівцівська гімназія | B29: 12 | G29: 1 | H29: 12 | I29: 11 | M29: 1 | N29: 11 | O29: 18 | S29: 1 | T29: 18 | U29: 12 | Y29: 1 | Z29: 12 | AA29: 7 | AE29: 1 | AF29: 7 | AG29: =SUM(G29,M29,S29,Y29,AE29) -> 5 | AH29: =SUM(H29,N29,T29,Z29,AF29) -> 60
A30: Всього: | B30: =SUM(B12:B29) -> 416 | C30: =SUM(C12:C29) -> 276 | D30: =SUM(D12:D29) -> 167 | E30: =SUM(E12:E29) -> 61 | F30: =SUM(F12:F29) -> 32 | G30: =SUM(G12:G29) -> 36 | H30: =SUM(H12:H29) -> 952 | I30: =SUM(I12:I29) -> 363 | ... AH30: =SUM(AH12:AH29) -> 4062
A32: З них інклюзивне навчання у:
A33: Коломийський ліцей №1 імені В.Стефаника | F33: 1 | G33: 1 | H33: 1 | AC33: 1 | AE33: 1 | AF33: 1 | AG33: 2 | AH33: 2
A34: Коломийський ліцей №3 | I34: 1 | M34: 1 | N34: 1 | AG34: 1 | AH34: 1
A35: Коломийський ліцей №5 імені Т.Г.Шевченка | C35: 1 | G35: 1 | H35: 1 | J35: 1 | M35: 1 | N35: 1 | AG35: 2 | AH35: 2
A36: Коломийська гімназія №7 | I36: 1 | M36: 1 | N36: 1 | AG36: 1 | AH36: 1
A37: Коломийський ліцей №8 | D37: 1 | G37: 1 | H37: 1 | K37: 1 | M37: 1 | N37: 1 | AG37: 2 | AH37: 2
A38: Коломийська гімназія №10 | I38: 1 | M38: 1 | N38: 1 | O38: 1 | P38: 1 | S38: 2 | T38: 2 | AG38: 3 | AH38: 3
A39: Всього: | C39: 1 | D39: 1 | F39: 1 | G39: 3 | H39: 3 | I39: 3 | J39: 1 | K39: 1 | M39: 5 | N39: 5 | O39: 1 | P39: 1 | S39: 2 | T39: 2 | AC39: 1 | AE39: 1 | AF39: 1 | AG39: 11 | AH39: 11
A41: Керуючий справами виконавчого комітету | AA41: Тарас Кухтар

Sheet 10-12
S3: Продовження додатка 1
S4: до рішення виконавчого комітету
S5: від 10.09.2019 № 172
B8: Фактична мережа закладів загальної середньої освіти
B9: на 2019/2020 навчальний рік
A12: Заклади загальної середньої освіти | B12: 10-А | C12: 10-Б | D12: 10-В | E12: к-сть класів | F12: к-сть учнів | G12: 11-А | H12: 11-Б | I12: 11-В | J12: к-сть класів | K12: к-сть учнів | L12: 12 | M12: к-сть класів | N12: к-сть учнів | O12: к-сть 10-12 класів | P12: к-сть учнів 10-12 класах | Q12: к-сть 1-12 класів | R12: к-сть учнів у 1-12кл. | S12: ГПД (к-сть ставок) | U12: Наповнюваність
U13: І-ІV | V13: V-IX | W13: X-XII | X13: I-XII
A14: Коломийський ліцей №1 імені В.Стефаника | B14: 22 | C14: 20 | D14: 23 | E14: 3 | F14: 65 | G14: 29 | H14: 29 | J14: 2 | K14: 58 | O14: =SUM(E14,J14) -> 5 | P14: =SUM(F14,K14) -> 123 | Q14: =SUM('1-4'!AG12,'5-9'!AG12,O14) -> 44 | R14: =SUM('1-4'!AH12,'5-9'!AH12,P14) -> 1272 | S14: 5 | U14: ='1-4'!AH12/'1-4'!AG12 -> 29.210526 | V14: ='5-9'!AH12/'5-9'!AG12 -> 29.7 | W14: =P14/O14 -> 24.6 | X14: =R14/Q14 -> 28.909091
A15: Коломийський ліцей №2 | B15: 17 | E15: 1 | F15: 17 | G15: 21 | J15: 1 | K15: 21 | O15: =SUM(E15,J15) -> 2 | P15: =SUM(F15,K15) -> 38 | Q15: =SUM('1-4'!AG13,'5-9'!AG13,O15) -> 23 | R15: =SUM('1-4'!AH13,'5-9'!AH13,P15) -> 616 | S15: 3 | U15: ='1-4'!AH13/'1-4'!AG13 -> 28.1 | V15: ='5-9'!AH13/'5-9'!AG13 -> 27 | W15: =P15/O15 -> 19 | X15: =R15/Q15 -> 26.782609
A16: Коломийський ліцей №3 | B16: 28 | E16: 1 | F16: 28 | G16: 18 | J16: 1 | K16: 18 | O16: =SUM(E16,J16) -> 2 | P16: =SUM(F16,K16) -> 46 | Q16: =SUM('1-4'!AG14,'5-9'!AG14,O16) -> 14 | R16: =SUM('1-4'!AH14,'5-9'!AH14,P16) -> 337 | S16: 2 | U16: ='1-4'!AH14/'1-4'!AG14 -> 28.75 | V16: ='5-9'!AH14/'5-9'!AG14 -> 22 | W16: =P16/O16 -> 23 | X16: =R16/Q16 -> 24.071429
A17: Коломийський ліцей №4 імені Сергія Лисенка | B17: 25 | C17: 26 | D17: 24 | E17: 3 | F17: 75 | G17: 21 | H17: 20 | I17: 25 | J17: 3 | K17: 66 | O17: =SUM(E17,J17) -> 6 | P17: =SUM(F17,K17) -> 141 | Q17: =SUM('1-4'!AG15,'5-9'!AG15,O17) -> 45 | R17: =SUM('1-4'!AH15,'5-9'!AH15,P17) -> 1255 | S17: 5 | U17: ='1-4'!AH15/'1-4'!AG15 -> 29.368421 | V17: ='5-9'!AH15/'5-9'!AG15 -> 27.8 | W17: =P17/O17 -> 23.5 | X17: =R17/Q17 -> 27.888889
A18: Коломийський ліцей №5 імені Т.Г.Шевченка | B18: 23 | E18: 1 | F18: 23 | G18: 17 | H18: 14 | J18: 2 | K18: 31 | O18: =SUM(E18,J18) -> 3 | P18: =SUM(F18,K18) -> 54 | Q18: =SUM('1-4'!AG16,'5-9'!AG16,O18) -> 25 | R18: =SUM('1-4'!AH16,'5-9'!AH16,P18) -> 633 | S18: 4 | U18: ='1-4'!AH16/'1-4'!AG16 -> 26.416667 | V18: ='5-9'!AH16/'5-9'!AG16 -> 26.2 | W18: =P18/O18 -> 18 | X18: =R18/Q18 -> 25.32
A19: Коломийський ліцей №6 імені Героя України Тараса Сенюка | B19: 31 | E19: 1 | F19: 31 | G19: 25 | J19: 1 | K19: 25 | O19: =SUM(E19,J19) -> 2 | P19: =SUM(F19,K19) -> 56 | Q19: =SUM('1-4'!AG17,'5-9'!AG17,O19) -> 25 | R19: =SUM('1-4'!AH17,'5-9'!AH17,P19) -> 600 | S19: 4 | U19: ='1-4'!AH17/'1-4'!AG17 -> 25.454545 | V19: ='5-9'!AH17/'5-9'!AG17 -> 22 | W19: =P19/O19 -> 28 | X19: =R19/Q19 -> 24
A20: Коломийська гімназія №7 | Q20: =SUM('1-4'!AG18,'5-9'!AG18,O20) -> 10 | R20: =SUM('1-4'!AH18,'5-9'!AH18,P20) -> 242 | S20: 3 | U20: ='1-4'!AH18/'1-4'!AG18 -> 23.8 | V20: ='5-9'!AH18/'5-9'!AG18 -> 24.6 | X20: =R20/Q20 -> 24.2
A21: Коломийський ліцей №8 | B21: 18 | C21: 16 | E21: 2 | F21: 34 | G21: 21 | H21: 25 | J21: 2 | K21: 46 | O21: =SUM(E21,J21) -> 4 | P21: =SUM(F21,K21) -> 80 | Q21: =SUM('1-4'!AG19,'5-9'!AG19,O21) -> 31 | R21: =SUM('1-4'!AH19,'5-9'!AH19,P21) -> 810 | S21: 4 | U21: ='1-4'!AH19/'1-4'!AG19 -> 27.25 | V21: ='5-9'!AH19/'5-9'!AG19 -> 26.866667 | W21: =P21/O21 -> 20 | X21: =R21/Q21 -> 26.129032
A22: Коломийський ліцей №9 | B22: 23 | C22: 26 | E22: 2 | F22: 49 | G22: 16 | H22: 16 | J22: 2 | K22: 32 | O22: =SUM(E22,J22) -> 4 | P22: =SUM(F22,K22) -> 81 | Q22: =SUM('1-4'!AG20,'5-9'!AG20,O22) -> 35 | R22: =SUM('1-4'!AH20,'5-9'!AH20,P22) -> 950 | S22: 6 | U22: ='1-4'!AH20/'1-4'!AG20 -> 29.266667 | V22: ='5-9'!AH20/'5-9'!AG20 -> 26.875 | W22: =P22/O22 -> 20.25 | X22: =R22/Q22 -> 27.142857
A23: Коломийська гімназія №10 | Q23: =SUM('1-4'!AG21,'5-9'!AG21,O23) -> 12 | R23: =SUM('1-4'!AH21,'5-9'!AH21,P23) -> 274 | S23: 2 | U23: ='1-4'!AH21/'1-4'!AG21 -> 24.6 | V23: ='5-9'!AH21/'5-9'!AG21 -> 21.571429 | X23: =R23/Q23 -> 22.833333
A24: Коломийський ліцей імені М.Грушевського | B24: 31 | C24: 29 | E24: 2 | F24: 60 | G24: 22 | H24: 28 | J24: 2 | K24: 50 | O24: =SUM(E24,J24) -> 4 | P24: =SUM(F24,K24) -> 110 | Q24: =SUM('1-4'!AG22,'5-9'!AG22,O24) -> 14 | R24: =SUM('1-4'!AH22,'5-9'!AH22,P24) -> 419 | V24: ='5-9'!AH22/'5-9'!AG22 -> 30.9 | W24: =P24/O24 -> 27.5 | X24: =R24/Q24 -> 29.928571
A25: НВК "Дошкільний навчальний заклад-загальноосвітній навчальний заклад І ступеня №20 "Світлячок" | Q25: =SUM('1-4'!AG23,'5-9'!AG23,O25) -> 4 | R25: =SUM('1-4'!AH23,'5-9'!AH23,P25) -> 98 | S25: 1.5 | U25: ='1-4'!AH23/'1-4'!AG23 -> 24.5 | X25: =R25/Q25 -> 24.5
A26: Воскресинцівський ліцей | B26: 6 | E26: 1 | F26: 6 | G26: 11 | J26: 1 | K26: 11 | O26: =SUM(E26,J26) -> 2 | P26: =SUM(F26,K26) -> 17 | Q26: =SUM('1-4'!AG24,'5-9'!AG24,O26) -> 11 | R26: =SUM('1-4'!AH24,'5-9'!AH24,P26) -> 165 | S26: 0.75 | U26: ='1-4'!AH24/'1-4'!AG24 -> 17.25 | V26: ='5-9'!AH24/'5-9'!AG24 -> 15.8 | W26: =P26/O26 -> 8.5 | X26: =R26/Q26 -> 15
A27: Іванівецький НВК "Загальноосвітня школа І-ІІІ ступенів-дошкільний навчальний заклад" | Q27: =SUM('1-4'!AG25,'5-9'!AG25,O27) -> 9 | R27: =SUM('1-4'!AH25,'5-9'!AH25,P27) -> 134 | S27: 1 | U27: ='1-4'!AH25/'1-4'!AG25 -> 15.75 | V27: ='5-9'!AH25/'5-9'!AG25 -> 14.2 | X27: =R27/Q27 -> 14.888889
A28: Саджавський ліцей | B28: 31 | E28: 1 | F28: 31 | G28: 20 | J28: 1 | K28: 20 | O28: =SUM(E28,J28) -> 2 | P28: =SUM(F28,K28) -> 51 | Q28: =SUM('1-4'!AG26,'5-9'!AG26,O28) -> 21 | R28: =SUM('1-4'!AH26,'5-9'!AH26,P28) -> 445 | S28: 1 | U28: ='1-4'!AH26/'1-4'!AG26 -> 21.222222 | V28: ='5-9'!AH26/'5-9'!AG26 -> 20.3 | W28: =P28/O28 -> 25.5 | X28: =R28/Q28 -> 21.190476
A29: Товмачицький ліцей | B29: 15 | E29: 1 | F29: 15 | G29: 11 | J29: 1 | K29: 11 | O29: =SUM(E29,J29) -> 2 | P29: =SUM(F29,K29) -> 26 | Q29: =SUM('1-4'!AG27,'5-9'!AG27,O29) -> 11 | R29: =SUM('1-4'!AH27,'5-9'!AH27,P29) -> 183 | S29: 0.75 | U29: ='1-4'!AH27/'1-4'!AG27 -> 19.75 | V29: ='5-9'!AH27/'5-9'!AG27 -> 15.6 | W29: =P29/O29 -> 13 | X29: =R29/Q29 -> 16.636364
A30: Товмачицька вечірня (змінна)школа ІІ-ІІІ ст. | B30: 27 | E30: 1 | F30: 27 | G30: 14 | J30: 1 | K30: 14 | L30: 9 | M30: 1 | N30: 9 | O30: =SUM(E30,J30,M30) -> 3 | P30: =SUM(F30,K30,N30) -> 50 | Q30: =SUM('1-4'!AG28,'5-9'!AG28,O30) -> 4 | R30: =SUM('1-4'!AH28,'5-9'!AH28,P30) -> 56 | V30: ='5-9'!AH28/'5-9'!AG28 -> 6 | W30: =P30/O30 -> 16.666667 | X30: =R30/Q30 -> 14
A31: Шепарівцівська гімназія | Q31: =SUM('1-4'!AG29,'5-9'!AG29,O31) -> 9 | R31: =SUM('1-4'!AH29,'5-9'!AH29,P31) -> 97 | S31: 0.5 | U31: ='1-4'!AH29/'1-4'!AG29 -> 9.25 | V31: ='5-9'!AH29/'5-9'!AG29 -> 12 | X31: =R31/Q31 -> 10.777778
A32: Всього: | B32: =SUM(B14:B31) -> 297 | C32: =SUM(C14:C31) -> 117 | D32: =SUM(D14:D31) -> 47 | E32: =SUM(E14:E31) -> 20 | F32: =SUM(F14:F31) -> 461 | G32: =SUM(G14:G31) -> 246 | H32: =SUM(H14:H31) -> 132 | I32: =SUM(I14:I31) -> 25 | ... S32: =SUM(S14:S31) -> 43.5 | U32: ='1-4'!AH30/'1-4'!AG30 -> 25.893617 | V32: ='5-9'!AH30/'5-9'!AG30 -> 24.618182 | W32: =P32/O32 -> 21.292683 | X32: =R32/Q32 -> 24.743516
A41: Керуючий справами виконавчого комітету | S41: Тарас Кухтар

Sheet Садки
U3: Додаток 2
U4: до рішення виконавчого комітету
U5: від 10.09.2019 № 172
B7: Фактична мережа закладів дошкільної освіти
B8: на 2019/2020 навчальний рік
A11: Заклади дошкільної освіти | B11: Кількість | H11: Тривалість робочого часу
H12: 10,5 год | V12: Цілодобовий
B13: груп | C13: Дітей | D13: з них: спеціальні та логопедичні | F13: ранній вік (2-3 р) | H13: груп | I13: дітей | J13: ранній вік (2- 3 р) | L13: молодший дошкільний вік (3-4 р) | N13: середній дошкільний вік (4-5 р) | P13: старший дошкільний вік (5-6 р) | R13: перед- шкільний вік (2-6 р) | T13: спеціальні | V13: груп | W13: дітей | X13: до 3 років | Z13: спец.
C14: (списковий склад) | D14: груп | E14: дітей | F14: груп | G14: дітей | J14: груп | K14: дітей | L14: груп | M14: дітей | N14: груп | O14: дітей | P14: груп | Q14: дітей | R14: груп | S14: дітей | T14: груп | U14: дітей | X14: груп | Y14: дітей | Z14: груп | AA14: груп | AB14: дітей
A15: Коломийський ЗДО №2 "Дударик" | B15: 12 | C15: 263 | D15: 6 | E15: 107 | F15: 1 | G15: 25 | H15: 11 | I15: 253 | J15: 1 | K15: 25 | L15: 2 | M15: 56 | N15: 1 | O15: 25 | P15: 2 | Q15: 50 | T15: 5 | U15: 97 | V15: 1 | W15: 10 | AA15: 1 | AB15: 10
A16: Коломийський ЗДО №3 "Берізка" | B16: 10 | C16: 242 | D16: 1 | E16: 12 | F16: 2 | G16: 44 | H16: 10 | I16: 242 | J16: 2 | K16: 44 | L16: 3 | M16: 69 | N16: 2 | O16: 51 | P16: 3 | Q16: 78
A17: Коломийський ЗДО №5 "Барвінок" | B17: 8 | C17: 180 | D17: 1 | E17: 18 | F17: 2 | G17: 40 | H17: 8 | I17: 180 | J17: 2 | K17: 40 | L17: 1 | M17: 25 | N17: 2 | O17: 43 | P17: 2 | Q17: 49 | R17: 1 | S17: 23
A18: Коломийський ЗДО №7 "Росинка" | B18: 10 | C18: 209 | D18: 1 | E18: 20 | F18: 2 | G18: 37 | H18: 10 | I18: 209 | J18: 2 | K18: 37 | L18: 2 | M18: 51 | N18: 2 | O18: 42 | P18: 3 | Q18: 62 | R18: 1 | S18: 17
A19: Коломийський ЗДО №9 "Веселка" | B19: 4 | C19: 118 | F19: 1 | G19: 24 | H19: 4 | I19: 118 | J19: 1 | K19: 24 | L19: 1 | M19: 32 | N19: 1 | O19: 30 | P19: 1 | Q19: 32
A20: Коломийський ЗДО №11 "Сонечко" | B20: 6 | C20: 172 | D20: 1 | E20: 14 | F20: 1 | G20: 32 | H20: 6 | I20: 172 | J20: 1 | K20: 32 | L20: 2 | M20: 52 | N20: 2 | O20: 63 | P20: 1 | Q20: 25
A21: Коломийський ЗДО №14 "Світанок" | B21: 6 | C21: 167 | D21: 1 | E21: 12 | F21: 2 | G21: 54 | H21: 6 | I21: 167 | J21: 2 | K21: 54 | L21: 1 | M21: 27 | N21: 1 | O21: 27 | P21: 2 | Q21: 59
A22: Коломийський ЗДО №16 "Орлятко" | B22: 11 | C22: 275 | D22: 1 | E22: 20 | F22: 2 | G22: 50 | H22: 11 | I22: 275 | J22: 2 | K22: 50 | L22: 3 | M22: 75 | N22: 2 | O22: 50 | P22: 2 | Q22: 60 | R22: 1 | S22: 20
A23: Коломийський ЗДО №17 "Калинка" | B23: 10 | C23: 200 | D23: 1 | E23: 14 | F23: 2 | G23: 42 | H23: 10 | I23: 200 | J23: 2 | K23: 42 | L23: 2 | M23: 43 | N23: 2 | O23: 42 | P23: 3 | Q23: 59
A24: Коломийський ЗДО №18 "Ластівка" | B24: 3 | C24: 80 | F24: 1 | G24: 25 | H24: 3 | I24: 80 | J24: 1 | K24: 25 | L24: 1 | M24: 25 | P24: 1 | Q24: 30
A25: Коломийський ЗДО №19 "Ромашка" | B25: 11 | C25: 262 | D25: 1 | E25: 14 | F25: 2 | G25: 40 | H25: 11 | I25: 262 | J25: 2 | K25: 40 | L25: 3 | M25: 75 | N25: 3 | O25: 71 | P25: 3 | Q25: 76
A26: НВК "Дошкільний навчальний заклад-загальноосвітній навчальний заклад І ступеня №20 "Світлячок" | B26: 8 | C26: 199 | D26: 1 | E26: 12 | F26: 3 | G26: 56 | H26: 8 | I26: 199 | J26: 3 | K26: 56 | L26: 1 | M26: 39 | N26: 2 | O26: 42 | P26: 2 | Q26: 62
A27: Коломийський ЗДО №21 "Пролісок" | B27: 11 | C27: 250 | D27: 1 | E27: 13 | F27: 3 | G27: 60 | H27: 11 | I27: 250 | J27: 3 | K27: 60 | L27: 2 | M27: 50 | N27: 3 | O27: 75 | P27: 2 | Q27: 52
A28: Воскресинцівський ЗДО"Світанок" | B28: 2 | C28: 49 | H28: 2 | I28: 49 | N28: 1 | O28: 25 | R28: 1 | S28: 24
A29: Іванівецький НВК "Загальноосвітня школа І-ІІІ ступенів-дошкільний навчальний заклад" | B29: 2 | C29: 47 | F29: 1 | G29: 24 | H29: 2 | I29: 47 | J29: 1 | K29: 24 | P29: 1 | Q29: 23
A30: Саджавський ЗДО "Дударик" | B30: 4 | C30: 95 | F30: 1 | G30: 20 | H30: 4 | I30: 95 | J30: 1 | K30: 20 | L30: 1 | M30: 21 | N30: 1 | O30: 26 | P30: 1 | Q30: 28
A31: Товмачицький ЗДО "Теремок" | B31: 1 | C31: 30 | H31: 1 | I31: 30 | R31: 1 | S31: 30
A32: Шепарівцівський ЗДО "Лісовичок" | B32: 2 | C32: 44 | H32: 2 | I32: 44 | L32: 1 | M32: 20 | N32: 1 | O32: 24
A33: Всього | B33: =SUM(B15:B32) -> 121 | C33: =SUM(C15:C32) -> 2882 | D33: =SUM(D15:D30) -> 16 | E33: =SUM(E15:E30) -> 256 | F33: 26 | G33: 583 | H33: =SUM(H15:H32) -> 120 | I33: =SUM(I15:I32) -> 2872 | J33: =SUM(J15:J30) -> 26 | K33: =SUM(K15:K30) -> 573 | L33: =SUM(L15:L32) -> 26 | M33: =SUM(M15:M32) -> 660 | N33: =SUM(N15:N32) -> 26 | O33: =SUM(O15:O32) -> 636 | P33: =SUM(P15:P32) -> 29 | Q33: =SUM(Q15:Q32) -> 745 | R33: =SUM(R15:R32) -> 5 | S33: =SUM(S15:S32) -> 114 | T33: =SUM(T15:T27) -> 5 | U33: 97 | V33: =SUM(V15:V27) -> 1 | W33: =SUM(W15:W24) -> 10 | X33: =SUM(X15:X24) -> 0 | Y33: =SUM(Y15:Y24) -> 0 | Z33: =SUM(Z15:Z24) -> 0 | AA33: =SUM(AA15:AA24) -> 1 | AB33: =SUM(AB15:AB24) -> 10
A35: З них інклюзивне навчання у:
A36: Коломийський ЗДО №5 "Барвінок" | B36: 3 | C36: 3 | H36: 3 | I36: 3 | N36: 2 | O36: 2 | P36: 1 | Q36: 1
A37: Коломийський ЗДО №7 "Росинка" | B37: 1 | C37: 1 | H37: 1 | I37: 1 | N37: 1 | O37: 1
A38: Коломийський ЗДО №11 "Сонечко" | B38: 3 | C38: 3 | H38: 3 | I38: 3 | L38: 1 | M38: 1 | N38: 1 | O38: 1 | P38: 1 | Q38: 1
A39: Коломийський ЗДО №16 "Орлятко" | B39: 2 | C39: 2 | F39: 1 | G39: 1 | H39: 2 | I39: 2 | J39: 1 | K39: 1 | P39: 1 | Q39: 1
A40: Коломийський ЗДО №17 "Калинка" | B40: 1 | C40: 1 | H40: 1 | I40: 1 | P40: 1 | Q40: 1
A41: Коломийський ЗДО №21 "Пролісок" | B41: 1 | C41: 1 | H41: 1 | I41: 1 | P41: 1 | Q41: 1
A42: Всього | B42: 11 | C42: 11 | F42: 1 | G42: 1 | H42: 11 | I42: 11 | J42: 1 | K42: 1 | L42: 1 | M42: 1 | N42: 4 | O42: 4 | P42: 5 | Q42: 5
A44: Примітка. Фактична кількість дітей у кожному дошкільному закладі може змінюватися відповідно до потреб батьків.
A47: Керуючий справами виконавчого комітету Тарас Кухтар

Sheet Позашкілля
L3: Додаток 3
L4: до рішення виконавчого комітету
L5: від 10.09.2019 № 172
C7: Фактична мережа закладів позашкільної освіти на 2019/2020 навчальний рік
A11: № з/п | B11: Назва закладу позашкільної освіти | C11: Напрями позашкільної освіти | O11: Кількість гуртків | P11: Кількість учнів
C12: художньо-естетичний | E12: військово-патріотичний | G12: еколого-натуралістичний | I12: науково-технічний | K12: туристсько-краєзнавчий | M12: гуманітарний
C13: кількість груп | D13: кількість учнів | E13: кількість груп | F13: кількість учнів | G13: кількість груп | H13: кількість учнів | I13: кількість груп | J13: кількість учнів | K13: кількість груп | L13: кількість учнів | M13: кількість груп | N13: кількість учнів
A14: 1 | B14: Коломийський будинок дитячої та юнацької творчості | C14: 53 | D14: 626 | E14: 4 | F14: 40 | I14: 8 | J14: 80 | M14: 2 | N14: 20 | O14: 67 | P14: 766
A15: 2 | B15: Коломийська станція юних туристів | E15: 8 | F15: 96 | K15: 21 | L15: 252 | O15: 29 | P15: 348
A16: 3 | B16: Коломийський навчально-виробничий центр творчості учнівської молоді | C16: 1 | D16: 12 | G16: 12 | H16: 144 | I16: 18 | J16: 216 | O16: 31 | P16: 372
A17: 4 | B17: Коломийська музична студія | C17: 11 | D17: 150 | O17: 11 | P17: 150
B18: Всього по закладах | C18: =SUM(C14:C17) -> 65 | D18: =SUM(D14:D17) -> 788 | E18: =SUM(E14:E17) -> 12 | F18: =SUM(F14:F17) -> 136 | G18: =SUM(G14:G17) -> 12 | H18: =SUM(H14:H17) -> 144 | I18: =SUM(I14:I17) -> 26 | J18: =SUM(J14:J17) -> 296 | ... N18: =SUM(N14:N17) -> 20 | O18: 138 | P18: 1636
A24: Керуючий справами виконавчого комітету | L24: Тарас Кухтар
