Workbook

Sheet 1-4 класи
AH1: Додаток 1
AH2: до рішення виконавчого комітету
AH3: від09.06.2026_№87
C5: Планова мережа закладів загальної середньої освіти на 2026/2027 навчальний рік
B7: 1-А | C7: 1-Б | D7: 1-В | E7: 1-Г | F7: 1-Д | G7: 1-І | H7: к-сть класів | I7: к-сть учнів | J7: 2-А | K7: 2-Б | L7: 2-В | M7: 2-Г | N7: 2-Д | O7: 2-І | P7: к-сть класів | Q7: к-сть учнів | R7: 3-А | S7: 3-Б | T7: 3-В | U7: 3-Г | V7: 3-Д | W7: 3-І | X7: к-сть класів | Y7: к-сть учнів | Z7: 4-А | AA7: 4-Б | AB7: 4-В | AC7: 4-Г | AD7: 4-І | AE7: к-сть класів | AF7: к-сть учнів | AG7: к-сть 1-4 класів | AH7: к-сть учнів у 1-4 кл. | AI7: к-сть 1-4 класів по опорному закладу | AJ7: к-сть учнів у 1-4 кл. по опорному зекладу | AK7: ГПД (всього ставок)
A8: Коломийський ліцей №1 імені В.Стефаника | C8: 25 | D8: 27 | E8: 27 | G8: 18 | H8: =COUNT(B8:G8) -> 4 | I8: =SUM(B8:G8) -> 97 | J8: 29 | K8: 20 | L8: 26 | O8: 20 | P8: =COUNT(J8:O8) -> 4 | Q8: =SUM(J8:O8) -> 95 | R8: 27 | S8: 30 | T8: 29 | W8: 16 | X8: =COUNT(R8:W8) -> 4 | Y8: =SUM(R8:W8) -> 102 | Z8: 30 | AA8: 30 | AB8: 29 | AD8: 20 | AE8: =COUNT(Z8:AD8) -> 4 | AF8: =SUM(Z8:AD8) -> 109 | AG8: =H8+P8+X8+AE8 -> 16 | AH8: =I8+Q8+Y8+AF8 -> 403 | AI8: =SUM(AG8:AG10) -> 23 | AJ8: =SUM(AH8:AH10) -> 503 | AK8: 5
A9: Корницька філія | B9: 15 | H9: 1 | I9: 15 | J9: 19 | P9: =COUNT(J9:O9) -> 1 | Q9: =SUM(J9:O9) -> 19 | R9: 9 | X9: =COUNT(R9:W9) -> 1 | Y9: =SUM(R9:W9) -> 9 | Z9: 19 | AE9: =COUNT(Z9:AD9) -> 1 | AF9: =SUM(Z9:AD9) -> 19 | AG9: =H9+P9+X9+AE9 -> 4 | AH9: =I9+Q9+Y9+AF9 -> 62
A10: Воскресінцівська філія | H10: 0 | I10: 0 | J10: 12 | P10: 1 | Q10: =SUM(J10:O10) -> 12 | R10: 12 | X10: =COUNT(R10:W10) -> 1 | Y10: =SUM(R10:W10) -> 12 | Z10: 14 | AE10: 1 | AF10: 14 | AG10: 3 | AH10: =I10+Q10+Y10+AF10 -> 38
A11: Коломийський ліцей №2 | B11: 20 | C11: 20 | H11: =COUNT(B11:G11) -> 2 | I11: =SUM(B11:G11) -> 40 | J11: 20 | K11: 18 | P11: =COUNT(J11:O11) -> 2 | Q11: =SUM(J11:O11) -> 38 | R11: 24 | S11: 25 | X11: =COUNT(R11:W11) -> 2 | Y11: =SUM(R11:W11) -> 49 | Z11: 26 | AA11: 25 | AB11: 22 | AE11: =COUNT(Z11:AD11) -> 3 | AF11: =SUM(Z11:AD11) -> 73 | AG11: =H11+P11+X11+AE11 -> 9 | AH11: =I11+Q11+Y11+AF11 -> 200 | AI11: =AG11 -> 9 | AJ11: =AH11 -> 200 | AK11: 2.5
A12: Коломийський ліцей №4 імені Сергія Лисенка | B12: 24 | C12: 24 | D12: 22 | E12: 22 | H12: =COUNT(B12:G12) -> 4 | I12: =SUM(B12:G12) -> 92 | J12: 23 | K12: 22 | L12: 25 | M12: 22 | P12: =COUNT(J12:O12) -> 4 | Q12: =SUM(J12:O12) -> 92 | R12: 24 | S12: 24 | T12: 22 | U12: 22 | V12: 24 | X12: =COUNT(R12:W12) -> 5 | Y12: =SUM(R12:W12) -> 116 | Z12: 30 | AA12: 27 | AB12: 24 | AC12: 30 | AE12: =COUNT(Z12:AD12) -> 4 | AF12: =SUM(Z12:AD12) -> 111 | AG12: =H12+P12+X12+AE12 -> 17 | AH12: =I12+Q12+Y12+AF12 -> 411 | AI12: =SUM(AG12:AG14) -> 23 | AJ12: =SUM(AH12:AH14) -> 532 | AK12: 7
A13: філія 3 | B13: 18 | H13: =COUNT(B13:G13) -> 1 | I13: =SUM(B13:G13) -> 18 | J13: 22 | P13: =COUNT(J13:O13) -> 1 | Q13: =SUM(J13:O13) -> 22 | X13: =COUNT(R13:W13) -> 0 | Y13: =SUM(R13:W13) -> 0 | Z13: 19 | AE13: =COUNT(Z13:AD13) -> 1 | AF13: =SUM(Z13:AD13) -> 19 | AG13: =H13+P13+X13+AE13 -> 3 | AH13: =I13+Q13+Y13+AF13 -> 59
A14: філія 20 | B14: 21 | H14: =COUNT(B14:G14) -> 1 | I14: =SUM(B14:G14) -> 21 | P14: =COUNT(J14:O14) -> 0 | Q14: =SUM(J14:O14) -> 0 | R14: 20 | X14: =COUNT(R14:W14) -> 1 | Y14: =SUM(R14:W14) -> 20 | Z14: 21 | AE14: =COUNT(Z14:AD14) -> 1 | AF14: =SUM(Z14:AD14) -> 21 | AG14: =H14+P14+X14+AE14 -> 3 | AH14: =I14+Q14+Y14+AF14 -> 62
A15: Коломийський ліцей №5 імені Т.Г.Шевченка | B15: 24 | G15: 24 | H15: =COUNT(B15:G15) -> 2 | I15: =SUM(B15:G15) -> 48 | J15: 18 | K15: 27 | O15: 20 | P15: =COUNT(J15:O15) -> 3 | Q15: =SUM(J15:O15) -> 65 | R15: 22 | W15: 24 | X15: =COUNT(R15:W15) -> 2 | Y15: =SUM(R15:W15) -> 46 | Z15: 32 | AA15: 27 | AD15: 29 | AE15: =COUNT(Z15:AD15) -> 3 | AF15: =SUM(Z15:AD15) -> 88 | AG15: =H15+P15+X15+AE15 -> 10 | AH15: =I15+Q15+Y15+AF15 -> 247 | AI15: =SUM(AG15:AG18) -> 20 | AJ15: =SUM(AH15:AH18) -> 386 | AK15: 5
A16: філія 7 | B16: 22 | H16: =COUNT(B16:G16) -> 1 | I16: =SUM(B16:G16) -> 22 | J16: 17 | P16: =COUNT(J16:O16) -> 1 | Q16: =SUM(J16:O16) -> 17 | R16: 17 | X16: =COUNT(R16:W16) -> 1 | Y16: =SUM(R16:W16) -> 17 | Z16: 30 | AE16: =COUNT(Z16:AD16) -> 1 | AF16: =SUM(Z16:AD16) -> 30 | AG16: =H16+P16+X16+AE16 -> 4 | AH16: =I16+Q16+Y16+AF16 -> 86
A17: Раківчицька філія | B17: 7 | H17: =COUNT(B17:G17) -> 1 | I17: =SUM(B17:G17) -> 7 | J17: 6 | P17: =COUNT(J17:O17) -> 1 | Q17: =SUM(J17:O17) -> 6 | R17: 7 | X17: =COUNT(R17:W17) -> 1 | Y17: =SUM(R17:W17) -> 7 | AE17: =COUNT(Z17:AD17) -> 0 | AF17: =SUM(Z17:AD17) -> 0 | AG17: =H17+P17+X17+AE17 -> 3 | AH17: =I17+Q17+Y17+AF17 -> 20
A18: Шепарівцівська філія | H18: =COUNT(B18:G18) -> 0 | I18: =SUM(B18:G18) -> 0 | J18: 11 | P18: =COUNT(J18:O18) -> 1 | Q18: =SUM(J18:O18) -> 11 | R18: 10 | X18: =COUNT(R18:W18) -> 1 | Y18: =SUM(R18:W18) -> 10 | Z18: 12 | AE18: =COUNT(Z18:AD18) -> 1 | AF18: =SUM(Z18:AD18) -> 12 | AG18: =H18+P18+X18+AE18 -> 3 | AH18: 33
A19: Коломийський ліцей №8 | B19: 24 | C19: 21 | D19: 20 | H19: =COUNT(B19:G19) -> 3 | I19: =SUM(B19:G19) -> 65 | J19: 28 | K19: 26 | L19: 30 | P19: =COUNT(J19:O19) -> 3 | Q19: =SUM(J19:O19) -> 84 | R19: 27 | S19: 24 | T19: 24 | X19: =COUNT(R19:W19) -> 3 | Y19: =SUM(R19:W19) -> 75 | Z19: 25 | AA19: 18 | AB19: 29 | AE19: =COUNT(Z19:AD19) -> 3 | AF19: =SUM(Z19:AD19) -> 72 | AG19: =H19+P19+X19+AE19 -> 12 | AH19: =I19+Q19+Y19+AF19 -> 296 | AI19: =AG19+AG21+AG20 -> 20 | AJ19: =AH19+AH21+AH20 -> 408 | AK19: 6
A20: Іванівецька філія | B20: 9 | H20: 1 | I20: 9 | J20: 14 | P20: =COUNT(J20:O20) -> 1 | Q20: =SUM(J20:O20) -> 14 | R20: 19 | X20: =COUNT(R20:W20) -> 1 | Y20: =SUM(R20:W20) -> 19 | Z20: 14 | AE20: =COUNT(Z20:AD20) -> 1 | AF20: =SUM(Z20:AD20) -> 14 | AG20: =H20+P20+X20+AE20 -> 4 | AH20: =I20+Q20+Y20+AF20 -> 56
A21: Товмачицька філія | B21: 12 | H21: 1 | I21: 12 | J21: 14 | P21: =COUNT(J21:O21) -> 1 | Q21: =SUM(J21:O21) -> 14 | R21: 14 | X21: 1 | Y21: 14 | Z21: 16 | AE21: 1 | AF21: 16 | AG21: 4 | AH21: 56
A22: вечірні класи | H22: =COUNT(B22:G22) -> 0 | I22: =SUM(B22:G22) -> 0 | P22: =COUNT(J22:O22) -> 0 | Q22: =SUM(J22:O22) -> 0 | X22: =COUNT(R22:W22) -> 0 | Y22: =SUM(R22:W22) -> 0 | AE22: =COUNT(Z22:AD22) -> 0 | AF22: =SUM(Z22:AD22) -> 0 | AG22: =H22+P22+X22+AE22 -> 0 | AH22: =I22+Q22+Y22+AF22 -> 0
A23: Коломийський ліцей №9 | H23: =COUNT(B23:G23) -> 0 | I23: =SUM(B23:G23) -> 0 | J23: 24 | K23: 24 | L23: 24 | M23: 24 | P23: =COUNT(J23:O23) -> 4 | Q23: =SUM(J23:O23) -> 96 | X23: =COUNT(R23:W23) -> 0 | Y23: =SUM(R23:W23) -> 0 | AE23: =COUNT(Z23:AD23) -> 0 | AF23: =SUM(Z23:AD23) -> 0 | AG23: =H23+P23+X23+AE23 -> 4 | AH23: =I23+Q23+Y23+AF23 -> 96 | AI23: =SUM(AG23:AG25) -> 26 | AJ23: =SUM(AH23:AH25) -> 659 | AK23: 8.5
A24: Філія 10 | B24: 24 | C24: 24 | D24: 24 | E24: 24 | H24: 4 | I24: 96 | N24: 23 | P24: 1 | Q24: 23 | R24: 26 | S24: 26 | T24: 29 | U24: 28 | V24: 24 | X24: 5 | Y24: 133 | Z24: 29 | AA24: 26 | AB24: 32 | AC24: 22 | AE24: =COUNT(Z24:AD24) -> 4 | AF24: =SUM(Z24:AD24) -> 109 | AG24: =H24+P24+X24+AE24 -> 14 | AH24: =I24+Q24+Y24+AF24 -> 361
A25: філія 6 | B25: 24 | C25: 24 | H25: 2 | I25: 48 | J25: 29 | K25: 28 | P25: =COUNT(J25:O25) -> 2 | Q25: =SUM(J25:O25) -> 57 | R25: 25 | S25: 26 | X25: 2 | Y25: 51 | Z25: 23 | AA25: 23 | AE25: =COUNT(Z25:AD25) -> 2 | AF25: =SUM(Z25:AD25) -> 46 | AG25: =H25+P25+X25+AE25 -> 8 | AH25: =I25+Q25+Y25+AF25 -> 202
A26: Саджавський ліцей | B26: 18 | C26: 18 | H26: =COUNT(B26:G26) -> 2 | I26: =SUM(B26:G26) -> 36 | J26: 30 | P26: =COUNT(J26:O26) -> 1 | Q26: =SUM(J26:O26) -> 30 | R26: 26 | X26: =COUNT(R26:W26) -> 1 | Y26: =SUM(R26:W26) -> 26 | Z26: 17 | AA26: 22 | AE26: =COUNT(Z26:AD26) -> 2 | AF26: =SUM(Z26:AD26) -> 39 | AG26: =H26+P26+X26+AE26 -> 6 | AH26: =I26+Q26+Y26+AF26 -> 131 | AI26: =AG26 -> 6 | AJ26: =AH26 -> 131 | AK26: 1
A27: Всього: | H27: =SUM(H8:H26) -> 30 | I27: =SUM(I8:I26) -> 626 | P27: =SUM(P8:P26) -> 32 | Q27: =SUM(Q8:Q26) -> 695 | X27: =SUM(X8:X26) -> 32 | Y27: =SUM(Y8:Y26) -> 706 | AE27: =SUM(AE8:AE26) -> 33 | AF27: =SUM(AF8:AF26) -> 792 | AG27: =SUM(AG8:AG26) -> 127 | AH27: =I27+Q27+Y27+AF27 -> 2819 | AI27: =SUM(AI8:AI26) -> 127 | AJ27: =SUM(AJ8:AJ26) -> 2819 | AK27: =SUM(AK8:AK26) -> 35
A32: Керуючий справами виконавчого комітету міської ради | AI32: Микола АНДРУСЯК

Sheet  1-4 класи (інклюзія)
AD1: продовження додатка 1
AD2: до рішення виконавчого комітету
AD3: від 09.06.2026 №87
C5: Планова мережа закладів загальної середньої освіти на 2026/2027 навчальний рік (інклюзія)
B7: 1-А | C7: 1-Б | D7: 1-В | E7: 1-Г | F7: 1-І | G7: к-сть класів | H7: к-сть учнів | I7: 2-А | J7: 2-Б | K7: 2-В | L7: 2-Г | M7: 2-Д | N7: 2-І | O7: к-сть класів | P7: к-сть учнів | Q7: 3-А | R7: 3-Б | S7: 3-В | T7: 3-Г | U7: 3-І | V7: к-сть класів | W7: к-сть учнів | X7: 4-А | Y7: 4-Б | Z7: 4-В | AA7: 4-Г | AB7: 4-І | AC7: к-сть класів | AD7: к-сть учнів | AE7: к-сть 1-4 класів | AF7: к-сть учнів у 1-4 кл. | AG7: к-сть 1-4 класів по опорному закладу | AH7: к-сть учнів у 1-4 кл. по опорному зекладу
A8: Коломийський ліцей №1 імені В.Стефаника | G8: =COUNT(B8:F8) -> 0 | H8: =SUM(B8:F8) -> 0 | O8: =COUNT(I8:N8) -> 0 | P8: =SUM(I8:N8) -> 0 | V8: =COUNT(Q8:U8) -> 0 | W8: =SUM(Q8:U8) -> 0 | X8: 1 | Y8: 1 | Z8: 2 | AC8: =COUNT(X8:AB8) -> 3 | AD8: =SUM(X8:AB8) -> 4 | AE8: =G8+O8+V8+AC8 -> 3 | AF8: =H8+P8+W8+AD8 -> 4 | AG8: =SUM(AE8:AE10) -> 7 | AH8: =SUM(AF8:AF10) -> 8
A9: Корницька філія | G9: =COUNT(B9:F9) -> 0 | H9: =SUM(B9:F9) -> 0 | I9: 1 | O9: =COUNT(I9:N9) -> 1 | P9: =SUM(I9:N9) -> 1 | Q9: 1 | V9: =COUNT(Q9:U9) -> 1 | W9: =SUM(Q9:U9) -> 1 | AC9: =COUNT(X9:AB9) -> 0 | AD9: =SUM(X9:AB9) -> 0 | AE9: =G9+O9+V9+AC9 -> 2 | AF9: =H9+P9+W9+AD9 -> 2
A10: Воскресінцівська філія | G10: =COUNT(B10:F10) -> 0 | H10: =SUM(B10:F10) -> 0 | O10: 0 | P10: =SUM(I10:N10) -> 0 | Q10: 1 | V10: =COUNT(Q10:U10) -> 1 | W10: =SUM(Q10:U10) -> 1 | X10: 1 | AC10: =COUNT(X10:AB10) -> 1 | AD10: =SUM(X10:AB10) -> 1 | AE10: =G10+O10+V10+AC10 -> 2 | AF10: =H10+P10+W10+AD10 -> 2
A11: Коломийський ліцей №2 | B11: 2 | C11: 2 | G11: =COUNT(B11:F11) -> 2 | H11: =SUM(B11:F11) -> 4 | I11: 2 | J11: 1 | O11: =COUNT(I11:N11) -> 2 | P11: =SUM(I11:N11) -> 3 | Q11: 2 | V11: =COUNT(Q11:U11) -> 1 | W11: =SUM(Q11:U11) -> 2 | X11: 1 | Y11: 1 | Z11: 1 | AC11: =COUNT(X11:AB11) -> 3 | AD11: =SUM(X11:AB11) -> 3 | AE11: =G11+O11+V11+AC11 -> 8 | AF11: =H11+P11+W11+AD11 -> 12 | AG11: =AE11 -> 8 | AH11: =AF11 -> 12
A12: Коломийський ліцей №4 імені Сергія Лисенка | B12: 1 | G12: =COUNT(B12:F12) -> 1 | H12: =SUM(B12:F12) -> 1 | J12: 2 | L12: 2 | O12: =COUNT(I12:N12) -> 2 | P12: =SUM(I12:N12) -> 4 | S12: 1 | T12: 2 | U12: 1 | V12: =COUNT(Q12:U12) -> 3 | W12: =SUM(Q12:U12) -> 4 | X12: 2 | Y12: 1 | Z12: 2 | AA12: 1 | AC12: =COUNT(X12:AB12) -> 4 | AD12: =SUM(X12:AB12) -> 6 | AE12: =G12+O12+V12+AC12 -> 10 | AF12: =H12+P12+W12+AD12 -> 15 | AG12: =SUM(AE12:AE14) -> 15 | AH12: =SUM(AF12:AF14) -> 22
A13: філія 3 | B13: 1 | G13: =COUNT(B13:F13) -> 1 | H13: =SUM(B13:F13) -> 1 | I13: 2 | O13: =COUNT(I13:N13) -> 1 | P13: =SUM(I13:N13) -> 2 | V13: =COUNT(Q13:U13) -> 0 | W13: =SUM(Q13:U13) -> 0 | X13: 1 | AC13: =COUNT(X13:AB13) -> 1 | AD13: =SUM(X13:AB13) -> 1 | AE13: =G13+O13+V13+AC13 -> 3 | AF13: =H13+P13+W13+AD13 -> 4
A14: філія 20 | B14: 1 | G14: =COUNT(B14:F14) -> 1 | H14: =SUM(B14:F14) -> 1 | O14: =COUNT(I14:N14) -> 0 | P14: =SUM(I14:N14) -> 0 | Q14: 2 | V14: =COUNT(Q14:U14) -> 1 | W14: =SUM(Q14:U14) -> 2 | AC14: =COUNT(X14:AB14) -> 0 | AD14: =SUM(X14:AB14) -> 0 | AE14: =G14+O14+V14+AC14 -> 2 | AF14: =H14+P14+W14+AD14 -> 3
A15: Коломийський ліцей №5 імені Т.Г.Шевченка | B15: 4 | G15: =COUNT(B15:F15) -> 1 | H15: =SUM(B15:F15) -> 4 | I15: 3 | O15: =COUNT(I15:N15) -> 1 | P15: =SUM(I15:N15) -> 3 | Q15: 2 | U15: 2 | V15: =COUNT(Q15:U15) -> 2 | W15: =SUM(Q15:U15) -> 4 | X15: 1 | Y15: 2 | AC15: =COUNT(X15:AB15) -> 2 | AD15: =SUM(X15:AB15) -> 3 | AE15: =G15+O15+V15+AC15 -> 6 | AF15: =H15+P15+W15+AD15 -> 14 | AG15: =SUM(AE15:AE18) -> 10 | AH15: =SUM(AF15:AF18) -> 22
A16: філія 7 | G16: =COUNT(B16:F16) -> 0 | H16: =SUM(B16:F16) -> 0 | I16: 2 | O16: =COUNT(I16:N16) -> 1 | P16: =SUM(I16:N16) -> 2 | V16: =COUNT(Q16:U16) -> 0 | W16: =SUM(Q16:U16) -> 0 | AC16: =COUNT(X16:AB16) -> 0 | AD16: =SUM(X16:AB16) -> 0 | AE16: =G16+O16+V16+AC16 -> 1 | AF16: =H16+P16+W16+AD16 -> 2
A17: Раківчицька філія | B17: 1 | G17: =COUNT(B17:F17) -> 1 | H17: =SUM(B17:F17) -> 1 | I17: 1 | O17: =COUNT(I17:N17) -> 1 | P17: =SUM(I17:N17) -> 1 | Q17: 2 | V17: 0 | W17: =SUM(Q17:U17) -> 2 | AC17: =COUNT(X17:AB17) -> 0 | AD17: =SUM(X17:AB17) -> 0 | AE17: =G17+O17+V17+AC17 -> 2 | AF17: =H17+P17+W17+AD17 -> 4
A18: Шепарівцівська філія | G18: =COUNT(B18:F18) -> 0 | H18: 0 | O18: 0 | P18: 0 | Q18: 2 | V18: =COUNT(Q18:U18) -> 1 | W18: =SUM(Q18:U18) -> 2 | AC18: =COUNT(X18:AB18) -> 0 | AD18: =SUM(X18:AB18) -> 0 | AE18: =G18+O18+V18+AC18 -> 1 | AF18: =H18+P18+W18+AD18 -> 2
A19: Коломийський ліцей №8 | B19: 1 | C19: 1 | D19: 1 | G19: =COUNT(B19:F19) -> 3 | H19: =SUM(B19:F19) -> 3 | I19: 1 | J19: 1 | K19: 1 | O19: =COUNT(I19:N19) -> 3 | P19: =SUM(I19:N19) -> 3 | Q19: 1 | R19: 1 | S19: 1 | V19: =COUNT(Q19:U19) -> 3 | W19: =SUM(Q19:U19) -> 3 | X19: 2 | Y19: 1 | Z19: 1 | AC19: =COUNT(X19:AB19) -> 3 | AD19: =SUM(X19:AB19) -> 4 | AE19: =G19+O19+V19+AC19 -> 12 | AF19: =H19+P19+W19+AD19 -> 13 | AG19: =SUM(AE19:AE22) -> 14 | AH19: =SUM(AF19:AF22) -> 15
A20: Іванівецька філія | G20: =COUNT(B20:F20) -> 0 | H20: =SUM(B20:F20) -> 0 | I20: 1 | O20: =COUNT(I20:N20) -> 1 | P20: =SUM(I20:N20) -> 1 | V20: =COUNT(Q20:U20) -> 0 | W20: =SUM(Q20:U20) -> 0 | X20: 1 | AC20: =COUNT(X20:AB20) -> 1 | AD20: =SUM(X20:AB20) -> 1 | AE20: =G20+O20+V20+AC20 -> 2 | AF20: =H20+P20+W20+AD20 -> 2
A21: Товмачицька філія | G21: =COUNT(B21:F21) -> 0 | H21: =SUM(B21:F21) -> 0 | O21: =COUNT(I21:N21) -> 0 | P21: =SUM(I21:N21) -> 0 | V21: =COUNT(Q21:U21) -> 0 | W21: =SUM(Q21:U21) -> 0 | AC21: =COUNT(X21:AB21) -> 0 | AD21: =SUM(X21:AB21) -> 0 | AE21: =G21+O21+V21+AC21 -> 0 | AF21: =H21+P21+W21+AD21 -> 0
A22: вечірні класи | G22: =COUNT(B22:F22) -> 0 | H22: =SUM(B22:F22) -> 0 | O22: =COUNT(I22:N22) -> 0 | P22: =SUM(I22:N22) -> 0 | V22: =COUNT(Q22:U22) -> 0 | W22: =SUM(Q22:U22) -> 0 | AC22: =COUNT(X22:AB22) -> 0 | AD22: =SUM(X22:AB22) -> 0 | AE22: =G22+O22+V22+AC22 -> 0 | AF22: =H22+P22+W22+AD22 -> 0
A23: Коломийський ліцей №9 | G23: =COUNT(B23:F23) -> 0 | H23: =SUM(B23:F23) -> 0 | O23: =COUNT(I23:N23) -> 0 | P23: =SUM(I23:N23) -> 0 | V23: =COUNT(Q23:U23) -> 0 | W23: =SUM(Q23:U23) -> 0 | AC23: =COUNT(X23:AB23) -> 0 | AD23: =SUM(X23:AB23) -> 0 | AE23: =G23+O23+V23+AC23 -> 0 | AF23: =H23+P23+W23+AD23 -> 0 | AG23: =SUM(AE23:AE25) -> 11 | AH23: =SUM(AF23:AF25) -> 13
A24: Філія 10 | D24: 2 | G24: =COUNT(B24:F24) -> 1 | H24: =SUM(B24:F24) -> 2 | M24: 1 | O24: =COUNT(I24:N24) -> 1 | P24: =SUM(I24:N24) -> 1 | T24: 2 | U24: 1 | V24: =COUNT(Q24:U24) -> 2 | W24: =SUM(Q24:U24) -> 3 | X24: 1 | Y24: 1 | Z24: 1 | AA24: 1 | AC24: =COUNT(X24:AB24) -> 4 | AD24: =SUM(X24:AB24) -> 4 | AE24: =G24+O24+V24+AC24 -> 8 | AF24: =H24+P24+W24+AD24 -> 10
A25: філія 6 | B25: 1 | G25: 1 | H25: 1 | O25: =COUNT(I25:N25) -> 0 | P25: =SUM(I25:N25) -> 0 | R25: 2 | V25: 1 | W25: 1 | X25: 1 | AC25: =COUNT(X25:AB25) -> 1 | AD25: =SUM(X25:AB25) -> 1 | AE25: =G25+O25+V25+AC25 -> 3 | AF25: =H25+P25+W25+AD25 -> 3
A26: Саджавський ліцей | B26: 1 | G26: =COUNT(B26:F26) -> 1 | H26: =SUM(B26:F26) -> 1 | I26: 1 | O26: =COUNT(I26:N26) -> 1 | P26: =SUM(I26:N26) -> 1 | Q26: 1 | V26: =COUNT(Q26:U26) -> 1 | W26: =SUM(Q26:U26) -> 1 | AC26: =COUNT(X26:AB26) -> 0 | AD26: =SUM(X26:AB26) -> 0 | AE26: =G26+O26+V26+AC26 -> 3 | AF26: =H26+P26+W26+AD26 -> 3 | AG26: =AE26 -> 3 | AH26: =AF26 -> 3
A27: Всього: | G27: =SUM(G8:G26) -> 13 | H27: =SUM(H8:H26) -> 19 | O27: =SUM(O8:O26) -> 15 | P27: =SUM(P8:P26) -> 22 | V27: =SUM(V8:V26) -> 17 | W27: =SUM(W8:W26) -> 26 | AC27: =SUM(AC8:AC26) -> 23 | AD27: =SUM(AD8:AD26) -> 28 | AE27: =G27+O27+V27+AC27 -> 68 | AF27: =H27+P27+W27+AD27 -> 95 | AG27: =SUM(AG8:AG26) -> 68 | AH27: =SUM(AH8:AH26) -> 95
A32: Керуючий справами виконавчого комітету міської ради | AE32: Микола АНДРУСЯК

Sheet   1-4 класи (педагогічний патро
A1: 0 | AD1: продовження додатка 1
AD2: до рішення виконавчого комітету
AD3: від09.06.2026№87
C5: Планова мережа закладів загальної середньої освіти на 2026/2027 навчальний рік (педагогічний патронаж)
B7: 1-А | C7: 1-Б | D7: 1-В | E7: 1-Г | F7: 1-І | G7: к-сть класів | H7: к-сть учнів | I7: 2-А | J7: 2-Б | K7: 2-В | L7: 2-Г | M7: 2-Д | N7: 2-І | O7: к-сть класів | P7: к-сть учнів | Q7: 3-А | R7: 3-Б | S7: 3-В | T7: 3-Г | U7: 3-І | V7: к-сть класів | W7: к-сть учнів | X7: 4-А | Y7: 4-Б | Z7: 4-В | AA7: 4-Г | AB7: 4-І | AC7: к-сть класів | AD7: к-сть учнів | AE7: к-сть 1-4 класів | AF7: к-сть учнів у 1-4 кл. | AG7: к-сть 1-4 класів по опорному закладу | AH7: к-сть учнів у 1-4 кл. по опорному зекладу
A8: Коломийський ліцей №1 імені В.Стефаника | G8: =COUNT(B8:F8) -> 0 | H8: =SUM(B8:F8) -> 0 | O8: =COUNT(I8:N8) -> 0 | P8: =SUM(I8:N8) -> 0 | V8: =COUNT(Q8:U8) -> 0 | W8: =SUM(Q8:U8) -> 0 | Y8: 1 | AC8: =COUNT(X8:AB8) -> 1 | AD8: =SUM(X8:AB8) -> 1 | AE8: =G8+O8+V8+AC8 -> 1 | AF8: =H8+P8+W8+AD8 -> 1 | AG8: =SUM(AE8:AE10) -> 2 | AH8: =SUM(AF8:AF10) -> 2
A9: Корницька філія | G9: =COUNT(B9:F9) -> 0 | H9: =SUM(B9:F9) -> 0 | O9: =COUNT(I9:N9) -> 0 | P9: =SUM(I9:N9) -> 0 | V9: =COUNT(Q9:U9) -> 0 | W9: =SUM(Q9:U9) -> 0 | AC9: =COUNT(X9:AB9) -> 0 | AD9: =SUM(X9:AB9) -> 0 | AE9: =G9+O9+V9+AC9 -> 0 | AF9: =H9+P9+W9+AD9 -> 0
A10: Воскресінцівська філія | G10: =COUNT(B10:F10) -> 0 | H10: =SUM(B10:F10) -> 0 | I10: 1 | O10: =COUNT(I10:N10) -> 1 | P10: =SUM(I10:N10) -> 1 | V10: =COUNT(Q10:U10) -> 0 | W10: =SUM(Q10:U10) -> 0 | AC10: =COUNT(X10:AB10) -> 0 | AD10: =SUM(X10:AB10) -> 0 | AE10: =G10+O10+V10+AC10 -> 1 | AF10: =H10+P10+W10+AD10 -> 1
A11: Коломийський ліцей №2 | G11: =COUNT(B11:F11) -> 0 | H11: =SUM(B11:F11) -> 0 | O11: =COUNT(I11:N11) -> 0 | P11: =SUM(I11:N11) -> 0 | V11: =COUNT(Q11:U11) -> 0 | W11: =SUM(Q11:U11) -> 0 | Z11: 1 | AC11: =COUNT(X11:AB11) -> 1 | AD11: =SUM(X11:AB11) -> 1 | AE11: =G11+O11+V11+AC11 -> 1 | AF11: =H11+P11+W11+AD11 -> 1 | AG11: =AE11 -> 1 | AH11: =AF11 -> 1
A12: Коломийський ліцей №4 імені Сергія Лисенка | G12: =COUNT(B12:F12) -> 0 | H12: =SUM(B12:F12) -> 0 | O12: =COUNT(I12:N12) -> 0 | P12: =SUM(I12:N12) -> 0 | R12: 1 | V12: =COUNT(Q12:U12) -> 1 | W12: =SUM(Q12:U12) -> 1 | Z12: 2 | AC12: =COUNT(X12:AB12) -> 1 | AD12: =SUM(X12:AB12) -> 2 | AE12: =G12+O12+V12+AC12 -> 2 | AF12: =H12+P12+W12+AD12 -> 3 | AG12: =SUM(AE12:AE14) -> 2 | AH12: =SUM(AF12:AF14) -> 3
A13: філія 3 | G13: =COUNT(B13:F13) -> 0 | H13: =SUM(B13:F13) -> 0 | O13: =COUNT(I13:N13) -> 0 | P13: =SUM(I13:N13) -> 0 | V13: =COUNT(Q13:U13) -> 0 | W13: =SUM(Q13:U13) -> 0 | AC13: =COUNT(X13:AB13) -> 0 | AD13: =SUM(X13:AB13) -> 0 | AE13: =G13+O13+V13+AC13 -> 0 | AF13: =H13+P13+W13+AD13 -> 0
A14: філія 20 | G14: =COUNT(B14:F14) -> 0 | H14: =SUM(B14:F14) -> 0 | O14: =COUNT(I14:N14) -> 0 | P14: =SUM(I14:N14) -> 0 | V14: =COUNT(Q14:U14) -> 0 | W14: =SUM(Q14:U14) -> 0 | AC14: =COUNT(X14:AB14) -> 0 | AD14: =SUM(X14:AB14) -> 0 | AE14: =G14+O14+V14+AC14 -> 0 | AF14: =H14+P14+W14+AD14 -> 0
A15: Коломийський ліцей №5 імені Т.Г.Шевченка | G15: =COUNT(B15:F15) -> 0 | H15: =SUM(B15:F15) -> 0 | O15: =COUNT(I15:N15) -> 0 | P15: =SUM(I15:N15) -> 0 | U15: 1 | V15: =COUNT(Q15:U15) -> 1 | W15: =SUM(Q15:U15) -> 1 | AC15: =COUNT(X15:AB15) -> 0 | AD15: =SUM(X15:AB15) -> 0 | AE15: =G15+O15+V15+AC15 -> 1 | AF15: =H15+P15+W15+AD15 -> 1 | AG15: =SUM(AE15:AE18) -> 1 | AH15: =SUM(AF15:AF18) -> 1
A16: філія 7 | G16: 0 | H16: =SUM(B16:F16) -> 0 | O16: 0 | P16: =SUM(I16:N16) -> 0 | V16: 0 | W16: =SUM(Q16:U16) -> 0 | AC16: 0 | AD16: =SUM(X16:AB16) -> 0 | AE16: 0 | AF16: =H16+P16+W16+AD16 -> 0
A17: Раківчицька філія | G17: =COUNT(B17:F17) -> 0 | H17: =SUM(B17:F17) -> 0 | O17: =COUNT(I17:N17) -> 0 | P17: =SUM(I17:N17) -> 0 | V17: 0 | W17: =SUM(Q17:U17) -> 0 | AC17: =COUNT(X17:AB17) -> 0 | AD17: =SUM(X17:AB17) -> 0 | AE17: =G17+O17+V17+AC17 -> 0 | AF17: =H17+P17+W17+AD17 -> 0
A18: Шепарівцівська філія | G18: =COUNT(B18:F18) -> 0 | H18: =SUM(B18:F18) -> 0 | O18: =COUNT(I18:N18) -> 0 | P18: =SUM(I18:N18) -> 0 | V18: =COUNT(Q18:U18) -> 0 | W18: =SUM(Q18:U18) -> 0 | AC18: =COUNT(X18:AB18) -> 0 | AD18: =SUM(X18:AB18) -> 0 | AE18: =G18+O18+V18+AC18 -> 0 | AF18: =H18+P18+W18+AD18 -> 0
A19: Коломийський ліцей №8 | G19: =COUNT(B19:F19) -> 0 | H19: =SUM(B19:F19) -> 0 | O19: =COUNT(I19:N19) -> 0 | P19: =SUM(I19:N19) -> 0 | V19: =COUNT(Q19:U19) -> 0 | W19: =SUM(Q19:U19) -> 0 | AC19: =COUNT(X19:AB19) -> 0 | AD19: =SUM(X19:AB19) -> 0 | AE19: =G19+O19+V19+AC19 -> 0 | AF19: =H19+P19+W19+AD19 -> 0 | AG19: =SUM(AE19:AE22) -> 0 | AH19: =SUM(AF19:AF22) -> 0
A20: Іванівська філія | G20: =COUNT(B20:F20) -> 0 | H20: =SUM(B20:F20) -> 0 | O20: =COUNT(I20:N20) -> 0 | P20: =SUM(I20:N20) -> 0 | V20: =COUNT(Q20:U20) -> 0 | W20: =SUM(Q20:U20) -> 0 | AC20: =COUNT(X20:AB20) -> 0 | AD20: =SUM(X20:AB20) -> 0 | AE20: =G20+O20+V20+AC20 -> 0 | AF20: =H20+P20+W20+AD20 -> 0
A21: Товмачицька філія | G21: =COUNT(B21:F21) -> 0 | H21: =SUM(B21:F21) -> 0 | O21: =COUNT(I21:N21) -> 0 | P21: =SUM(I21:N21) -> 0 | V21: =COUNT(Q21:U21) -> 0 | W21: =SUM(Q21:U21) -> 0 | AC21: =COUNT(X21:AB21) -> 0 | AD21: =SUM(X21:AB21) -> 0 | AE21: =G21+O21+V21+AC21 -> 0 | AF21: =H21+P21+W21+AD21 -> 0
A22: вечірні класи | G22: =COUNT(B22:F22) -> 0 | H22: =SUM(B22:F22) -> 0 | O22: =COUNT(I22:N22) -> 0 | P22: =SUM(I22:N22) -> 0 | V22: =COUNT(Q22:U22) -> 0 | W22: =SUM(Q22:U22) -> 0 | AC22: =COUNT(X22:AB22) -> 0 | AD22: =SUM(X22:AB22) -> 0 | AE22: =G22+O22+V22+AC22 -> 0 | AF22: =H22+P22+W22+AD22 -> 0
A23: Коломийський ліцей №9 | G23: =COUNT(B23:F23) -> 0 | H23: =SUM(B23:F23) -> 0 | O23: =COUNT(I23:N23) -> 0 | P23: =SUM(I23:N23) -> 0 | V23: =COUNT(Q23:U23) -> 0 | W23: =SUM(Q23:U23) -> 0 | AC23: =COUNT(X23:AB23) -> 0 | AD23: =SUM(X23:AB23) -> 0 | AE23: =G23+O23+V23+AC23 -> 0 | AF23: =H23+P23+W23+AD23 -> 0 | AG23: =SUM(AE23:AE25) -> 0 | AH23: =SUM(AF23:AF25) -> 0
A24: Філія 10 | G24: =COUNT(B24:F24) -> 0 | H24: =SUM(B24:F24) -> 0 | O24: =COUNT(I24:N24) -> 0 | P24: =SUM(I24:N24) -> 0 | V24: =COUNT(Q24:U24) -> 0 | W24: =SUM(Q24:U24) -> 0 | AC24: =COUNT(X24:AB24) -> 0 | AD24: =SUM(X24:AB24) -> 0 | AE24: =G24+O24+V24+AC24 -> 0 | AF24: =H24+P24+W24+AD24 -> 0
A25: філія 6 | G25: =COUNT(B25:F25) -> 0 | H25: =SUM(B25:F25) -> 0 | O25: =COUNT(I25:N25) -> 0 | P25: =SUM(I25:N25) -> 0 | V25: =COUNT(Q25:U25) -> 0 | W25: =SUM(Q25:U25) -> 0 | AC25: =COUNT(X25:AB25) -> 0 | AD25: =SUM(X25:AB25) -> 0 | AE25: =G25+O25+V25+AC25 -> 0 | AF25: =H25+P25+W25+AD25 -> 0
A26: Саджавський ліцей | G26: =COUNT(B26:F26) -> 0 | H26: =SUM(B26:F26) -> 0 | O26: =COUNT(I26:N26) -> 0 | P26: =SUM(I26:N26) -> 0 | V26: =COUNT(Q26:U26) -> 0 | W26: =SUM(Q26:U26) -> 0 | AC26: =COUNT(X26:AB26) -> 0 | AD26: =SUM(X26:AB26) -> 0 | AE26: =G26+O26+V26+AC26 -> 0 | AF26: =H26+P26+W26+AD26 -> 0 | AG26: =AE26 -> 0 | AH26: =AF26 -> 0
A27: Всього: | G27: =SUM(G8:G26) -> 0 | H27: =SUM(H8:H26) -> 0 | O27: =SUM(O8:O26) -> 1 | P27: =SUM(P8:P26) -> 1 | V27: =SUM(V8:V26) -> 2 | W27: =SUM(W8:W26) -> 2 | AC27: =SUM(AC8:AC26) -> 3 | AD27: =SUM(AD8:AD26) -> 4 | AE27: =SUM(AE8:AE26) -> 6 | AF27: =SUM(AF8:AF26) -> 7 | AG27: =SUM(AG8:AG26) -> 6 | AH27: =SUM(AH8:AH26) -> 7
A32: Керуючий справами виконавчого комітету міської ради | AE32: Микола АНДРУСЯК

Sheet 5-9 класи
AO1: продовження додатка 1
AO2: до рішення виконавчого комітету
AO3: від09.06.2026№87
B5: Планова мережа закладів загальної середньої освіти на 2026/2027 навчальний рік
A7: Заклади загальної середньої освіти | B7: 5-А | C7: 5-Б | D7: 5-В | E7: 5-Г | F7: 5-І | G7: к-сть класів | H7: к-сть учнів | I7: 6-А | J7: 6-Б | K7: 6-В | L7: 6-Г | M7: 6-Д | N7: 6-Е | O7: 6-I | P7: к-сть класів | Q7: к-сть учнів | R7: 7-А | S7: 7-Б | T7: 7-В | U7: 7-Г | V7: 7-Д | W7: 7-I | X7: к-сть класів | Y7: к-сть учнів | Z7: 8-А | AA7: 8-Б | AB7: 8-В | AC7: 8-Г | AD7: 8-Д | AE7: 8-Е | AF7: 8-І | AG7: к-сть класів | AH7: к-сть учнів | AI7: 9-А | AJ7: 9-Б | AK7: 9-В | AL7: 9-Г | AM7: 9-Д | AN7: 9-I | AO7: к-сть класів | AP7: к-сть учнів | AQ7: к-сть 5-9 класів | AR7: к-сть учнів у 5-9 кл. | AS7: к-сть 5-9 класів по опорному закладу | AT7: к-сть учнів у 5-9 кл. по опорному закладу
A8: Коломийський ліцей №1 імені В.Стефаника | B8: 28 | C8: 35 | D8: 32 | E8: 33 | F8: 31 | G8: =COUNT(B8:F8) -> 5 | H8: =SUM(B8:F8) -> 159 | I8: 20 | J8: 25 | K8: 26 | O8: 29 | P8: =COUNT(I8:O8) -> 4 | Q8: =SUM(I8:O8) -> 100 | R8: 35 | S8: 35 | T8: 38 | W8: 20 | X8: =COUNT(R8:W8) -> 4 | Y8: =SUM(R8:W8) -> 128 | Z8: 37 | AA8: 34 | AB8: 28 | AF8: 30 | AG8: =COUNT(Z8:AF8) -> 4 | AH8: =SUM(Z8:AF8) -> 129 | AI8: 24 | AJ8: 30 | AK8: 31 | AL8: 34 | AN8: 23 | AO8: =COUNT(AI8:AN8) -> 5 | AP8: =SUM(AI8:AN8) -> 142 | AQ8: =AO8+AG8+X8+P8+G8 -> 22 | AR8: =AP8+AH8+Y8+H8+Q8 -> 658 | AS8: =SUM(AQ8:AQ10) -> 32 | AT8: =SUM(AR8:AR10) -> 845
A9: Корницька філія | B9: 13 | G9: =COUNT(B9:F9) -> 1 | H9: =SUM(B9:F9) -> 13 | I9: 22 | P9: =COUNT(I9:O9) -> 1 | Q9: =SUM(I9:O9) -> 22 | R9: 25 | X9: =COUNT(R9:W9) -> 1 | Y9: =SUM(R9:W9) -> 25 | Z9: 22 | AG9: =COUNT(Z9:AF9) -> 1 | AH9: =SUM(Z9:AF9) -> 22 | AI9: 21 | AO9: =COUNT(AI9:AN9) -> 1 | AP9: =SUM(AI9:AN9) -> 21 | AQ9: =AO9+AG9+X9+P9+G9 -> 5 | AR9: =AP9+AH9+Y9+H9+Q9 -> 103
A10: Воскресінцівська філія | B10: 15 | G10: =COUNT(B10:F10) -> 1 | H10: =SUM(B10:F10) -> 15 | I10: 18 | P10: =COUNT(I10:O10) -> 1 | Q10: =SUM(I10:O10) -> 18 | R10: 14 | X10: =COUNT(R10:W10) -> 1 | Y10: =SUM(R10:W10) -> 14 | Z10: 19 | AG10: =COUNT(Z10:AF10) -> 1 | AH10: =SUM(Z10:AF10) -> 19 | AI10: 18 | AO10: =COUNT(AI10:AN10) -> 1 | AP10: =SUM(AI10:AN10) -> 18 | AQ10: =AO10+AG10+X10+P10+G10 -> 5 | AR10: =AP10+AH10+Y10+H10+Q10 -> 84
A11: Коломийський ліцей №2 | B11: 22 | C11: 25 | G11: =COUNT(B11:F11) -> 2 | H11: =SUM(B11:F11) -> 47 | I11: 23 | J11: 18 | K11: 22 | P11: =COUNT(I11:O11) -> 3 | Q11: =SUM(I11:O11) -> 63 | R11: 24 | S11: 35 | X11: =COUNT(R11:W11) -> 2 | Y11: =SUM(R11:W11) -> 59 | Z11: 25 | AA11: 33 | AB11: 25 | AG11: =COUNT(Z11:AF11) -> 3 | AH11: =SUM(Z11:AF11) -> 83 | AI11: 33 | AJ11: 36 | AO11: =COUNT(AI11:AN11) -> 2 | AP11: =SUM(AI11:AN11) -> 69 | AQ11: =AO11+AG11+X11+P11+G11 -> 12 | AR11: =AP11+AH11+Y11+H11+Q11 -> 321 | AS11: =AQ11 -> 12 | AT11: =AR11 -> 321
A12: Коломийський ліцей №4 імені Сергія Лисенка | B12: 31 | C12: 28 | D12: 29 | E12: 31 | G12: =COUNT(B12:F12) -> 4 | H12: =SUM(B12:F12) -> 119 | I12: 34 | J12: 29 | K12: 34 | L12: 30 | P12: =COUNT(I12:O12) -> 4 | Q12: =SUM(I12:O12) -> 127 | R12: 32 | S12: 36 | T12: 33 | U12: 35 | X12: =COUNT(R12:W12) -> 4 | Y12: =SUM(R12:W12) -> 136 | Z12: 31 | AA12: 30 | AB12: 35 | AC12: 31 | AD12: 35 | AG12: =COUNT(Z12:AF12) -> 5 | AH12: =SUM(Z12:AF12) -> 162 | AI12: 30 | AJ12: 29 | AK12: 30 | AL12: 30 | AM12: 24 | AO12: =COUNT(AI12:AN12) -> 5 | AP12: =SUM(AI12:AN12) -> 143 | AQ12: =AO12+AG12+X12+P12+G12 -> 22 | AR12: =AP12+AH12+Y12+H12+Q12 -> 687 | AS12: =SUM(AQ12:AQ13) -> 27 | AT12: =SUM(AR12:AR13) -> 811
A13: філія 3 | B13: 22 | G13: =COUNT(B13:F13) -> 1 | H13: =SUM(B13:F13) -> 22 | I13: 15 | P13: =COUNT(I13:O13) -> 1 | Q13: =SUM(I13:O13) -> 15 | R13: 27 | X13: =COUNT(R13:W13) -> 1 | Y13: =SUM(R13:W13) -> 27 | Z13: 33 | AG13: =COUNT(Z13:AF13) -> 1 | AH13: =SUM(Z13:AF13) -> 33 | AI13: 27 | AO13: =COUNT(AI13:AN13) -> 1 | AP13: =SUM(AI13:AN13) -> 27 | AQ13: =AO13+AG13+X13+P13+G13 -> 5 | AR13: =AP13+AH13+Y13+H13+Q13 -> 124
A14: Коломийський ліцей №5 імені Т.Г.Шевченка | B14: 24 | C14: 21 | F14: 23 | G14: =COUNT(B14:F14) -> 3 | H14: =SUM(B14:F14) -> 68 | I14: 31 | J14: 27 | O14: 26 | P14: =COUNT(I14:O14) -> 3 | Q14: =SUM(I14:O14) -> 84 | R14: 22 | S14: 20 | T14: 24 | X14: =COUNT(R14:W14) -> 3 | Y14: =SUM(R14:W14) -> 66 | Z14: 30 | AA14: 29 | AF14: 23 | AG14: =COUNT(Z14:AF14) -> 3 | AH14: =SUM(Z14:AF14) -> 82 | AI14: 23 | AJ14: 29 | AK14: 24 | AO14: =COUNT(AI14:AN14) -> 3 | AP14: =SUM(AI14:AN14) -> 76 | AQ14: =AO14+AG14+X14+P14+G14 -> 15 | AR14: =AP14+AH14+Y14+H14+Q14 -> 376 | AS14: =SUM(AQ14:AQ17) -> 30 | AT14: =SUM(AR14:AR17) -> 615
A15: філія 7 | B15: 28 | G15: =COUNT(B15:F15) -> 1 | H15: =SUM(B15:F15) -> 28 | I15: 24 | P15: =COUNT(I15:O15) -> 1 | Q15: =SUM(I15:O15) -> 24 | R15: 31 | X15: =COUNT(R15:W15) -> 1 | Y15: =SUM(R15:W15) -> 31 | Z15: 27 | AG15: =COUNT(Z15:AF15) -> 1 | AH15: =SUM(Z15:AF15) -> 27 | AI15: 26 | AO15: =COUNT(AI15:AN15) -> 1 | AP15: =SUM(AI15:AN15) -> 26 | AQ15: =AO15+AG15+X15+P15+G15 -> 5 | AR15: =AP15+AH15+Y15+H15+Q15 -> 136
A16: Раківчицька філія | B16: 13 | G16: =COUNT(B16:F16) -> 1 | H16: =SUM(B16:F16) -> 13 | I16: 9 | P16: =COUNT(I16:O16) -> 1 | Q16: =SUM(I16:O16) -> 9 | R16: 9 | X16: =COUNT(R16:W16) -> 1 | Y16: =SUM(R16:W16) -> 9 | Z16: 13 | AG16: =COUNT(Z16:AF16) -> 1 | AH16: =SUM(Z16:AF16) -> 13 | AI16: 8 | AO16: =COUNT(AI16:AN16) -> 1 | AP16: =SUM(AI16:AN16) -> 8 | AQ16: =AO16+AG16+X16+P16+G16 -> 5 | AR16: =AP16+AH16+Y16+H16+Q16 -> 52
A17: Шепарівцівська філія | B17: 8 | G17: =COUNT(B17:F17) -> 1 | H17: =SUM(B17:F17) -> 8 | I17: 10 | P17: =COUNT(I17:O17) -> 1 | Q17: =SUM(I17:O17) -> 10 | R17: 13 | X17: =COUNT(R17:W17) -> 1 | Y17: =SUM(R17:W17) -> 13 | Z17: 10 | AG17: =COUNT(Z17:AF17) -> 1 | AH17: =SUM(Z17:AF17) -> 10 | AI17: 10 | AO17: =COUNT(AI17:AN17) -> 1 | AP17: =SUM(AI17:AN17) -> 10 | AQ17: =AO17+AG17+X17+P17+G17 -> 5 | AR17: =AP17+AH17+Y17+H17+Q17 -> 51
A18: Коломийський ліцей №8 | B18: 26 | C18: 22 | D18: 25 | G18: =COUNT(B18:F18) -> 3 | H18: =SUM(B18:F18) -> 73 | I18: 32 | J18: 33 | K18: 32 | P18: =COUNT(I18:O18) -> 3 | Q18: =SUM(I18:O18) -> 97 | R18: 27 | S18: 26 | T18: 28 | X18: =COUNT(R18:W18) -> 3 | Y18: =SUM(R18:W18) -> 81 | Z18: 30 | AA18: 30 | AB18: 30 | AG18: =COUNT(Z18:AF18) -> 3 | AH18: =SUM(Z18:AF18) -> 90 | AI18: 32 | AJ18: 30 | AK18: 30 | AO18: =COUNT(AI18:AN18) -> 3 | AP18: =SUM(AI18:AN18) -> 92 | AQ18: =AO18+AG18+X18+P18+G18 -> 15 | AR18: =AP18+AH18+Y18+H18+Q18 -> 433 | AS18: =AQ18+AQ20+AQ19 -> 25 | AT18: =AR18+AR20+AR19 -> 595
A19: Іванівецька філія | B19: 11 | G19: =COUNT(B19:F19) -> 1 | H19: =SUM(B19:F19) -> 11 | I19: 19 | P19: =COUNT(I19:O19) -> 1 | Q19: =SUM(I19:O19) -> 19 | R19: 15 | X19: =COUNT(R19:W19) -> 1 | Y19: =SUM(R19:W19) -> 15 | Z19: 12 | AG19: =COUNT(Z19:AF19) -> 1 | AH19: =SUM(Z19:AF19) -> 12 | AI19: 18 | AO19: =COUNT(AI19:AN19) -> 1 | AP19: =SUM(AI19:AN19) -> 18 | AQ19: =AO19+AG19+X19+P19+G19 -> 5 | AR19: =AP19+AH19+Y19+H19+Q19 -> 75
A20: Товмачицька філія | B20: 12 | G20: 1 | H20: =SUM(B20:F20) -> 12 | I20: 25 | P20: 1 | Q20: =SUM(I20:O20) -> 25 | R20: 14 | X20: =COUNT(R20:W20) -> 1 | Y20: =SUM(R20:W20) -> 14 | Z20: 19 | AG20: =COUNT(Z20:AF20) -> 1 | AH20: =SUM(Z20:AF20) -> 19 | AI20: 17 | AO20: 1 | AP20: 17 | AQ20: =AO20+AG20+X20+P20+G20 -> 5 | AR20: =AP20+AH20+Y20+H20+Q20 -> 87
A21: вечірні класи | G21: =COUNT(B21:F21) -> 0 | H21: =SUM(B21:F21) -> 0 | P21: =COUNT(I21:O21) -> 0 | Q21: =SUM(I21:O21) -> 0 | R21: 14 | X21: =COUNT(R21:W21) -> 1 | Y21: =SUM(R21:W21) -> 14 | AG21: =COUNT(Z21:AF21) -> 0 | AH21: =SUM(Z21:AF21) -> 0 | AO21: =COUNT(AI21:AN21) -> 0 | AP21: =SUM(AI21:AN21) -> 0 | AQ21: =AO21+AG21+X21+P21+G21 -> 1 | AR21: =AP21+AH21+Y21+H21+Q21 -> 14 | AS21: =AQ21 -> 1 | AT21: =AR21 -> 14
A22: Коломийський ліцей №9 | B22: 33 | C22: 34 | D22: 32 | G22: 3 | H22: 99 | I22: 26 | J22: 31 | K22: 31 | L22: 27 | P22: 4 | Q22: 115 | R22: 27 | S22: 19 | T22: 20 | U22: 22 | V22: 19 | W22: 22 | X22: 6 | Y22: 129 | Z22: 29 | AA22: 27 | AB22: 33 | AC22: 23 | AG22: 4 | AH22: 112 | AI22: 25 | AJ22: 22 | AK22: 22 | AL22: 21 | AM22: 29 | AN22: 22 | AO22: =COUNT(AI22:AN22) -> 6 | AP22: =SUM(AI22:AN22) -> 141 | AQ22: =AO22+AG22+X22+P22+G22 -> 23 | AR22: =AP22+AH22+Y22+H22+Q22 -> 596 | AS22: =SUM(AQ22:AQ23) -> 35 | AT22: =SUM(AR22:AR23) -> 892
A23: філія 6 | B23: 28 | C23: 24 | G23: 2 | H23: 52 | I23: 29 | J23: 25 | K23: 24 | P23: 3 | Q23: 78 | R23: 25 | S23: 28 | X23: 2 | Y23: 53 | Z23: 24 | AA23: 22 | AB23: 20 | AG23: 3 | AH23: 66 | AI23: 25 | AJ23: 22 | AO23: =COUNT(AI23:AN23) -> 2 | AP23: =SUM(AI23:AN23) -> 47 | AQ23: =AO23+AG23+X23+P23+G23 -> 12 | AR23: =AP23+AH23+Y23+H23+Q23 -> 296
A24: Коломийський ліцей "Коломийська гімназія імені Михайла Грушевського" | B24: 24 | G24: =COUNT(B24:F24) -> 1 | H24: =SUM(B24:F24) -> 24 | I24: 32 | P24: =COUNT(I24:O24) -> 1 | Q24: =SUM(I24:O24) -> 32 | R24: 31 | S24: 31 | X24: =COUNT(R24:W24) -> 2 | Y24: =SUM(R24:W24) -> 62 | Z24: 30 | AA24: 30 | AG24: =COUNT(Z24:AF24) -> 2 | AH24: =SUM(Z24:AF24) -> 60 | AI24: 26 | AJ24: 28 | AO24: =COUNT(AI24:AN24) -> 2 | AP24: =SUM(AI24:AN24) -> 54 | AQ24: =AO24+AG24+X24+P24+G24 -> 8 | AR24: =AP24+AH24+Y24+H24+Q24 -> 232 | AS24: =AQ24 -> 8 | AT24: =AR24 -> 232
A25: Саджавський ліцей | B25: 24 | G25: =COUNT(B25:F25) -> 1 | H25: =SUM(B25:F25) -> 24 | I25: 33 | P25: =COUNT(I25:O25) -> 1 | Q25: =SUM(I25:O25) -> 33 | R25: 19 | S25: 19 | X25: =COUNT(R25:W25) -> 2 | Y25: =SUM(R25:W25) -> 38 | Z25: 39 | AG25: =COUNT(Z25:AF25) -> 1 | AH25: =SUM(Z25:AF25) -> 39 | AI25: 21 | AJ25: 21 | AO25: =COUNT(AI25:AN25) -> 2 | AP25: =SUM(AI25:AN25) -> 42 | AQ25: =AO25+AG25+X25+P25+G25 -> 7 | AR25: =AP25+AH25+Y25+H25+Q25 -> 176 | AS25: =AQ25 -> 7 | AT25: =AR25 -> 176
A26: Всього: | G26: =SUM(G8:G25) -> 32 | H26: =SUM(H8:H25) -> 787 | P26: =SUM(P8:P25) -> 34 | Q26: =SUM(Q8:Q25) -> 871 | X26: =SUM(X8:X25) -> 37 | Y26: =SUM(Y8:Y25) -> 914 | AG26: =SUM(AG8:AG25) -> 36 | AH26: =SUM(AH8:AH25) -> 978 | AO26: =SUM(AO8:AO25) -> 38 | AP26: =SUM(AP8:AP25) -> 951 | AQ26: =AO26+AG26+X26+P26+G26 -> 177 | AR26: =AP26+AH26+Y26+H26+Q26 -> 4501 | AS26: =SUM(AS8:AS25) -> 177 | AT26: =SUM(AT8:AT25) -> 4501
A27: Всього без вечірних класів | G27: =G26-G21 -> 32 | H27: =H26-H21 -> 787 | P27: =P26-P21 -> 34 | Q27: =Q26-Q21 -> 871 | X27: =X26-X21 -> 36 | Y27: =Y26-Y21 -> 900 | AG27: =AG26-AG21 -> 36 | AH27: =AH26-AH21 -> 978 | AI27: =AI26-AI21 -> 0 | AO27: =AO26-AO21 -> 38 | AP27: =AP26-AP21 -> 951 | AQ27: =AQ26-AQ21 -> 176 | AR27: =AR26-AR21 -> 4487 | AS27: =AS26-AS21 -> 176 | AT27: =AT26-AT21 -> 4487
A32: Керуючий справами виконавчого комітету міської ради | AQ32: Микола АНДРУСЯК

Sheet 5-9 класи (інклюзія)
AK1: продовження додатка 1
AK2: до рішення виконавчого комітету
AK3: від09.06.2026№87
B5: Планова мережа закладів загальної середньої освіти на 2026/2027 навчальний рік (інклюзія)
A7: Заклади загальної середньої освіти | B7: 5-А | C7: 5-Б | D7: 5-В | E7: 5-Г | F7: 5-І | G7: к-сть класів | H7: к-сть учнів | I7: 6-А | J7: 6-Б | K7: 6-В | L7: 6-Г | M7: 6-Д | N7: 6-Е | O7: к-сть класів | P7: к-сть учнів | Q7: 7-А | R7: 7-Б | S7: 7-В | T7: 7-Г | U7: 7-І | V7: к-сть класів | W7: к-сть учнів | X7: 8-А | Y7: 8-Б | Z7: 8-В | AA7: 8-Г | AB7: 8-Д | AC7: 8-Е | AD7: к-сть класів | AE7: к-сть учнів | AF7: 9-А | AG7: 9-Б | AH7: 9-В | AI7: 9-Г | AJ7: 9-Д | AK7: к-сть класів | AL7: к-сть учнів | AM7: к-сть 5-9 класів | AN7: к-сть учнів у 5-9 кл. | AO7: к-сть 5-9 класів по опорному закладу | AP7: к-сть учнів у 5-9 кл. по опорному закладу
A8: Коломийський ліцей №1 імені В.Стефаника | B8: 1 | G8: =COUNT(B8:F8) -> 1 | H8: =SUM(B8:F8) -> 1 | O8: =COUNT(I8:N8) -> 0 | P8: =SUM(I8:N8) -> 0 | U8: 1 | V8: =COUNT(Q8:U8) -> 1 | W8: =SUM(Q8:U8) -> 1 | Z8: 1 | AD8: =COUNT(X8:AC8) -> 1 | AE8: =SUM(X8:AC8) -> 1 | AK8: =COUNT(AF8:AJ8) -> 0 | AL8: =SUM(AF8:AJ8) -> 0 | AM8: =AK8+AD8+V8+O8+G8 -> 3 | AN8: =AL8+AE8+W8+H8+P8 -> 3 | AO8: =SUM(AM8:AM10) -> 11 | AP8: =SUM(AN8:AN10) -> 14
A9: Корницька філія | B9: 1 | G9: =COUNT(B9:F9) -> 1 | H9: =SUM(B9:F9) -> 1 | I9: 2 | O9: =COUNT(I9:N9) -> 1 | P9: =SUM(I9:N9) -> 2 | Q9: 1 | V9: =COUNT(Q9:U9) -> 1 | W9: =SUM(Q9:U9) -> 1 | AD9: =COUNT(X9:AC9) -> 0 | AE9: =SUM(X9:AC9) -> 0 | AF9: 2 | AK9: =COUNT(AF9:AJ9) -> 1 | AL9: =SUM(AF9:AJ9) -> 2 | AM9: 4 | AN9: =AL9+AE9+W9+H9+P9 -> 6
A10: Воскресінцівська філія | B10: 1 | G10: =COUNT(B10:F10) -> 1 | H10: =SUM(B10:F10) -> 1 | O10: =COUNT(I10:N10) -> 0 | P10: =SUM(I10:N10) -> 0 | Q10: 2 | V10: =COUNT(Q10:U10) -> 1 | W10: =SUM(Q10:U10) -> 2 | X10: 1 | AD10: =COUNT(X10:AC10) -> 1 | AE10: =SUM(X10:AC10) -> 1 | AF10: 1 | AK10: =COUNT(AF10:AJ10) -> 1 | AL10: =SUM(AF10:AJ10) -> 1 | AM10: =AK10+AD10+V10+O10+G10 -> 4 | AN10: =AL10+AE10+W10+H10+P10 -> 5
A11: Коломийський ліцей №2 | G11: =COUNT(B11:F11) -> 0 | H11: =SUM(B11:F11) -> 0 | I11: 1 | O11: =COUNT(I11:N11) -> 1 | P11: =SUM(I11:N11) -> 1 | Q11: 1 | V11: =COUNT(Q11:U11) -> 1 | W11: =SUM(Q11:U11) -> 1 | X11: 2 | AD11: =COUNT(X11:AC11) -> 1 | AE11: =SUM(X11:AC11) -> 2 | AK11: =COUNT(AF11:AJ11) -> 0 | AL11: =SUM(AF11:AJ11) -> 0 | AM11: =AK11+AD11+V11+O11+G11 -> 3 | AN11: =AL11+AE11+W11+H11+P11 -> 4 | AO11: =AM11 -> 3 | AP11: =AN11 -> 4
A12: Коломийський ліцей №4 імені Сергія Лисенка | E12: 1 | G12: =COUNT(B12:F12) -> 1 | H12: =SUM(B12:F12) -> 1 | O12: =COUNT(I12:N12) -> 0 | P12: =SUM(I12:N12) -> 0 | S12: 1 | V12: =COUNT(Q12:U12) -> 1 | W12: =SUM(Q12:U12) -> 1 | Y12: 3 | AA12: 1 | AB12: 1 | AD12: =COUNT(X12:AC12) -> 3 | AE12: =SUM(X12:AC12) -> 5 | AH12: 2 | AK12: =COUNT(AF12:AJ12) -> 1 | AL12: =SUM(AF12:AJ12) -> 2 | AM12: =AK12+AD12+V12+O12+G12 -> 6 | AN12: =AL12+AE12+W12+H12+P12 -> 9 | AO12: =SUM(AM12:AM13) -> 9 | AP12: =SUM(AN12:AN13) -> 12
A13: філія 3 | B13: 1 | G13: =COUNT(B13:F13) -> 1 | H13: =SUM(B13:F13) -> 1 | O13: =COUNT(I13:N13) -> 0 | P13: =SUM(I13:N13) -> 0 | V13: =COUNT(Q13:U13) -> 0 | W13: =SUM(Q13:U13) -> 0 | X13: 1 | AD13: =COUNT(X13:AC13) -> 1 | AE13: =SUM(X13:AC13) -> 1 | AF13: 1 | AK13: =COUNT(AF13:AJ13) -> 1 | AL13: =SUM(AF13:AJ13) -> 1 | AM13: =AK13+AD13+V13+O13+G13 -> 3 | AN13: =AL13+AE13+W13+H13+P13 -> 3
A14: Коломийський ліцей №5 імені Т.Г.Шевченка | B14: 2 | C14: 2 | F14: 1 | G14: =COUNT(B14:F14) -> 3 | H14: =SUM(B14:F14) -> 5 | I14: 2 | O14: =COUNT(I14:N14) -> 1 | P14: =SUM(I14:N14) -> 2 | R14: 2 | S14: 3 | V14: =COUNT(Q14:U14) -> 2 | W14: =SUM(Q14:U14) -> 5 | X14: 2 | Y14: 2 | AD14: =COUNT(X14:AC14) -> 2 | AE14: =SUM(X14:AC14) -> 4 | AF14: 1 | AG14: 2 | AH14: 1 | AK14: =COUNT(AF14:AJ14) -> 3 | AL14: =SUM(AF14:AJ14) -> 4 | AM14: =AK14+AD14+V14+O14+G14 -> 11 | AN14: =AL14+AE14+W14+H14+P14 -> 20 | AO14: =SUM(AM14:AM17) -> 15 | AP14: =SUM(AN14:AN17) -> 24
A15: філія 7 | B15: 1 | G15: =COUNT(B15:F15) -> 1 | H15: =SUM(B15:F15) -> 1 | I15: 1 | O15: =COUNT(I15:N15) -> 1 | P15: =SUM(I15:N15) -> 1 | V15: =COUNT(Q15:U15) -> 0 | W15: =SUM(Q15:U15) -> 0 | AD15: =COUNT(X15:AC15) -> 0 | AE15: =SUM(X15:AC15) -> 0 | AF15: 1 | AK15: =COUNT(AF15:AJ15) -> 1 | AL15: =SUM(AF15:AJ15) -> 1 | AM15: =AK15+AD15+V15+O15+G15 -> 3 | AN15: =AL15+AE15+W15+H15+P15 -> 3
A16: Раківчицька філія | G16: =COUNT(B16:F16) -> 0 | H16: =SUM(B16:F16) -> 0 | O16: =COUNT(I16:N16) -> 0 | P16: =SUM(I16:N16) -> 0 | V16: =COUNT(Q16:U16) -> 0 | W16: =SUM(Q16:U16) -> 0 | AD16: =COUNT(X16:AC16) -> 0 | AE16: =SUM(X16:AC16) -> 0 | AK16: =COUNT(AF16:AJ16) -> 0 | AL16: =SUM(AF16:AJ16) -> 0 | AM16: =AK16+AD16+V16+O16+G16 -> 0 | AN16: =AL16+AE16+W16+H16+P16 -> 0
A17: Шепарівцівська філія | G17: =COUNT(B17:F17) -> 0 | H17: =SUM(B17:F17) -> 0 | I17: 1 | O17: =COUNT(I17:N17) -> 1 | P17: =SUM(I17:N17) -> 1 | V17: =COUNT(Q17:U17) -> 0 | W17: =SUM(Q17:U17) -> 0 | AD17: =COUNT(X17:AC17) -> 0 | AE17: =SUM(X17:AC17) -> 0 | AK17: =COUNT(AF17:AJ17) -> 0 | AL17: =SUM(AF17:AJ17) -> 0 | AM17: =AK17+AD17+V17+O17+G17 -> 1 | AN17: =AL17+AE17+W17+H17+P17 -> 1
A18: Коломийський ліцей №8 | B18: 1 | C18: 1 | D18: 1 | G18: =COUNT(B18:F18) -> 3 | H18: =SUM(B18:F18) -> 3 | I18: 1 | J18: 1 | O18: =COUNT(I18:N18) -> 2 | P18: =SUM(I18:N18) -> 2 | V18: =COUNT(Q18:U18) -> 0 | W18: =SUM(Q18:U18) -> 0 | X18: 1 | Z18: 1 | AD18: =COUNT(X18:AC18) -> 2 | AE18: =SUM(X18:AC18) -> 2 | AK18: =COUNT(AF18:AJ18) -> 0 | AL18: =SUM(AF18:AJ18) -> 0 | AM18: =AK18+AD18+V18+O18+G18 -> 7 | AN18: =AL18+AE18+W18+H18+P18 -> 7 | AO18: =SUM(AM18:AM20) -> 8 | AP18: =AN18+AN20+AN19 -> 9
A19: Іванівецька філія | G19: =COUNT(B19:F19) -> 0 | H19: =SUM(B19:F19) -> 0 | I19: 2 | O19: =COUNT(I19:N19) -> 1 | P19: =SUM(I19:N19) -> 2 | V19: =COUNT(Q19:U19) -> 0 | W19: =SUM(Q19:U19) -> 0 | AD19: =COUNT(X19:AC19) -> 0 | AE19: =SUM(X19:AC19) -> 0 | AK19: =COUNT(AF19:AJ19) -> 0 | AL19: =SUM(AF19:AJ19) -> 0 | AM19: =AK19+AD19+V19+O19+G19 -> 1 | AN19: =AL19+AE19+W19+H19+P19 -> 2
A20: Товмачицька філія | G20: =COUNT(B20:F20) -> 0 | H20: =SUM(B20:F20) -> 0 | O20: =COUNT(I20:N20) -> 0 | P20: =SUM(I20:N20) -> 0 | V20: =COUNT(Q20:U20) -> 0 | W20: =SUM(Q20:U20) -> 0 | AD20: =COUNT(X20:AC20) -> 0 | AE20: =SUM(X20:AC20) -> 0 | AK20: =COUNT(AF20:AJ20) -> 0 | AL20: =SUM(AF20:AJ20) -> 0 | AM20: =AK20+AD20+V20+O20+G20 -> 0 | AN20: =AL20+AE20+W20+H20+P20 -> 0
A21: вечірні класи | G21: =COUNT(B21:F21) -> 0 | H21: =SUM(B21:F21) -> 0 | O21: =COUNT(I21:N21) -> 0 | P21: =SUM(I21:N21) -> 0 | V21: =COUNT(Q21:U21) -> 0 | W21: =SUM(Q21:U21) -> 0 | AD21: =COUNT(X21:AC21) -> 0 | AE21: =SUM(X21:AC21) -> 0 | AK21: =COUNT(AF21:AJ21) -> 0 | AL21: =SUM(AF21:AJ21) -> 0 | AM21: =AK21+AD21+V21+O21+G21 -> 0 | AN21: =AL21+AE21+W21+H21+P21 -> 0 | AO21: =AM21 -> 0 | AP21: =AN21 -> 0
A22: Коломийський ліцей №9 | B22: 1 | D22: 1 | G22: =COUNT(B22:F22) -> 2 | H22: =SUM(B22:F22) -> 2 | L22: 3 | O22: =COUNT(I22:N22) -> 1 | P22: =SUM(I22:N22) -> 3 | S22: 1 | V22: =COUNT(Q22:U22) -> 1 | W22: =SUM(Q22:U22) -> 1 | AD22: =COUNT(X22:AC22) -> 0 | AE22: =SUM(X22:AC22) -> 0 | AH22: 1 | AJ22: 1 | AK22: =COUNT(AF22:AJ22) -> 2 | AL22: =SUM(AF22:AJ22) -> 2 | AM22: =AK22+AD22+V22+O22+G22 -> 6 | AN22: =AL22+AE22+W22+H22+P22 -> 8 | AO22: =SUM(AM22:AM23) -> 12 | AP22: =SUM(AN22:AN23) -> 15
A23: філія 6 | B23: 1 | C23: 1 | G23: =COUNT(B23:F23) -> 2 | H23: =SUM(B23:F23) -> 2 | K23: 1 | O23: =COUNT(I23:N23) -> 1 | P23: =SUM(I23:N23) -> 1 | Q23: 1 | R23: 1 | V23: =COUNT(Q23:U23) -> 2 | W23: =SUM(Q23:U23) -> 2 | X23: 2 | AD23: =COUNT(X23:AC23) -> 1 | AE23: =SUM(X23:AC23) -> 2 | AK23: =COUNT(AF23:AJ23) -> 0 | AL23: =SUM(AF23:AJ23) -> 0 | AM23: =AK23+AD23+V23+O23+G23 -> 6 | AN23: =AL23+AE23+W23+H23+P23 -> 7
A24: Коломийський ліцей "Коломийська гімназія імені Михайла Грушевського" | G24: =COUNT(B24:F24) -> 0 | H24: =SUM(B24:F24) -> 0 | O24: =COUNT(I24:N24) -> 0 | P24: =SUM(I24:N24) -> 0 | V24: =COUNT(Q24:U24) -> 0 | W24: =SUM(Q24:U24) -> 0 | AD24: =COUNT(X24:AC24) -> 0 | AE24: =SUM(X24:AC24) -> 0 | AK24: =COUNT(AF24:AJ24) -> 0 | AL24: =SUM(AF24:AJ24) -> 0 | AM24: =AK24+AD24+V24+O24+G24 -> 0 | AN24: =AL24+AE24+W24+H24+P24 -> 0 | AO24: =AM24 -> 0 | AP24: =AN24 -> 0
A25: Саджавський ліцей | B25: 1 | G25: =COUNT(B25:F25) -> 1 | H25: =SUM(B25:F25) -> 1 | O25: =COUNT(I25:N25) -> 0 | P25: =SUM(I25:N25) -> 0 | Q25: 1 | V25: =COUNT(Q25:U25) -> 1 | W25: =SUM(Q25:U25) -> 1 | X25: 1 | AD25: =COUNT(X25:AC25) -> 1 | AE25: =SUM(X25:AC25) -> 1 | AK25: =COUNT(AF25:AJ25) -> 0 | AL25: =SUM(AF25:AJ25) -> 0 | AM25: =AK25+AD25+V25+O25+G25 -> 3 | AN25: =AL25+AE25+W25+H25+P25 -> 3 | AO25: =AM25 -> 3 | AP25: =AN25 -> 3
A26: Всього: | G26: =SUM(G8:G25) -> 17 | H26: =SUM(H8:H25) -> 19 | O26: =SUM(O8:O25) -> 10 | P26: =SUM(P8:P25) -> 15 | V26: =SUM(V8:V25) -> 11 | W26: =SUM(W8:W25) -> 15 | AD26: =SUM(AD8:AD25) -> 13 | AE26: =SUM(AE8:AE25) -> 19 | AK26: =SUM(AK8:AK25) -> 10 | AL26: =SUM(AL8:AL25) -> 13 | AM26: =SUM(AM8:AM25) -> 61 | AN26: =SUM(AN8:AN25) -> 81 | AO26: =SUM(AO8:AO25) -> 61 | AP26: =SUM(AP8:AP25) -> 81
A27: Всього без вечірних класів | G27: =G26-G21 -> 17 | H27: =H26-H21 -> 19 | O27: =O26-O21 -> 10 | P27: =P26-P21 -> 15 | V27: =V26-V21 -> 11 | W27: =W26-W21 -> 15 | AD27: =AD26-AD21 -> 13 | AE27: =AE26-AE21 -> 19 | AK27: =AK26-AK21 -> 10 | AL27: =AL26-AL21 -> 13 | AM27: =AM26-AM21 -> 61 | AN27: =AN26-AN21 -> 81 | AO27: =AO26-AO21 -> 61 | AP27: =AP26-AP21 -> 81
A30: Керуючий справами виконавчого комітету міської ради | AL30: Микола АНДРУСЯК

Sheet  5-9 класи (пед патронаж)
AK1: продовження додатка 1
AK2: до рішення виконавчого комітету
AK3: від09.06.2026_№_87
B5: Планова мережа закладів загальної середньої освіти на 2026/2027 навчальний рік (педагогічний патронаж)
A7: Заклади загальної середньої освіти | B7: 5-А | C7: 5-Б | D7: 5-В | E7: 5-Г | F7: 5-І | G7: к-сть класів | H7: к-сть учнів | I7: 6-А | J7: 6-Б | K7: 6-В | L7: 6-Г | M7: 6-Д | N7: 6-Е | O7: к-сть класів | P7: к-сть учнів | Q7: 7-А | R7: 7-Б | S7: 7-В | T7: 7-Г | U7: 7-Д | V7: к-сть класів | W7: к-сть учнів | X7: 8-А | Y7: 8-Б | Z7: 8-В | AA7: 8-Г | AB7: 8-Д | AC7: 8-Е | AD7: к-сть класів | AE7: к-сть учнів | AF7: 9-А | AG7: 9-Б | AH7: 9-В | AI7: 9-Г | AJ7: 9-Д | AK7: к-сть класів | AL7: к-сть учнів | AM7: к-сть 5-9 класів | AN7: к-сть учнів у 5-9 кл. | AO7: к-сть 5-9 класів по опорному закладу | AP7: к-сть учнів у 5-9 кл. по опорному закладу
A8: Коломийський ліцей №1 імені В.Стефаника | G8: =COUNT(B8:F8) -> 0 | H8: =SUM(B8:F8) -> 0 | O8: =COUNT(I8:N8) -> 0 | P8: =SUM(I8:N8) -> 0 | V8: =COUNT(Q8:U8) -> 0 | W8: =SUM(Q8:U8) -> 0 | AD8: =COUNT(X8:AC8) -> 0 | AE8: =SUM(X8:AC8) -> 0 | AK8: =COUNT(AF8:AJ8) -> 0 | AL8: =SUM(AF8:AJ8) -> 0 | AM8: =AK8+AD8+V8+O8+G8 -> 0 | AN8: =AL8+AE8+W8+H8+P8 -> 0 | AO8: =SUM(AM8:AM10) -> 3 | AP8: =SUM(AN8:AN10) -> 3
A9: Корницька філія | G9: =COUNT(B9:F9) -> 0 | H9: =SUM(B9:F9) -> 0 | O9: =COUNT(I9:N9) -> 0 | P9: =SUM(I9:N9) -> 0 | Q9: 1 | V9: =COUNT(Q9:U9) -> 1 | W9: =SUM(Q9:U9) -> 1 | X9: 1 | AD9: =COUNT(X9:AC9) -> 1 | AE9: =SUM(X9:AC9) -> 1 | AK9: =COUNT(AF9:AJ9) -> 0 | AL9: =SUM(AF9:AJ9) -> 0 | AM9: =AK9+AD9+V9+O9+G9 -> 2 | AN9: =AL9+AE9+W9+H9+P9 -> 2
A10: Воскресінцівська філія | G10: =COUNT(B10:F10) -> 0 | H10: =SUM(B10:F10) -> 0 | O10: =COUNT(I10:N10) -> 0 | P10: =SUM(I10:N10) -> 0 | V10: =COUNT(Q10:U10) -> 0 | W10: =SUM(Q10:U10) -> 0 | X10: 1 | AD10: =COUNT(X10:AC10) -> 1 | AE10: =SUM(X10:AC10) -> 1 | AK10: =COUNT(AF10:AJ10) -> 0 | AL10: =SUM(AF10:AJ10) -> 0 | AM10: =AK10+AD10+V10+O10+G10 -> 1 | AN10: =AL10+AE10+W10+H10+P10 -> 1
A11: Коломийський ліцей №2 | G11: =COUNT(B11:F11) -> 0 | H11: =SUM(B11:F11) -> 0 | I11: 1 | J11: 1 | O11: =COUNT(I11:N11) -> 2 | P11: =SUM(I11:N11) -> 2 | Q11: 1 | V11: =COUNT(Q11:U11) -> 1 | W11: =SUM(Q11:U11) -> 1 | X11: 2 | AD11: =COUNT(X11:AC11) -> 1 | AE11: =SUM(X11:AC11) -> 2 | AK11: =COUNT(AF11:AJ11) -> 0 | AL11: =SUM(AF11:AJ11) -> 0 | AM11: =AK11+AD11+V11+O11+G11 -> 4 | AN11: =AL11+AE11+W11+H11+P11 -> 5 | AO11: =AM11 -> 4 | AP11: =AN11 -> 5
A12: Коломийський ліцей №4 імені Сергія Лисенка | G12: =COUNT(B12:F12) -> 0 | H12: =SUM(B12:F12) -> 0 | L12: 1 | O12: =COUNT(I12:N12) -> 1 | P12: =SUM(I12:N12) -> 1 | S12: 1 | V12: =COUNT(Q12:U12) -> 1 | W12: =SUM(Q12:U12) -> 1 | AD12: =COUNT(X12:AC12) -> 0 | AE12: =SUM(X12:AC12) -> 0 | AK12: =COUNT(AF12:AJ12) -> 0 | AL12: =SUM(AF12:AJ12) -> 0 | AM12: =AK12+AD12+V12+O12+G12 -> 2 | AN12: =AL12+AE12+W12+H12+P12 -> 2 | AO12: =SUM(AM12:AM13) -> 2 | AP12: =SUM(AN12:AN13) -> 2
A13: філія 3 | G13: =COUNT(B13:F13) -> 0 | H13: =SUM(B13:F13) -> 0 | O13: =COUNT(I13:N13) -> 0 | P13: =SUM(I13:N13) -> 0 | V13: =COUNT(Q13:U13) -> 0 | W13: =SUM(Q13:U13) -> 0 | AD13: =COUNT(X13:AC13) -> 0 | AE13: =SUM(X13:AC13) -> 0 | AK13: =COUNT(AF13:AJ13) -> 0 | AL13: =SUM(AF13:AJ13) -> 0 | AM13: =AK13+AD13+V13+O13+G13 -> 0 | AN13: =AL13+AE13+W13+H13+P13 -> 0
A14: Коломийський ліцей №5 імені Т.Г.Шевченка | G14: =COUNT(B14:F14) -> 0 | H14: =SUM(B14:F14) -> 0 | O14: =COUNT(I14:N14) -> 0 | P14: =SUM(I14:N14) -> 0 | V14: =COUNT(Q14:U14) -> 0 | W14: =SUM(Q14:U14) -> 0 | AD14: =COUNT(X14:AC14) -> 0 | AE14: =SUM(X14:AC14) -> 0 | AK14: =COUNT(AF14:AJ14) -> 0 | AL14: =SUM(AF14:AJ14) -> 0 | AM14: =AK14+AD14+V14+O14+G14 -> 0 | AN14: =AL14+AE14+W14+H14+P14 -> 0 | AO14: =SUM(AM14:AM17) -> 0 | AP14: =SUM(AN14:AN17) -> 0
A15: філія 7 | G15: =COUNT(B15:F15) -> 0 | H15: =SUM(B15:F15) -> 0 | O15: =COUNT(I15:N15) -> 0 | P15: =SUM(I15:N15) -> 0 | V15: =COUNT(Q15:U15) -> 0 | W15: =SUM(Q15:U15) -> 0 | AD15: =COUNT(X15:AC15) -> 0 | AE15: =SUM(X15:AC15) -> 0 | AK15: =COUNT(AF15:AJ15) -> 0 | AL15: =SUM(AF15:AJ15) -> 0 | AM15: =AK15+AD15+V15+O15+G15 -> 0 | AN15: =AL15+AE15+W15+H15+P15 -> 0
A16: Раківчицька філія | G16: =COUNT(B16:F16) -> 0 | H16: =SUM(B16:F16) -> 0 | O16: =COUNT(I16:N16) -> 0 | P16: =SUM(I16:N16) -> 0 | V16: =COUNT(Q16:U16) -> 0 | W16: =SUM(Q16:U16) -> 0 | AD16: =COUNT(X16:AC16) -> 0 | AE16: =SUM(X16:AC16) -> 0 | AK16: =COUNT(AF16:AJ16) -> 0 | AL16: =SUM(AF16:AJ16) -> 0 | AM16: =AK16+AD16+V16+O16+G16 -> 0 | AN16: =AL16+AE16+W16+H16+P16 -> 0
A17: Шепарівцівська філія | G17: =COUNT(B17:F17) -> 0 | H17: =SUM(B17:F17) -> 0 | O17: =COUNT(I17:N17) -> 0 | P17: =SUM(I17:N17) -> 0 | V17: =COUNT(Q17:U17) -> 0 | W17: =SUM(Q17:U17) -> 0 | AD17: =COUNT(X17:AC17) -> 0 | AE17: =SUM(X17:AC17) -> 0 | AK17: =COUNT(AF17:AJ17) -> 0 | AL17: =SUM(AF17:AJ17) -> 0 | AM17: =AK17+AD17+V17+O17+G17 -> 0 | AN17: =AL17+AE17+W17+H17+P17 -> 0
A18: Коломийський ліцей №8 | G18: =COUNT(B18:F18) -> 0 | H18: =SUM(B18:F18) -> 0 | O18: =COUNT(I18:N18) -> 0 | P18: =SUM(I18:N18) -> 0 | V18: =COUNT(Q18:U18) -> 0 | W18: =SUM(Q18:U18) -> 0 | AD18: =COUNT(X18:AC18) -> 0 | AE18: =SUM(X18:AC18) -> 0 | AG18: 1 | AK18: =COUNT(AF18:AJ18) -> 1 | AL18: =SUM(AF18:AJ18) -> 1 | AM18: =AK18+AD18+V18+O18+G18 -> 1 | AN18: =AL18+AE18+W18+H18+P18 -> 1 | AO18: =SUM(AM18:AM20) -> 2 | AP18: =AN18+AN20+AN19 -> 2
A19: Іванівська філія | G19: =COUNT(B19:F19) -> 0 | H19: =SUM(B19:F19) -> 0 | O19: =COUNT(I19:N19) -> 0 | P19: =SUM(I19:N19) -> 0 | V19: =COUNT(Q19:U19) -> 0 | W19: =SUM(Q19:U19) -> 0 | AD19: =COUNT(X19:AC19) -> 0 | AE19: =SUM(X19:AC19) -> 0 | AF19: 1 | AK19: =COUNT(AF19:AJ19) -> 1 | AL19: =SUM(AF19:AJ19) -> 1 | AM19: =AK19+AD19+V19+O19+G19 -> 1 | AN19: =AL19+AE19+W19+H19+P19 -> 1
A20: Товмачицька філія | G20: =COUNT(B20:F20) -> 0 | H20: =SUM(B20:F20) -> 0 | O20: =COUNT(I20:N20) -> 0 | P20: =SUM(I20:N20) -> 0 | V20: =COUNT(Q20:U20) -> 0 | W20: =SUM(Q20:U20) -> 0 | AD20: =COUNT(X20:AC20) -> 0 | AE20: =SUM(X20:AC20) -> 0 | AK20: =COUNT(AF20:AJ20) -> 0 | AL20: =SUM(AF20:AJ20) -> 0 | AM20: =AK20+AD20+V20+O20+G20 -> 0 | AN20: =AL20+AE20+W20+H20+P20 -> 0
A21: вечірні класи | G21: =COUNT(B21:F21) -> 0 | H21: =SUM(B21:F21) -> 0 | O21: =COUNT(I21:N21) -> 0 | P21: =SUM(I21:N21) -> 0 | V21: =COUNT(Q21:U21) -> 0 | W21: =SUM(Q21:U21) -> 0 | AD21: =COUNT(X21:AC21) -> 0 | AE21: =SUM(X21:AC21) -> 0 | AK21: =COUNT(AF21:AJ21) -> 0 | AL21: =SUM(AF21:AJ21) -> 0 | AM21: =AK21+AD21+V21+O21+G21 -> 0 | AN21: =AL21+AE21+W21+H21+P21 -> 0 | AO21: =AM21 -> 0 | AP21: =AN21 -> 0
A22: Коломийський ліцей №9 | G22: =COUNT(B22:F22) -> 0 | H22: =SUM(B22:F22) -> 0 | O22: =COUNT(I22:N22) -> 0 | P22: =SUM(I22:N22) -> 0 | V22: =COUNT(Q22:U22) -> 0 | W22: =SUM(Q22:U22) -> 0 | AD22: =COUNT(X22:AC22) -> 0 | AE22: =SUM(X22:AC22) -> 0 | AK22: =COUNT(AF22:AJ22) -> 0 | AL22: =SUM(AF22:AJ22) -> 0 | AM22: =AK22+AD22+V22+O22+G22 -> 0 | AN22: =AL22+AE22+W22+H22+P22 -> 0 | AO22: =SUM(AM22:AM23) -> 1 | AP22: =SUM(AN22:AN23) -> 1
A23: філія 6 | C23: 1 | G23: 1 | H23: 1 | O23: =COUNT(I23:N23) -> 0 | P23: =SUM(I23:N23) -> 0 | V23: =COUNT(Q23:U23) -> 0 | W23: =SUM(Q23:U23) -> 0 | AD23: =COUNT(X23:AC23) -> 0 | AE23: =SUM(X23:AC23) -> 0 | AK23: =COUNT(AF23:AJ23) -> 0 | AL23: =SUM(AF23:AJ23) -> 0 | AM23: =AK23+AD23+V23+O23+G23 -> 1 | AN23: =AL23+AE23+W23+H23+P23 -> 1
A24: Коломийський ліцей "Коломийська гімназія імені Михайла Грушевського" | G24: =COUNT(B24:F24) -> 0 | H24: =SUM(B24:F24) -> 0 | O24: =COUNT(I24:N24) -> 0 | P24: =SUM(I24:N24) -> 0 | V24: =COUNT(Q24:U24) -> 0 | W24: =SUM(Q24:U24) -> 0 | AD24: =COUNT(X24:AC24) -> 0 | AE24: =SUM(X24:AC24) -> 0 | AK24: =COUNT(AF24:AJ24) -> 0 | AL24: =SUM(AF24:AJ24) -> 0 | AM24: =AK24+AD24+V24+O24+G24 -> 0 | AN24: =AL24+AE24+W24+H24+P24 -> 0 | AO24: =AM24 -> 0 | AP24: =AN24 -> 0
A25: Саджавський ліцей | G25: =COUNT(B25:F25) -> 0 | H25: =SUM(B25:F25) -> 0 | O25: =COUNT(I25:N25) -> 0 | P25: =SUM(I25:N25) -> 0 | V25: =COUNT(Q25:U25) -> 0 | W25: =SUM(Q25:U25) -> 0 | AD25: =COUNT(X25:AC25) -> 0 | AE25: =SUM(X25:AC25) -> 0 | AK25: =COUNT(AF25:AJ25) -> 0 | AL25: =SUM(AF25:AJ25) -> 0 | AM25: =AK25+AD25+V25+O25+G25 -> 0 | AN25: =AL25+AE25+W25+H25+P25 -> 0 | AO25: =AM25 -> 0 | AP25: =AN25 -> 0
A26: Всього: | G26: =SUM(G8:G25) -> 1 | H26: =SUM(H8:H25) -> 1 | O26: =SUM(O8:O25) -> 3 | P26: =SUM(P8:P25) -> 3 | V26: =SUM(V8:V25) -> 3 | W26: =SUM(W8:W25) -> 3 | AD26: =SUM(AD8:AD25) -> 3 | AE26: =SUM(AE8:AE25) -> 4 | AK26: =SUM(AK8:AK25) -> 2 | AL26: =SUM(AL8:AL25) -> 2 | AM26: =SUM(AM8:AM25) -> 12 | AN26: =SUM(AN8:AN25) -> 13 | AO26: =SUM(AO8:AO25) -> 12 | AP26: =SUM(AP8:AP25) -> 13
A27: Всього без вечірних класів | G27: 1 | H27: 1 | O27: =O26-O21 -> 3 | P27: =P26-P21 -> 3 | V27: =V26-V21 -> 3 | W27: =W26-W21 -> 3 | AD27: =AD26-AD21 -> 3 | AE27: =AE26-AE21 -> 4 | AK27: =AK26-AK21 -> 2 | AL27: =AL26-AL21 -> 2 | AM27: =AM26-AM21 -> 12 | AN27: =AN26-AN21 -> 13 | AO27: =AO26-AO21 -> 12 | AP27: =AP26-AP21 -> 13
A30: Керуючий справами виконавчого комітету міської ради | AL30: Микола АНДРУСЯК

Sheet 10-11 класи
V1: продовження додатка 1
V2: до рішення виконавчого комітету
V3: від09.06.2026№87
B7: Планова мережа закладів загальної середньої освіти на 2026/2027 навчальний рік | W7: Наповнюваність
A9: Заклади загальної середньої освіти | B9: 10-А | C9: 10-Б | D9: 10-В | E9: 10-Г | F9: 10-І | G9: к-сть класів | H9: к-сть учнів | I9: 11-А | J9: 11-Б | K9: 11-В | L9: 11-Г | M9: к-сть класів | N9: к-сть учнів | O9: 12 | P9: к-сть класів | Q9: к-сть учнів | R9: к-сть 10-12 класів | S9: к-сть учнів 10-12 класах | T9: к-сть 1-12 класів | U9: к-сть учнів у 1-12кл. | W9: І-ІV | X9: V-IX | Y9: X-XI | Z9: I-XI
A10: Коломийський ліцей №1 імені В.Стефаника | B10: 25 | C10: 25 | F10: 23 | G10: =COUNT(B10:F10) -> 3 | H10: =SUM(B10:F10) -> 73 | I10: 28 | J10: 29 | K10: 30 | L10: 30 | M10: =COUNT(I10:L10) -> 4 | N10: =SUM(I10:L10) -> 117 | P10: =COUNT(O10) -> 0 | Q10: =SUM(O10) -> 0 | R10: =P10+M10+G10 -> 7 | S10: =H10+N10+Q10 -> 190 | T10: ='1-4 класи'!AI8+'5-9 класи'!AS8+R10 -> 62 | U10: ='1-4 класи'!AJ8+'5-9 класи'!AT8+S10 -> 1538 | W10: ='1-4 класи'!AJ8/'1-4 класи'!AI8 -> 21.869565 | X10: ='5-9 класи'!AT8/'5-9 класи'!AS8 -> 26.40625 | Y10: =S10/R10 -> 27.142857 | Z10: =U10/T10 -> 24.806452
A11: Коломийський ліцей №2 | B11: 30 | G11: =COUNT(B11:E11) -> 1 | H11: =SUM(B11:E11) -> 30 | I11: 35 | M11: =COUNT(I11:L11) -> 1 | N11: =SUM(I11:L11) -> 35 | P11: =COUNT(O11) -> 0 | Q11: =SUM(O11) -> 0 | R11: =P11+M11+G11 -> 2 | S11: =H11+N11+Q11 -> 65 | T11: =R11+'5-9 класи'!AS11+'1-4 класи'!AI11 -> 23 | U11: =S11+'5-9 класи'!AT11+'1-4 класи'!AJ11 -> 586 | W11: ='1-4 класи'!AJ11/'1-4 класи'!AI11 -> 22.222222 | X11: ='5-9 класи'!AT11/'5-9 класи'!AS11 -> 26.75 | Y11: =S11/R11 -> 32.5 | Z11: =U11/T11 -> 25.478261
A12: Коломийський ліцей №4 імені Сергія Лисенка | B12: 33 | C12: 35 | D12: 38 | G12: =COUNT(B12:E12) -> 3 | H12: =SUM(B12:E12) -> 106 | I12: 35 | J12: 34 | K12: 30 | M12: =COUNT(I12:L12) -> 3 | N12: =SUM(I12:L12) -> 99 | P12: =COUNT(O12) -> 0 | Q12: =SUM(O12) -> 0 | R12: =P12+M12+G12 -> 6 | S12: =H12+N12+Q12 -> 205 | T12: =R12+'5-9 класи'!AS12+'1-4 класи'!AI12 -> 56 | U12: =S12+'5-9 класи'!AT12+'1-4 класи'!AJ12 -> 1548 | W12: ='1-4 класи'!AJ12/'1-4 класи'!AI12 -> 23.130435 | X12: ='5-9 класи'!AT12/'5-9 класи'!AS12 -> 30.037037 | Y12: =S12/R12 -> 34.166667 | Z12: =U12/T12 -> 27.642857
A13: Коломийський ліцей №5 імені Т.Г.Шевченка | B13: 28 | C13: 28 | G13: =COUNT(B13:E13) -> 2 | H13: =SUM(B13:E13) -> 56 | I13: 45 | M13: =COUNT(I13:L13) -> 1 | N13: =SUM(I13:L13) -> 45 | P13: =COUNT(O13) -> 0 | Q13: =SUM(O13) -> 0 | R13: =P13+M13+G13 -> 3 | S13: =H13+N13+Q13 -> 101 | T13: ='1-4 класи'!AI15+'5-9 класи'!AS14+R13 -> 53 | U13: 1102 | W13: ='1-4 класи'!AJ15/'1-4 класи'!AI15 -> 19.3 | X13: ='5-9 класи'!AT14/'5-9 класи'!AS14 -> 20.5 | Y13: =S13/R13 -> 33.666667 | Z13: =U13/T13 -> 20.792453
A14: Коломийський ліцей №8 | B14: 24 | C14: 24 | D14: 24 | G14: =COUNT(B14:E14) -> 3 | H14: =SUM(B14:E14) -> 72 | I14: 29 | J14: 24 | K14: 31 | M14: =COUNT(I14:L14) -> 3 | N14: =SUM(I14:L14) -> 84 | P14: =COUNT(O14) -> 0 | Q14: =SUM(O14) -> 0 | R14: 6 | S14: =H14+N14+Q14 -> 156 | T14: ='1-4 класи'!AI19+'5-9 класи'!AS18+R14 -> 51 | U14: ='1-4 класи'!AJ19+'5-9 класи'!AT18+S14 -> 1159 | W14: ='1-4 класи'!AJ19/'1-4 класи'!AI19 -> 20.4 | X14: ='5-9 класи'!AT18/'5-9 класи'!AS18 -> 23.8 | Y14: =S14/R14 -> 26 | Z14: =U14/T14 -> 22.72549
A15: вечірні класи | B15: 25 | G15: =COUNT(B15:E15) -> 1 | H15: =SUM(B15:E15) -> 25 | I15: 17 | M15: =COUNT(I15:L15) -> 1 | N15: =SUM(I15:L15) -> 17 | O15: 14 | P15: 1 | Q15: 14 | R15: 3 | S15: 56 | T15: =R15+'5-9 класи'!AQ21+'1-4 класи'!AG22 -> 4 | U15: =S15+'5-9 класи'!AR21+'1-4 класи'!AH22 -> 70 | X15: 16 | Y15: =S15/R15 -> 18.666667 | Z15: =U15/T15 -> 17.5
A16: Коломийський ліцей №9 | B16: 22 | C16: 22 | D16: 20 | E16: 18 | G16: 4 | H16: 82 | I16: 30 | J16: 27 | K16: 23 | L16: 20 | M16: 4 | N16: 100 | R16: =P16+M16+G16 -> 8 | S16: =H16+N16+Q16 -> 182 | T16: ='1-4 класи'!AI23+'5-9 класи'!AS22+R16 -> 69 | U16: ='1-4 класи'!AJ23+'5-9 класи'!AT22+S16 -> 1733 | W16: ='1-4 класи'!AJ23/'1-4 класи'!AI23 -> 25.346154 | X16: ='5-9 класи'!AT22/'5-9 класи'!AS22 -> 25.485714 | Y16: =S16/R16 -> 22.75 | Z16: =U16/T16 -> 25.115942
A17: Коломийський ліцей "Коломийська гімназія імені Михайла Грушевського" | B17: 35 | C17: 37 | G17: =COUNT(B17:E17) -> 2 | H17: =SUM(B17:E17) -> 72 | I17: 23 | J17: 18 | M17: =COUNT(I17:L17) -> 2 | N17: =SUM(I17:L17) -> 41 | P17: =COUNT(O17) -> 0 | R17: =P17+M17+G17 -> 4 | S17: =Q17+N17+H17 -> 113 | T17: 12 | U17: 345 | W17: 0 | X17: ='5-9 класи'!AT24/'5-9 класи'!AS24 -> 29 | Y17: =S17/R17 -> 28.25 | Z17: =U17/T17 -> 28.75
A18: Саджавський ліцей | B18: 25 | C18: 24 | G18: =COUNT(B18:E18) -> 2 | H18: =SUM(B18:E18) -> 49 | I18: 27 | J18: 27 | M18: =COUNT(I18:L18) -> 2 | N18: =SUM(I18:L18) -> 54 | R18: =Q17+M18+G18 -> 4 | S18: =H18+N18+Q18 -> 103 | T18: =R18+'5-9 класи'!AS25+'1-4 класи'!AI26 -> 17 | U18: =S18+'5-9 класи'!AT25+'1-4 класи'!AJ26 -> 410 | W18: ='1-4 класи'!AJ26/'1-4 класи'!AI26 -> 21.833333 | X18: 25.4 | Y18: =S18/R18 -> 25.75 | Z18: =U18/T18 -> 24.117647
A19: Всього: | G19: =SUM(G10:G18) -> 21 | H19: =SUM(H10:H18) -> 565 | M19: =SUM(M10:M18) -> 21 | N19: =SUM(N10:N18) -> 592 | P19: =SUM(P10:P18) -> 1 | Q19: =SUM(Q10:Q18) -> 14 | R19: =SUM(R10:R18) -> 43 | S19: =SUM(S10:S18) -> 1171 | T19: =SUM(T10:T18) -> 347 | U19: =SUM(U10:U18) -> 8491 | W19: ='1-4 класи'!AJ27/'1-4 класи'!AI27 -> 22.19685 | X19: ='5-9 класи'!AT25/'5-9 класи'!AS25 -> 25.142857 | Y19: =S19/R19 -> 27.232558 | Z19: =U19/T19 -> 24.469741
A20: всього без вечірних класів | R20: =R19-R15 -> 40 | S20: =S19-S15 -> 1115 | T20: =T19-T15 -> 343 | U20: =U19-U15 -> 8421 | W20: 22.9 | X20: ='5-9 класи'!AT27/'5-9 класи'!AS27 -> 25.494318 | Y20: =S20/R20 -> 27.875 | Z20: =U20/T20 -> 24.55102
A25: Керуючий справами виконавчого комітету міської ради | W25: Микола АНДРУСЯК

Sheet 10-11 класи (інклюзія)
P1: продовження додатка 1
P2: до рішення виконавчого комітету
P3: від09.06.2026_№87
B5: Планова мережа закладів загальної середньої освіти на 2026/2027 навчальний рік (інклюзія)
A6: Заклади загальної середньої освіти | B6: 10-А | C6: 10-Б | D6: 10-В | E6: 10-Г | F6: к-сть класів | G6: к-сть учнів | H6: 11-А | I6: 11-Б | J6: 11-В | K6: 11-Г | L6: к-сть класів | M6: к-сть учнів | N6: 12 | O6: к-сть класів | P6: к-сть учнів | Q6: к-сть 10-12 класів | R6: к-сть учнів 10-12 класах | S6: к-сть 1-12 класів | T6: к-сть учнів у 1-12кл.
A7: Коломийський ліцей №1 імені В.Стефаника | F7: =COUNT(B7:E7) -> 0 | G7: =SUM(B7:E7) -> 0 | L7: =COUNT(H7:K7) -> 0 | M7: =SUM(H7:K7) -> 0 | O7: =COUNT(N7) -> 0 | P7: =SUM(N7) -> 0 | Q7: =O7+L7+F7 -> 0 | R7: =G7+M7+P7 -> 0 | S7: =' 1-4 класи (інклюзія)'!AG8+'5-9 класи (інклюзія)'!AO8+Q7 -> 18 | T7: =' 1-4 класи (інклюзія)'!AH8+'5-9 класи (інклюзія)'!AP8+R7 -> 22
A8: Коломийський ліцей №2 | F8: =COUNT(B8:E8) -> 0 | G8: =SUM(B8:E8) -> 0 | L8: =COUNT(H8:K8) -> 0 | M8: =SUM(H8:K8) -> 0 | O8: =COUNT(N8) -> 0 | P8: =SUM(N8) -> 0 | Q8: =O8+L8+F8 -> 0 | R8: =G8+M8+P8 -> 0 | S8: =' 1-4 класи (інклюзія)'!AG11+'5-9 класи (інклюзія)'!AO11+Q8 -> 11 | T8: =' 1-4 класи (інклюзія)'!AH11+'5-9 класи (інклюзія)'!AP11+R8 -> 16
A9: Коломийський ліцей №4 імені Сергія Лисенка | B9: 1 | C9: 1 | F9: =COUNT(B9:E9) -> 2 | G9: =SUM(B9:E9) -> 2 | J9: 1 | L9: =COUNT(H9:K9) -> 1 | M9: =SUM(H9:K9) -> 1 | O9: =COUNT(N9) -> 0 | P9: =SUM(N9) -> 0 | Q9: =O9+L9+F9 -> 3 | R9: =G9+M9+P9 -> 3 | S9: =' 1-4 класи (інклюзія)'!AG12+'5-9 класи (інклюзія)'!AO12+Q9 -> 27 | T9: 37
