Workbook

Sheet Лист1
A1: ОСНОВНІ ЗАСОБИ. ОБОРОТНА ВІДОМІСТЬ
D2: за період | E2: Червень 2018-Червень 2018
D3: Житлові будинки
A5: № | B5: інв. | D5: адреса | F5: рік вводу | G5: первісна вартість | H5: залишкова вартість | I5: амортизація | J5: індексація | M5: донараховано | N5: донараховано | O5: вибуло | P5: вибуло | Q5: первісна вартість | R5: залишкова вартість | S5: амортизація
A6: п/п | B6: номер | C6: код | D6: вулиця | E6: буд. | F6: в експл. | G6: на початок | H6: на початок | J6: первісна | K6: залишкова | L6: амортизація | M6: первісної | N6: залишкової | O6: первісної | P6: залишкової | Q6: на кінець | R6: на кінець
A7: 1 | B7: 100002 | C7: 1 | D7: Лесi Українки бульвар | E7: 12 | F7: 1971 | G7: 1882677.7 | H7: 809868.76 | I7: 1288.15 | J7: - | K7: - | L7: - | M7: - | N7: - | O7: - | P7: - | Q7: 1882677.7 | R7: 808580.61 | S7: 1288.15
A8: 3 | B8: 100005 | C8: 3 | D8: Романа Шухевича вулиця | E8: 3 | F8: 1960 | G8: 344116.87 | H8: 123550.95 | I8: 249.56 | J8: - | K8: - | L8: - | M8: - | N8: - | O8: - | P8: - | Q8: 344116.87 | R8: 123301.39 | S8: 249.56
A9: 4 | B9: 100006 | C9: 4 | D9: Валова вулиця | E9: 45 | F9: 1975 | G9: 166683.28 | H9: 62137.06 | I9: 97.16 | J9: - | K9: - | L9: - | M9: - | N9: - | O9: - | P9: - | Q9: 166683.28 | R9: 62039.9 | S9: 97.16
A10: 9 | B10: 100011 | C10: 9 | D10: Пекарська вулиця | E10: 8 | F10: 1982 | G10: 1993280 | H10: 861225.36 | I10: 1131.11 | J10: - | K10: - | L10: - | M10: - | N10: - | O10: - | P10: - | Q10: 1993280 | R10: 860094.25 | S10: 1131.11
A11: 10 | B11: 100012 | C11: 10 | D11: Михайла Грушевського проспект | E11: 46 | F11: 1986 | G11: 132650.72 | H11: 53370.26 | I11: 70.54 | J11: - | K11: - | L11: - | M11: - | N11: - | O11: - | P11: - | Q11: 132650.72 | R11: 53299.72 | S11: 70.54
A12: 22 | B12: 100028 | C12: 23 | D12: Театральна вулиця | E12: 21 | F12: 1940 | G12: 158530.26 | H12: 29686.87 | I12: 114.78 | J12: - | K12: - | L12: - | M12: - | N12: - | O12: - | P12: - | Q12: 158530.26 | R12: 29572.09 | S12: 114.78
A13: 26 | B13: 100033 | C13: 27 | D13: Театральна вулиця | E13: 32 | F13: 1939 | G13: 186813.95 | H13: 38128.02 | I13: 154.64 | J13: - | K13: - | L13: - | M13: - | N13: - | O13: - | P13: - | Q13: 186813.95 | R13: 37973.38 | S13: 154.64
A14: 28 | B14: 100036 | C14: 29 | D14: Театральна вулиця | E14: 44 | F14: 1939 | G14: 244965.75 | H14: 43373.74 | I14: 174.92 | J14: - | K14: - | L14: - | M14: - | N14: - | O14: - | P14: - | Q14: 244965.75 | R14: 43198.82 | S14: 174.92
A15: 36 | B15: 100049 | C15: 37 | D15: Тараса Шевченка вулиця | E15: 21 | F15: 1948 | G15: 735613.92 | H15: 166780.77 | I15: 543.48 | J15: - | K15: - | L15: - | M15: - | N15: - | O15: - | P15: - | Q15: 735613.92 | R15: 166237.29 | S15: 543.48
A16: 38 | B16: 100054 | C16: 39 | D16: Тараса Шевченка вулиця | E16: 32 | F16: 1939 | G16: 57170.18 | H16: 8817.16 | I16: 38.38 | J16: - | K16: - | L16: - | M16: - | N16: - | O16: - | P16: - | Q16: 57170.18 | R16: 8778.78 | S16: 38.38
A17: 39 | B17: 100060 | C17: 40 | D17: Вiдродження площа | E17: 2 | F17: 1939 | G17: 708183.91 | H17: 115587.66 | I17: 462.43 | J17: - | K17: - | L17: - | M17: - | N17: - | O17: - | P17: - | Q17: 708183.91 | R17: 115125.23 | S17: 462.43
A18: 46 | B18: 100067 | C18: 47 | D18: Вiдродження площа | E18: 10 | F18: 1939 | G18: 61016.47 | H18: 10174.39 | I18: 42.43 | J18: - | K18: - | L18: - | M18: - | N18: - | O18: - | P18: - | Q18: 61016.47 | R18: 10131.96 | S18: 42.43
... A44: 184 | B44: 100303 | C44: 185 | D44: Валова вулиця | E44: 59 | F44: 1986 | G44: 101027.96 | H44: 39749.66 | I44: 56.15 | J44: - | K44: - | L44: - | M44: - | N44: - | O44: - | P44: - | Q44: 101027.96 | R44: 39693.51 | S44: 56.15
A45: 188 | B45: 100318 | C45: 189 | D45: Гетьманська вулиця | E45: 11а | F45: 1948 | G45: 44448.38 | H45: 10110.75 | I45: 28.19 | J45: - | K45: - | L45: - | M45: - | N45: - | O45: - | P45: - | Q45: 44448.38 | R45: 10082.56 | S45: 28.19
A46: 189 | B46: 100324 | C46: 190 | D46: Гетьманська вулиця | E46: 32 | F46: 1939 | G46: 78579.98 | H46: 21912.75 | I46: 92.65 | J46: - | K46: - | L46: - | M46: - | N46: - | O46: - | P46: - | Q46: 78579.98 | R46: 21820.1 | S46: 92.65
A47: 200 | B47: 100362 | C47: 201 | D47: Михайла Лермонтова вулиця | E47: 19 | F47: 1939 | G47: 43534.27 | H47: 6747.7 | I47: 29.23 | J47: - | K47: - | L47: - | M47: - | N47: - | O47: - | P47: - | Q47: 43534.27 | R47: 6718.47 | S47: 29.23
A48: 207 | B48: 100383 | C48: 208 | D48: Старогончарна вулиця | E48: 40 | F48: 1939 | G48: 180013.83 | H48: 11854.39 | I48: 76.69 | J48: - | K48: - | L48: - | M48: - | N48: - | O48: - | P48: - | Q48: 180013.83 | R48: 11777.7 | S48: 76.69
A49: 212 | B49: 100410 | C49: 214 | D49: Михайла Павлика вулиця | E49: 16 | F49: 1939 | G49: 103869.53 | H49: 10960.22 | I49: 72.54 | J49: - | K49: - | L49: - | M49: - | N49: - | O49: - | P49: - | Q49: 103869.53 | R49: 10887.68 | S49: 72.54
A50: 213 | B50: 100421 | C50: 215 | D50: Кринична вулиця | E50: 54 | F50: 1939 | G50: 109154.89 | H50: 8312.01 | I50: 54.51 | J50: - | K50: - | L50: - | M50: - | N50: - | O50: - | P50: - | Q50: 109154.89 | R50: 8257.5 | S50: 54.51
A51: 215 | B51: 100432 | C51: 217 | D51: Олекси Довбуша вулиця | E51: 29 | F51: 1939 | G51: 15519 | H51: 4274.79 | I51: 28.17 | J51: - | K51: - | L51: - | M51: - | N51: - | O51: - | P51: - | Q51: 15519 | R51: 4246.62 | S51: 28.17
A52: 217 | B52: 100459 | C52: 219 | D52: Кирила Блонського вулиця | E52: 16 | F52: 1939 | G52: 72437.02 | H52: 3919.68 | I52: 25.4 | J52: - | K52: - | L52: - | M52: - | N52: - | O52: - | P52: - | Q52: 72437.02 | R52: 3894.28 | S52: 25.4
A53: 227 | B53: 100926 | C53: 243 | D53: Лесi Українки бульвар | E53: 7 | F53: 1901 | G53: 3752.55 | H53: - | I53: - | J53: - | K53: - | L53: - | M53: - | N53: - | O53: - | P53: - | Q53: 3752.55 | R53: - | S53: -
A54: 228 | B54: 101922 | C54: 247 | D54: Адама Мiцкевича вулиця | E54: 4а | F54: 1939 | G54: 241183.04 | H54: 153215.16 | I54: 992.36 | J54: - | K54: - | L54: - | M54: - | N54: - | O54: - | P54: - | Q54: 241183.04 | R54: 152222.8 | S54: 992.36
A55: 229 | B55: 101924 | C55: 249 | D55: Сотнi Кривоноса вулиця | E55: 55 | F55: 1988 | G55: 302340.65 | H55: 225595.27 | I55: 261.04 | J55: - | K55: - | L55: - | M55: - | N55: - | O55: - | P55: - | Q55: 302340.65 | R55: 225334.23 | S55: 261.04
A56: 231 | B56: 200005 | C56: 253 | D56: Дмитра Яворницького вулиця | E56: 26 | F56: 1983 | G56: 153700.56 | H56: 59288.32 | I56: 83.33 | J56: - | K56: - | L56: - | M56: - | N56: - | O56: - | P56: - | Q56: 153700.56 | R56: 59204.99 | S56: 83.33
A57: 232 | B57: 200006 | C57: 254 | D57: Дмитра Яворницького вулиця | E57: 22 | F57: 1984 | G57: 175382.51 | H57: 68925.2 | I57: 93.33 | J57: - | K57: - | L57: - | M57: - | N57: - | O57: - | P57: - | Q57: 175382.51 | R57: 68831.87 | S57: 93.33
A58: 233 | B58: 200012 | C58: 255 | D58: Василя Стефаника вулиця | E58: 2а | F58: 1975 | G58: 1794671.8 | H58: 698233.29 | I58: 1030.77 | J58: - | K58: - | L58: - | M58: - | N58: - | O58: - | P58: - | Q58: 1794671.8 | R58: 697202.52 | S58: 1030.77
A59: 234 | B59: 200013 | C59: 256 | D59: Iвана Богуна вулиця | E59: 26 | F59: 1977 | G59: 1619796.9 | H59: 639517.31 | I59: 911.6 | J59: - | K59: - | L59: - | M59: - | N59: - | O59: - | P59: - | Q59: 1619796.9 | R59: 638605.71 | S59: 911.6
A60: 235 | B60: 200014 | C60: 257 | D60: Iвана Богуна вулиця | E60: 30 | F60: 1977 | G60: 859138.53 | H60: 336596.02 | I60: 481.89 | J60: - | K60: - | L60: - | M60: - | N60: - | O60: - | P60: - | Q60: 859138.53 | R60: 336114.13 | S60: 481.89
A61: 236 | B61: 200015 | C61: 258 | D61: Iвана Богуна вулиця | E61: 32 | F61: 1977 | G61: 993252.95 | H61: 390939.35 | I61: 557.56 | J61: - | K61: - | L61: - | M61: - | N61: - | O61: - | P61: - | Q61: 993252.95 | R61: 390381.79 | S61: 557.56
A62: 237 | B62: 200016 | C62: 259 | D62: Iвана Богуна вулиця | E62: 10 | F62: 1982 | G62: 392451.15 | H62: 157195.4 | I62: 211.37 | J62: - | K62: - | L62: - | M62: - | N62: - | O62: - | P62: - | Q62: 392451.15 | R62: 156984.03 | S62: 211.37
A63: 238 | B63: 200017 | C63: 260 | D63: Iвана Богуна вулиця | E63: 18 | F63: 1978 | G63: 567005.91 | H63: 228912.4 | I63: 325.18 | J63: - | K63: - | L63: - | M63: - | N63: - | O63: - | P63: - | Q63: 567005.91 | R63: 228587.22 | S63: 325.18
A64: 239 | B64: 200018 | C64: 261 | D64: Iвана Богуна вулиця | E64: 40 | F64: 1981 | G64: 777104.31 | H64: 128788.45 | I64: 172.07 | J64: - | K64: - | L64: - | M64: - | N64: - | O64: - | P64: - | Q64: 777104.31 | R64: 128616.38 | S64: 172.07
A65: 240 | B65: 200020 | C65: 262 | D65: Iвана Богуна вулиця | E65: 36 | F65: 1980 | G65: 2020540.5 | H65: 837470.39 | I65: 1141.33 | J65: - | K65: - | L65: - | M65: - | N65: - | O65: - | P65: - | Q65: 2020540.5 | R65: 836329.06 | S65: 1141.33
A66: 241 | B66: 200021 | C66: 263 | D66: Iвана Богуна вулиця | E66: 34 | F66: 1980 | G66: 792087.16 | H66: 318059.4 | I66: 430.73 | J66: - | K66: - | L66: - | M66: - | N66: - | O66: - | P66: - | Q66: 792087.16 | R66: 317628.67 | S66: 430.73
A67: 242 | B67: 200022 | C67: 264 | D67: Гетьмана Івана Мазепи вулиця | E67: 183 | F67: 1985 | G67: 327488.56 | H67: 139012.8 | I67: 185.16 | J67: - | K67: - | L67: - | M67: - | N67: - | O67: - | P67: - | Q67: 327488.56 | R67: 138827.64 | S67: 185.16
A68: 245 | B68: 200026 | C68: 267 | D68: Степана Бандери вулиця | E68: 38 | F68: 1961 | G68: 30697.75 | H68: 7411.6 | I68: 18.98 | J68: - | K68: - | L68: - | M68: - | N68: - | O68: - | P68: - | Q68: 30697.75 | R68: 7392.62 | S68: 18.98
A69: 246 | B69: 200027 | C69: 268 | D69: Степана Бандери вулиця | E69: 40 | F69: 1962 | G69: 63408.82 | H69: 17677.64 | I69: 37.64 | J69: - | K69: - | L69: - | M69: - | N69: - | O69: - | P69: - | Q69: 63408.82 | R69: 17640 | S69: 37.64
A70: 247 | B70: 200028 | C70: 269 | D70: Степана Бандери вулиця | E70: 42 | F70: 1980 | G70: 205933.04 | H70: 79779.66 | I70: 111.79 | J70: - | K70: - | L70: - | M70: - | N70: - | O70: - | P70: - | Q70: 205933.04 | R70: 79667.87 | S70: 111.79
... A81: 268 | B81: 200051 | C81: 290 | D81: Гетьмана Івана Мазепи вулиця | E81: 268 | F81: 1987 | G81: 145841.09 | H81: 59872.37 | I81: 79.15 | J81: - | K81: - | L81: - | M81: - | N81: - | O81: - | P81: - | Q81: 145841.09 | R81: 59793.22 | S81: 79.15
A82: 270 | B82: 200053 | C82: 292 | D82: Гетьмана Івана Мазепи вулиця | E82: 298а | F82: 1993 | G82: 296259.02 | H82: 123002.34 | I82: 156.54 | J82: - | K82: - | L82: - | M82: - | N82: - | O82: - | P82: - | Q82: 296259.02 | R82: 122845.8 | S82: 156.54
A83: 271 | B83: 200054 | C83: 293 | D83: Сидора Воробкевича вулиця | E83: 2а | F83: 1966 | G83: 49591.93 | H83: 10163.31 | I83: 69.25 | J83: - | K83: - | L83: - | M83: - | N83: - | O83: - | P83: - | Q83: 49591.93 | R83: 10094.06 | S83: 69.25
A84: 272 | B84: 200062 | C84: 294 | D84: Адама Мiцкевича вулиця | E84: 9 | F84: 1939 | G84: 74983.85 | H84: 16826.29 | I84: 67.95 | J84: - | K84: - | L84: - | M84: - | N84: - | O84: - | P84: - | Q84: 74983.85 | R84: 16758.34 | S84: 67.95
A85: 274 | B85: 200065 | C85: 296 | D85: Адама Мiцкевича вулиця | E85: 23 | F85: 1939 | G85: 345906.98 | H85: 48075.49 | I85: 192 | J85: - | K85: - | L85: - | M85: - | N85: - | O85: - | P85: - | Q85: 345906.98 | R85: 47883.49 | S85: 192
A86: 279 | B86: 200091 | C86: 301 | D86: Дмитра Яворницького вулиця | E86: 15 | F86: 1989 | G86: 400479.53 | H86: 169623.74 | I86: 206.85 | J86: - | K86: - | L86: - | M86: - | N86: - | O86: - | P86: - | Q86: 400479.53 | R86: 169416.89 | S86: 206.85
A87: 280 | B87: 200098 | C87: 302 | D87: Професора Б.Левицького вулиця | E87: 19 | F87: 1900 | G87: 118531.94 | H87: 14461.49 | I87: 93.93 | J87: - | K87: - | L87: - | M87: - | N87: - | O87: - | P87: - | Q87: 118531.94 | R87: 14367.56 | S87: 93.93
A88: 283 | B88: 200119 | C88: 305 | D88: Професора Пулюя вулиця | E88: 10 | F88: 1900 | G88: 80008.67 | H88: 13194.08 | I88: 85.46 | J88: - | K88: - | L88: - | M88: - | N88: - | O88: - | P88: - | Q88: 80008.67 | R88: 13108.62 | S88: 85.46
A89: 288 | B89: 200125 | C89: 310 | D89: Степана Бандери вулиця | E89: 51а | F89: 1981 | G89: 118502.19 | H89: 35687.22 | I89: 49.77 | J89: - | K89: - | L89: - | M89: - | N89: - | O89: - | P89: - | Q89: 118502.19 | R89: 35637.45 | S89: 49.77
A90: 292 | B90: 200155 | C90: 315 | D90: Гетьмана Івана Мазепи вулиця | E90: 215 | F90: 1948 | G90: 153271.02 | H90: - | I90: - | J90: - | K90: - | L90: - | M90: - | N90: - | O90: - | P90: - | Q90: 153271.02 | R90: - | S90: -
A91: 293 | B91: 200162 | C91: 316 | D91: Київська вулиця | E91: 1 | F91: 1948 | G91: 86987.16 | H91: - | I91: - | J91: - | K91: - | L91: - | M91: - | N91: - | O91: - | P91: - | Q91: 86987.16 | R91: - | S91: -
A92: 294 | B92: 200165 | C92: 317 | D92: Панаса Мирного вулиця | E92: 4 | F92: 1939 | G92: 72538.59 | H92: - | I92: - | J92: - | K92: - | L92: - | M92: - | N92: - | O92: - | P92: - | Q92: 72538.59 | R92: - | S92: -
A93: 302 | B93: 200217 | C93: 325 | D93: Станiслава Людкевича вулиця | E93: 6 | F93: 1948 | G93: 139038.99 | H93: - | I93: - | J93: - | K93: - | L93: - | M93: - | N93: - | O93: - | P93: - | Q93: 139038.99 | R93: - | S93: -
A94: 303 | B94: 200218 | C94: 326 | D94: Станiслава Людкевича вулиця | E94: 8а | F94: 1948 | G94: 66641.45 | H94: - | I94: - | J94: - | K94: - | L94: - | M94: - | N94: - | O94: - | P94: - | Q94: 66641.45 | R94: - | S94: -
A95: 307 | B95: 200245 | C95: 330 | D95: Старомiська вулиця | E95: 69 | F95: 1969 | G95: 383588.97 | H95: 38025.98 | I95: 246.31 | J95: - | K95: - | L95: - | M95: - | N95: - | O95: - | P95: - | Q95: 383588.97 | R95: 37779.67 | S95: 246.31
A96: 308 | B96: 200256 | C96: 331 | D96: Соборна вулиця | E96: 35 | F96: 1948 | G96: 27982.45 | H96: - | I96: - | J96: - | K96: - | L96: - | M96: - | N96: - | O96: - | P96: - | Q96: 27982.45 | R96: - | S96: -
A97: 309 | B97: 200267 | C97: 335 | D97: Степана Бандери вулиця | E97: 15 | F97: 1961 | G97: 29992.61 | H97: 12386.2 | I97: 24.24 | J97: - | K97: - | L97: - | M97: - | N97: - | O97: - | P97: - | Q97: 29992.61 | R97: 12361.96 | S97: 24.24
A98: 319 | B98: 201900 | C98: 346 | D98: Iвана Крип'якевича вулиця | E98: 34 | F98: 1993 | G98: 3570.96 | H98: 1013.14 | I98: 1.17 | J98: - | K98: - | L98: - | M98: - | N98: - | O98: - | P98: - | Q98: 3570.96 | R98: 1011.97 | S98: 1.17
A99: 320 | B99: 201902 | C99: 347 | D99: Iвана Крип'якевича вулиця | E99: 36а | F99: 1994 | G99: 53221.1 | H99: 21966.1 | I99: 25.05 | J99: - | K99: - | L99: - | M99: - | N99: - | O99: - | P99: - | Q99: 53221.1 | R99: 21941.05 | S99: 25.05
A100: 321 | B100: 201903 | C100: 348 | D100: Гетьмана Івана Мазепи вулиця | E100: 248 | F100: 1980 | G100: 120179.75 | H100: 45743.71 | I100: 64.81 | J100: - | K100: - | L100: - | M100: - | N100: - | O100: - | P100: - | Q100: 120179.75 | R100: 45678.9 | S100: 64.81
A101: 323 | B101: 201908 | C101: 350 | D101: Марiї Заньковецької вулиця | E101: 12 | F101: 1992 | G101: 476960.53 | H101: 168333.48 | I101: 198.46 | J101: - | K101: - | L101: - | M101: - | N101: - | O101: - | P101: - | Q101: 476960.53 | R101: 168135.02 | S101: 198.46
A102: 327 | B102: 201918 | C102: 358 | D102: Гетьмана Івана Мазепи вулиця | E102: 262 | F102: 1989 | G102: 297924.1 | H102: 229843.37 | I102: 270.28 | J102: - | K102: - | L102: - | M102: - | N102: - | O102: - | P102: - | Q102: 297924.1 | R102: 229573.09 | S102: 270.28
A103: 328 | B103: 300001 | C103: 359 | D103: Сiчових Стрiльцiв вулиця | E103: 34 | F103: 1969 | G103: 38725.15 | H103: 10984.68 | I103: 22.13 | J103: - | K103: - | L103: - | M103: - | N103: - | O103: - | P103: - | Q103: 38725.15 | R103: 10962.55 | S103: 22.13
A104: 329 | B104: 300002 | C104: 360 | D104: Сiчових Стрiльцiв вулиця | E104: 27 | F104: 1978 | G104: 350731.32 | H104: 137576.73 | I104: 195.24 | J104: - | K104: - | L104: - | M104: - | N104: - | O104: - | P104: - | Q104: 350731.32 | R104: 137381.49 | S104: 195.24
A105: 330 | B105: 300003 | C105: 361 | D105: Сiчових Стрiльцiв вулиця | E105: 44 | F105: 1966 | G105: 367301.61 | H105: 114882.36 | I105: 204.56 | J105: - | K105: - | L105: - | M105: - | N105: - | O105: - | P105: - | Q105: 367301.61 | R105: 114677.8 | S105: 204.56
A106: 331 | B106: 300004 | C106: 362 | D106: Сiчових Стрiльцiв вулиця | E106: 33 | F106: 1972 | G106: 261588.21 | H106: 92188.35 | I106: 152.33 | J106: - | K106: - | L106: - | M106: - | N106: - | O106: - | P106: - | Q106: 261588.21 | R106: 92036.02 | S106: 152.33
A107: 336 | B107: 300009 | C107: 367 | D107: Миколи Лисенка вулиця | E107: 2 | F107: 1979 | G107: 1244471.7 | H107: 507655.51 | I107: 698.59 | J107: - | K107: - | L107: - | M107: - | N107: - | O107: - | P107: - | Q107: 1244471.7 | R107: 506956.92 | S107: 698.59
A108: 338 | B108: 300011 | C108: 369 | D108: Миколи Лисенка вулиця | E108: 20 | F108: 1964 | G108: 276801.02 | H108: 81513.81 | I108: 154.34 | J108: - | K108: - | L108: - | M108: - | N108: - | O108: - | P108: - | Q108: 276801.02 | R108: 81359.47 | S108: 154.34
A109: 339 | B109: 300012 | C109: 370 | D109: Миколи Лисенка вулиця | E109: 22 | F109: 1963 | G109: 124089.84 | H109: 35939.16 | I109: 72.77 | J109: - | K109: - | L109: - | M109: - | N109: - | O109: - | P109: - | Q109: 124089.84 | R109: 35866.39 | S109: 72.77
A110: 340 | B110: 300013 | C110: 371 | D110: Миколи Лисенка вулиця | E110: 26 | F110: 1961 | G110: 78301.52 | H110: 22258.15 | I110: 145.86 | J110: - | K110: - | L110: - | M110: - | N110: - | O110: - | P110: - | Q110: 78301.52 | R110: 22112.29 | S110: 145.86
A111: 341 | B111: 300014 | C111: 372 | D111: Миколи Лисенка вулиця | E111: 30 | F111: 1967 | G111: 62517.59 | H111: 17790.8 | I111: 35.6 | J111: - | K111: - | L111: - | M111: - | N111: - | O111: - | P111: - | Q111: 62517.59 | R111: 17755.2 | S111: 35.6
A112: 342 | B112: 300015 | C112: 373 | D112: Миколи Лисенка вулиця | E112: 32 | F112: 1967 | G112: 118181.84 | H112: 35728.61 | I112: 67.22 | J112: - | K112: - | L112: - | M112: - | N112: - | O112: - | P112: - | Q112: 118181.84 | R112: 35661.39 | S112: 67.22
A113: 343 | B113: 300016 | C113: 374 | D113: Миколи Лисенка вулиця | E113: 34 | F113: 1968 | G113: 74434.77 | H113: 22126.36 | I113: 42.6 | J113: - | K113: - | L113: - | M113: - | N113: - | O113: - | P113: - | Q113: 74434.77 | R113: 22083.76 | S113: 42.6
A114: 345 | B114: 300018 | C114: 376 | D114: Миколи Лисенка вулиця | E114: 38 | F114: 1969 | G114: 64065.3 | H114: 19184.06 | I114: 36.53 | J114: - | K114: - | L114: - | M114: - | N114: - | O114: - | P114: - | Q114: 64065.3 | R114: 19147.53 | S114: 36.53
... A134: 386 | B134: 300090 | C134: 417 | D134: Андрiя Чайковського вулиця | E134: 38 | F134: 1982 | G134: 180429.96 | H134: 6268.08 | I134: 100.98 | J134: - | K134: - | L134: - | M134: - | N134: - | O134: - | P134: - | Q134: 180429.96 | R134: 6167.1 | S134: 100.98
A135: 391 | B135: 300104 | C135: 423 | D135: Андрiя Чайковського вулиця | E135: 34а | F135: 1893 | G135: 293122.99 | H135: 23136.99 | I135: 150.07 | J135: - | K135: - | L135: - | M135: - | N135: - | O135: - | P135: - | Q135: 293122.99 | R135: 22986.92 | S135: 150.07
A136: 398 | B136: 300113 | C136: 430 | D136: Андрiя Сахарова вулиця | E136: 5 | F136: 1961 | G136: 244086.56 | H136: 67681.52 | I136: 132.71 | J136: - | K136: - | L136: - | M136: - | N136: - | O136: - | P136: - | Q136: 244086.56 | R136: 67548.81 | S136: 132.71
A137: 401 | B137: 300116 | C137: 433 | D137: Андрiя Сахарова вулиця | E137: 7 | F137: 1962 | G137: 60578.03 | H137: 17388.33 | I137: 33.96 | J137: - | K137: - | L137: - | M137: - | N137: - | O137: - | P137: - | Q137: 60578.03 | R137: 17354.37 | S137: 33.96
A138: 404 | B138: 300119 | C138: 436 | D138: Андрiя Чайковського вулиця | E138: 40 | F138: 1964 | G138: 176157.74 | H138: 51165.17 | I138: 97.87 | J138: - | K138: - | L138: - | M138: - | N138: - | O138: - | P138: - | Q138: 176157.74 | R138: 51067.3 | S138: 97.87
A139: 406 | B139: 300121 | C139: 438 | D139: Полковника Семена Палiя вулиця | E139: 20 | F139: 1963 | G139: 32658.13 | H139: 8040.83 | I139: 18.22 | J139: - | K139: - | L139: - | M139: - | N139: - | O139: - | P139: - | Q139: 32658.13 | R139: 8022.61 | S139: 18.22
A140: 408 | B140: 300123 | C140: 440 | D140: Андрiя Чайковського вулиця | E140: 52 | F140: 1937 | G140: 66202.91 | H140: 9564.95 | I140: 45.71 | J140: - | K140: - | L140: - | M140: - | N140: - | O140: - | P140: - | Q140: 66202.91 | R140: 9519.24 | S140: 45.71
A141: 409 | B141: 300124 | C141: 441 | D141: Андрiя Чайковського вулиця | E141: 48 | F141: 1970 | G141: 119003.34 | H141: 37112.55 | I141: 64.84 | J141: - | K141: - | L141: - | M141: - | N141: - | O141: - | P141: - | Q141: 119003.34 | R141: 37047.71 | S141: 64.84
A142: 413 | B142: 300128 | C142: 445 | D142: Юрiя Шкрумеляка вулиця | E142: 3 | F142: 1961 | G142: 272141.49 | H142: 7955.8 | I142: 51.7 | J142: - | K142: - | L142: - | M142: - | N142: - | O142: - | P142: - | Q142: 272141.49 | R142: 7904.1 | S142: 51.7
A143: 418 | B143: 300158 | C143: 450 | D143: Гетьмана Петра Дорошенка вулиця | E143: 3 | F143: 1916 | G143: 26064.78 | H143: - | I143: - | J143: - | K143: - | L143: - | M143: - | N143: - | O143: - | P143: - | Q143: 26064.78 | R143: - | S143: -
A144: 419 | B144: 300159 | C144: 451 | D144: Гетьмана Петра Дорошенка вулиця | E144: 15 | F144: 1922 | G144: 96338.98 | H144: 8545.42 | I144: 55.34 | J144: - | K144: - | L144: - | M144: - | N144: - | O144: - | P144: - | Q144: 96338.98 | R144: 8490.08 | S144: 55.34
A145: 421 | B145: 300200 | C145: 454 | D145: Сiчових Стрiльцiв вулиця | E145: 9 | F145: 1939 | G145: 197912.27 | H145: 58837.35 | I145: 234.98 | J145: - | K145: - | L145: - | M145: - | N145: - | O145: - | P145: - | Q145: 197912.27 | R145: 58602.37 | S145: 234.98
A146: 422 | B146: 300487 | C146: 455 | D146: Миколи Лисенка вулиця | E146: 14 | F146: 1967 | G146: 279739.11 | H146: 107251.09 | I146: 190.15 | J146: - | K146: - | L146: - | M146: - | N146: - | O146: - | P146: - | Q146: 279739.11 | R146: 107060.94 | S146: 190.15
A147: 423 | B147: 300490 | C147: 456 | D147: Богдана Лепкого вулиця | E147: 55 | F147: 1964 | G147: 39523.59 | H147: 11048.83 | I147: 21.03 | J147: - | K147: - | L147: - | M147: - | N147: - | O147: - | P147: - | Q147: 39523.59 | R147: 11027.8 | S147: 21.03
A148: 425 | B148: 300502 | C148: 458 | D148: Сiчових Стрiльцiв вулиця | E148: 35 | F148: 1961 | G148: 57390.62 | H148: 16980.18 | I148: 22.39 | J148: - | K148: - | L148: - | M148: - | N148: - | O148: - | P148: - | Q148: 57390.62 | R148: 16957.79 | S148: 22.39
A149: 427 | B149: 300507 | C149: 460 | D149: Полковника Семена Палiя вулиця | E149: 26а | F149: 1900 | G149: 817942.77 | H149: 137135.4 | I149: 939.38 | J149: - | K149: - | L149: - | M149: - | N149: - | O149: - | P149: - | Q149: 817942.77 | R149: 136196.02 | S149: 939.38
A150: 428 | B150: 400001 | C150: 462 | D150: Богдана Хмельницького вулиця | E150: 1а | F150: 1970 | G150: 114262.18 | H150: 36590.75 | I150: 69.16 | J150: - | K150: - | L150: - | M150: - | N150: - | O150: - | P150: - | Q150: 114262.18 | R150: 36521.59 | S150: 69.16
A151: 429 | B151: 400002 | C151: 463 | D151: Богдана Хмельницького вулиця | E151: 1 | F151: 1971 | G151: 60015.95 | H151: 15957.71 | I151: 35.72 | J151: - | K151: - | L151: - | M151: - | N151: - | O151: - | P151: - | Q151: 60015.95 | R151: 15921.99 | S151: 35.72
A152: 431 | B152: 400004 | C152: 465 | D152: Миколи Леонтовича вулиця | E152: 18 | F152: 1990 | G152: 430560.7 | H152: 184745.72 | I152: 225.53 | J152: - | K152: - | L152: - | M152: - | N152: - | O152: - | P152: - | Q152: 430560.7 | R152: 184520.19 | S152: 225.53
A153: 432 | B153: 400005 | C153: 466 | D153: Миколи Леонтовича вулиця | E153: 10 | F153: 1989 | G153: 2471984.8 | H153: 1096367.4 | I153: 1297.46 | J153: - | K153: - | L153: - | M153: - | N153: - | O153: - | P153: - | Q153: 2471984.8 | R153: 1095070 | S153: 1297.46
A154: 433 | B154: 400006 | C154: 467 | D154: Миколи Леонтовича вулиця | E154: 4 | F154: 1989 | G154: 249365.55 | H154: 103096.25 | I154: 130.88 | J154: - | K154: - | L154: - | M154: - | N154: - | O154: - | P154: - | Q154: 249365.55 | R154: 102965.37 | S154: 130.88
A155: 434 | B155: 400007 | C155: 468 | D155: Моцарта вулиця | E155: 85 | F155: 1989 | G155: 100821.57 | H155: 35929.97 | I155: 52.92 | J155: - | K155: - | L155: - | M155: - | N155: - | O155: - | P155: - | Q155: 100821.57 | R155: 35877.05 | S155: 52.92
...

Sheet Лист2
A1: ОСНОВНІ ЗАСОБИ. ОБОРОТНА ВІДОМІСТЬ
D2: за період | E2: Червень 2018-Червень 2018
D3: Капітальний ремонт (К)
A5: № | B5: інв. | D5: адреса | F5: рік вводу | G5: первісна вартість | H5: залишкова вартість | I5: амортизація | J5: індексація | M5: донараховано | N5: донараховано | O5: вибуло | P5: вибуло | Q5: первісна вартість | R5: залишкова вартість | S5: амортизація
A6: п/п | B6: номер | C6: код | D6: вулиця | E6: буд. | F6: в експл. | G6: на початок | H6: на початок | J6: первісна | K6: залишкова | L6: амортизація | M6: первісної | N6: залишкової | O6: первісної | P6: залишкової | Q6: на кінець | R6: на кінець
A7: 1 | B7: 100071 | C7: 712 | D7: Вiдродження площа | E7: 19 | F7: 1939 | G7: 66.42 | H7: 52.79 | I7: 0.2 | J7: - | K7: - | L7: - | M7: - | N7: - | O7: - | P7: - | Q7: 66.42 | R7: 52.59 | S7: 0.2
A8: 2 | B8: 700001 | C8: 557 | D8: Iвана Крип'якевича вулиця | E8: 36 | F8: 1990 | G8: 1240.69 | H8: 1025.32 | I8: 1.31 | J8: - | K8: - | L8: - | M8: - | N8: - | O8: - | P8: - | Q8: 1240.69 | R8: 1024.01 | S8: 1.31
A9: 3 | B9: 700002 | C9: 558 | D9: Миколи Леонтовича вулиця | E9: 10 | F9: 1989 | G9: 24175.02 | H9: 21954.39 | I9: 25.83 | J9: - | K9: - | L9: - | M9: - | N9: - | O9: - | P9: - | Q9: 24175.02 | R9: 21928.56 | S9: 25.83
A10: 5 | B10: 700004 | C10: 560 | D10: Миколи Леонтовича вулиця | E10: 26 | F10: 1990 | G10: 3450.7 | H10: 2973.22 | I10: 3.6 | J10: - | K10: - | L10: - | M10: - | N10: - | O10: - | P10: - | Q10: 3450.7 | R10: 2969.62 | S10: 3.6
A11: 6 | B11: 700005 | C11: 561 | D11: Сiчових Стрiльцiв вулиця | E11: 39 | F11: 1989 | G11: 1634.98 | H11: 1387.9 | I11: 1.89 | J11: - | K11: - | L11: - | M11: - | N11: - | O11: - | P11: - | Q11: 1634.98 | R11: 1386.01 | S11: 1.89
A12: 7 | B12: 700006 | C12: 562 | D12: Миколи Леонтовича вулиця | E12: 4 | F12: 1989 | G12: 1252.58 | H12: 1086.58 | I12: 1.15 | J12: - | K12: - | L12: - | M12: - | N12: - | O12: - | P12: - | Q12: 1252.58 | R12: 1085.43 | S12: 1.15
A13: 8 | B13: 700007 | C13: 563 | D13: Миколи Леонтовича вулиця | E13: 18 | F13: 1990 | G13: 2937.61 | H13: 2588.25 | I13: 3.1 | J13: - | K13: - | L13: - | M13: - | N13: - | O13: - | P13: - | Q13: 2937.61 | R13: 2585.15 | S13: 3.1
A14: 9 | B14: 700008 | C14: 564 | D14: Iвана Богуна вулиця | E14: 10 | F14: 1982 | G14: 4074.95 | H14: 3595.7 | I14: 4.73 | J14: - | K14: - | L14: - | M14: - | N14: - | O14: - | P14: - | Q14: 4074.95 | R14: 3590.97 | S14: 4.73
A15: 11 | B15: 700013 | C15: 566 | D15: Миколи Леонтовича вулиця | E15: 22 | F15: 1988 | G15: 630.43 | H15: 553.09 | I15: 1.32 | J15: - | K15: - | L15: - | M15: - | N15: - | O15: - | P15: - | Q15: 630.43 | R15: 551.77 | S15: 1.32
A16: 12 | B16: 700014 | C16: 567 | D16: Миколи Леонтовича вулиця | E16: 24 | F16: 1988 | G16: 1791.69 | H16: 1583.99 | I16: 1.92 | J16: - | K16: - | L16: - | M16: - | N16: - | O16: - | P16: - | Q16: 1791.69 | R16: 1582.07 | S16: 1.92
A17: 13 | B17: 700015 | C17: 568 | D17: Миколи Леонтовича вулиця | E17: 20 | F17: 1987 | G17: 115.1 | H17: 94.77 | I17: 0.12 | J17: - | K17: - | L17: - | M17: - | N17: - | O17: - | P17: - | Q17: 115.1 | R17: 94.65 | S17: 0.12
A18: 14 | B18: 700016 | C18: 569 | D18: Миколи Леонтовича вулиця | E18: 8 | F18: 1989 | G18: 233.45 | H18: 187.44 | I18: 0.25 | J18: - | K18: - | L18: - | M18: - | N18: - | O18: - | P18: - | Q18: 233.45 | R18: 187.19 | S18: 0.25
... A52: 65 | B52: 700099 | C52: 629 | D52: Андрiя Чайковського вулиця | E52: 44 | F52: 2012 | G52: 4250.29 | H52: 3742.11 | I52: 5.26 | J52: - | K52: - | L52: - | M52: - | N52: - | O52: - | P52: - | Q52: 4250.29 | R52: 3736.85 | S52: 5.26
A53: 68 | B53: 700103 | C53: 632 | D53: Полковника Семена Палiя вулиця | E53: 26а | F53: 2012 | G53: 576.95 | H53: 394.47 | I53: 2.21 | J53: - | K53: - | L53: - | M53: - | N53: - | O53: - | P53: - | Q53: 576.95 | R53: 392.26 | S53: 2.21
A54: 70 | B54: 700115 | C54: 634 | D54: Полковника Семена Палiя вулиця | E54: 20 | F54: 2012 | G54: 492.6 | H54: 383.55 | I54: 0.79 | J54: - | K54: - | L54: - | M54: - | N54: - | O54: - | P54: - | Q54: 492.6 | R54: 382.76 | S54: 0.79
A55: 71 | B55: 700116 | C55: 635 | D55: Полковника Семена Палiя вулиця | E55: 30 | F55: 2012 | G55: 989.65 | H55: 887.89 | I55: 0.99 | J55: - | K55: - | L55: - | M55: - | N55: - | O55: - | P55: - | Q55: 989.65 | R55: 886.9 | S55: 0.99
A56: 73 | B56: 700118 | C56: 637 | D56: Миколи Костомарова вулиця | E56: 1 | F56: 2012 | G56: 757.2 | H56: 606.17 | I56: 0.74 | J56: - | K56: - | L56: - | M56: - | N56: - | O56: - | P56: - | Q56: 757.2 | R56: 605.43 | S56: 0.74
A57: 74 | B57: 700119 | C57: 638 | D57: Гетьмана Івана Мазепи вулиця | E57: 268 | F57: 2012 | G57: 949.49 | H57: 806.5 | I57: 1.04 | J57: - | K57: - | L57: - | M57: - | N57: - | O57: - | P57: - | Q57: 949.49 | R57: 805.46 | S57: 1.04
A58: 75 | B58: 700120 | C58: 639 | D58: Симона Петлюри вулиця | E58: 38 | F58: 2012 | G58: 3816.43 | H58: 3422.95 | I58: 4.29 | J58: - | K58: - | L58: - | M58: - | N58: - | O58: - | P58: - | Q58: 3816.43 | R58: 3418.66 | S58: 4.29
A59: 76 | B59: 700121 | C59: 640 | D59: Сiчових Стрiльцiв вулиця | E59: 27 | F59: 2012 | G59: 1688.01 | H59: 1563.31 | I59: 2.1 | J59: - | K59: - | L59: - | M59: - | N59: - | O59: - | P59: - | Q59: 1688.01 | R59: 1561.21 | S59: 2.1
A60: 77 | B60: 700122 | C60: 641 | D60: Сiчових Стрiльцiв вулиця | E60: 29 | F60: 2012 | G60: 3349.48 | H60: 3057.6 | I60: 4.04 | J60: - | K60: - | L60: - | M60: - | N60: - | O60: - | P60: - | Q60: 3349.48 | R60: 3053.56 | S60: 4.04
A61: 78 | B61: 700123 | C61: 642 | D61: Валова вулиця | E61: 59 | F61: 2012 | G61: 598.16 | H61: 485.49 | I61: 0.66 | J61: - | K61: - | L61: - | M61: - | N61: - | O61: - | P61: - | Q61: 598.16 | R61: 484.83 | S61: 0.66
A62: 79 | B62: 700124 | C62: 643 | D62: Iвана Богуна вулиця | E62: 32 | F62: 2012 | G62: 3313.31 | H62: 3117.29 | I62: 4.18 | J62: - | K62: - | L62: - | M62: - | N62: - | O62: - | P62: - | Q62: 3313.31 | R62: 3113.11 | S62: 4.18
A63: 80 | B63: 700125 | C63: 644 | D63: Iвана Богуна вулиця | E63: 30 | F63: 2012 | G63: 2953.35 | H63: 2727.99 | I63: 3.73 | J63: - | K63: - | L63: - | M63: - | N63: - | O63: - | P63: - | Q63: 2953.35 | R63: 2724.26 | S63: 3.73
A64: 81 | B64: 700126 | C64: 645 | D64: Iвана Богуна вулиця | E64: 18 | F64: 2012 | G64: 4198.56 | H64: 3919.41 | I64: 5.22 | J64: - | K64: - | L64: - | M64: - | N64: - | O64: - | P64: - | Q64: 4198.56 | R64: 3914.19 | S64: 5.22
A65: 82 | B65: 700127 | C65: 646 | D65: Сiчових Стрiльцiв вулиця | E65: 33 | F65: 2012 | G65: 1085.85 | H65: 937.39 | I65: 1.48 | J65: - | K65: - | L65: - | M65: - | N65: - | O65: - | P65: - | Q65: 1085.85 | R65: 935.91 | S65: 1.48
A66: 83 | B66: 700129 | C66: 647 | D66: Сiчових Стрiльцiв вулиця | E66: 44 | F66: 2012 | G66: 3134.26 | H66: 2797.89 | I66: 4.74 | J66: - | K66: - | L66: - | M66: - | N66: - | O66: - | P66: - | Q66: 3134.26 | R66: 2793.15 | S66: 4.74
A67: 86 | B67: 700134 | C67: 650 | D67: Гетьмана Івана Мазепи вулиця | E67: 298а | F67: 2012 | G67: 457.63 | H67: 379.01 | I67: 0.47 | J67: - | K67: - | L67: - | M67: - | N67: - | O67: - | P67: - | Q67: 457.63 | R67: 378.54 | S67: 0.47
A68: 88 | B68: 700137 | C68: 652 | D68: Гетьмана Івана Мазепи вулиця | E68: 250 | F68: 2012 | G68: 2481.85 | H68: 2223.33 | I68: 2.83 | J68: - | K68: - | L68: - | M68: - | N68: - | O68: - | P68: - | Q68: 2481.85 | R68: 2220.5 | S68: 2.83
A69: 91 | B69: 700141 | C69: 655 | D69: Дмитра Яворницького вулиця | E69: 15 | F69: 2012 | G69: 2834.09 | H69: 1100.18 | I69: 7.25 | J69: - | K69: - | L69: - | M69: - | N69: - | O69: - | P69: - | Q69: 2834.09 | R69: 1092.93 | S69: 7.25
A70: 93 | B70: 700159 | C70: 657 | D70: Гетьмана Івана Мазепи вулиця | E70: 292 | F70: 2012 | G70: 353.67 | H70: 313.85 | I70: 0.37 | J70: - | K70: - | L70: - | M70: - | N70: - | O70: - | P70: - | Q70: 353.67 | R70: 313.48 | S70: 0.37
A71: 94 | B71: 700160 | C71: 658 | D71: Миколи Лисенка вулиця | E71: 2 | F71: 2012 | G71: 579.69 | H71: 527.4 | I71: 0.71 | J71: - | K71: - | L71: - | M71: - | N71: - | O71: - | P71: - | Q71: 579.69 | R71: 526.69 | S71: 0.71
A72: 96 | B72: 700162 | C72: 660 | D72: Iвана Богуна вулиця | E72: 36 | F72: 2012 | G72: 96.06 | H72: 86.98 | I72: 0.12 | J72: - | K72: - | L72: - | M72: - | N72: - | O72: - | P72: - | Q72: 96.06 | R72: 86.86 | S72: 0.12
A73: 97 | B73: 700163 | C73: 661 | D73: Iвана Богуна вулиця | E73: 26 | F73: 2012 | G73: 1163 | H73: 1120.48 | I73: 1.47 | J73: - | K73: - | L73: - | M73: - | N73: - | O73: - | P73: - | Q73: 1163 | R73: 1119.01 | S73: 1.47
A74: 99 | B74: 700165 | C74: 663 | D74: Iвана Богуна вулиця | E74: 42 | F74: 2012 | G74: 13181.57 | H74: 12427.09 | I74: 14.64 | J74: - | K74: - | L74: - | M74: - | N74: - | O74: - | P74: - | Q74: 13181.57 | R74: 12412.45 | S74: 14.64
A75: 100 | B75: 700166 | C75: 664 | D75: Iвана Богуна вулиця | E75: 40 | F75: 2012 | G75: 983.03 | H75: 947.84 | I75: 1.17 | J75: - | K75: - | L75: - | M75: - | N75: - | O75: - | P75: - | Q75: 983.03 | R75: 946.67 | S75: 1.17
A76: 101 | B76: 700167 | C76: 665 | D76: Дмитра Яворницького вулиця | E76: 20 | F76: 2012 | G76: 338.62 | H76: 305.82 | I76: 0.37 | J76: - | K76: - | L76: - | M76: - | N76: - | O76: - | P76: - | Q76: 338.62 | R76: 305.45 | S76: 0.37
A77: 102 | B77: 700168 | C77: 666 | D77: Василя Стефаника вулиця | E77: 2а | F77: 2012 | G77: 154.03 | H77: 139.01 | I77: 0.2 | J77: - | K77: - | L77: - | M77: - | N77: - | O77: - | P77: - | Q77: 154.03 | R77: 138.81 | S77: 0.2
A78: 104 | B78: 700182 | C78: 668 | D78: Степана Бандери вулиця | E78: 3 | F78: 2012 | G78: 610.94 | H78: 537.24 | I78: 0.78 | J78: - | K78: - | L78: - | M78: - | N78: - | O78: - | P78: - | Q78: 610.94 | R78: 536.46 | S78: 0.78
A79: 106 | B79: 700185 | C79: 670 | D79: Кринична вулиця | E79: 80 | F79: 2012 | G79: 2455.02 | H79: 1810.4 | I79: 7.31 | J79: - | K79: - | L79: - | M79: - | N79: - | O79: - | P79: - | Q79: 2455.02 | R79: 1803.09 | S79: 7.31
A80: 107 | B80: 700187 | C80: 671 | D80: Миколи Лисенка вулиця | E80: 14 | F80: 1967 | G80: 266.11 | H80: 234.97 | I80: 0.4 | J80: - | K80: - | L80: - | M80: - | N80: - | O80: - | P80: - | Q80: 266.11 | R80: 234.57 | S80: 0.4
A81: 109 | B81: 700202 | C81: 675 | D81: Миколи Костомарова вулиця | E81: 2 | F81: 2012 | G81: 1157.35 | H81: 703.73 | I81: 4.8 | J81: - | K81: - | L81: - | M81: - | N81: - | O81: - | P81: - | Q81: 1157.35 | R81: 698.93 | S81: 4.8
A82: 115 | B82: 700212 | C82: 682 | D82: Театральна вулиця | E82: 44 | F82: 2013 | G82: 7611.41 | H82: 6115.23 | I82: 22.66 | J82: - | K82: - | L82: - | M82: - | N82: - | O82: - | P82: - | Q82: 7611.41 | R82: 6092.57 | S82: 22.66
A83: 117 | B83: 700219 | C83: 685 | D83: Юрiя Шкрумеляка вулиця | E83: 3 | F83: 2013 | G83: 15969.51 | H83: 11771.74 | I83: 66.54 | J83: - | K83: - | L83: - | M83: - | N83: - | O83: - | P83: - | Q83: 15969.51 | R83: 11705.2 | S83: 66.54
A84: 119 | B84: 700223 | C84: 688 | D84: Антона Чехова вулиця | E84: 9 | F84: 2013 | G84: 45047.47 | H84: 33778.91 | I84: 183.35 | J84: - | K84: - | L84: - | M84: - | N84: - | O84: - | P84: - | Q84: 45047.47 | R84: 33595.56 | S84: 183.35
A85: 120 | B85: 700225 | C85: 690 | D85: Гетьмана Івана Мазепи вулиця | E85: 1 | F85: 2013 | G85: 3701.92 | H85: 2928.31 | I85: 11.02 | J85: - | K85: - | L85: - | M85: - | N85: - | O85: - | P85: - | Q85: 3701.92 | R85: 2917.29 | S85: 11.02
A86: 121 | B86: 700228 | C86: 691 | D86: Театральна вулиця | E86: 15 | F86: 2013 | G86: 40693.44 | H86: 33473.9 | I86: 121.12 | J86: - | K86: - | L86: - | M86: - | N86: - | O86: - | P86: - | Q86: 40693.44 | R86: 33352.78 | S86: 121.12
A87: 125 | B87: 700232 | C87: 695 | D87: Степана Бандери вулиця | E87: 51а | F87: 2013 | G87: 567.87 | H87: 512.34 | I87: 0.68 | J87: - | K87: - | L87: - | M87: - | N87: - | O87: - | P87: - | Q87: 567.87 | R87: 511.66 | S87: 0.68
A88: 133 | B88: 700249 | C88: 703 | D88: Сидора Воробкевича вулиця | E88: 2а | F88: 2013 | G88: 570.52 | H88: 415.41 | I88: 2.38 | J88: - | K88: - | L88: - | M88: - | N88: - | O88: - | P88: - | Q88: 570.52 | R88: 413.03 | S88: 2.38
A89: 137 | B89: 700254 | C89: 708 | D89: Пекарська вулиця | E89: 8 | F89: 2013 | G89: 3531.3 | H89: 3284.34 | I89: 4.14 | J89: - | K89: - | L89: - | M89: - | N89: - | O89: - | P89: - | Q89: 3531.3 | R89: 3280.2 | S89: 4.14
A90: 139 | B90: 700256 | C90: 710 | D90: Гетьмана Івана Мазепи вулиця | E90: 23 | F90: 1939 | G90: 11386.79 | H90: 9770.65 | I90: 33.89 | J90: - | K90: - | L90: - | M90: - | N90: - | O90: - | P90: - | Q90: 11386.79 | R90: 9736.76 | S90: 33.89
A91: 141 | B91: 700258 | C91: 713 | D91: Полковника Семена Палiя вулиця | E91: 26 | F91: 2014 | G91: 1489.46 | H91: 1365.3 | I91: 1.59 | J91: - | K91: - | L91: - | M91: - | N91: - | O91: - | P91: - | Q91: 1489.46 | R91: 1363.71 | S91: 1.59
A92: 144 | B92: 700261 | C92: 716 | D92: Миколи Леонтовича вулиця | E92: 2 | F92: 2014 | G92: 840.03 | H92: 796.65 | I92: 0.91 | J92: - | K92: - | L92: - | M92: - | N92: - | O92: - | P92: - | Q92: 840.03 | R92: 795.74 | S92: 0.91
A93: 147 | B93: 700270 | C93: 725 | D93: Гетьманська вулиця | E93: 11а | F93: 2015 | G93: 122982.45 | H93: 113940.72 | I93: 268.33 | J93: - | K93: - | L93: - | M93: - | N93: - | O93: - | P93: - | Q93: 122982.45 | R93: 113672.39 | S93: 268.33
A94: 149 | B94: 700272 | C94: 727 | D94: Iвана Франка вулиця | E94: 68 | F94: 2015 | G94: 17713.48 | H94: 14518.33 | I94: 72.39 | J94: - | K94: - | L94: - | M94: - | N94: - | O94: - | P94: - | Q94: 17713.48 | R94: 14445.94 | S94: 72.39
A95: 151 | B95: 700277 | C95: 735 | D95: Моцарта вулиця | E95: 85 | F95: 2015 | G95: 185.2 | H95: 145.27 | I95: 0.2 | J95: - | K95: - | L95: - | M95: - | N95: - | O95: - | P95: - | Q95: 185.2 | R95: 145.07 | S95: 0.2
F96: РАЗОМ: | G96: 443345.02 | H96: 380152.61 | I96: 1022.83 | J96: - | K96: - | L96: - | M96: - | N96: - | O96: - | P96: - | Q96: 443345.02 | R96: 379129.78 | S96: 1022.83
Q98: =SUM(Q96-Q86) -> 402651.58 | R98: =SUM(R96-R86) -> 345777 | S98: =SUM(S96-S86) -> 901.71 | T98: =SUM(T96-T86) -> 0
Q99: =SUM(Q86+Q56) -> 41450.64 | R99: =SUM(R86+R56) -> 33958.21 | S99: =SUM(S86+S56) -> 121.86
Q100: =SUM(Q96-Q86-житло!#REF!) -> #REF! | R100: =SUM(Q100/2) -> #REF!
Q101: =SUM(Q96-Q99) -> 401894.38
Q103: =SUM(Q96-Q86) -> 402651.58 | R103: =SUM(R96-R86) -> 345777 | S103: =SUM(S96-S86) -> 901.71
Q105: =SUM(Q7:Q95) -> 443345.02 | R105: =SUM(R7:R95) -> 379129.78 | S105: =SUM(S7:S95) -> 1022.83 | T105: =SUM(T7:T95) -> 0
Q106: =SUM(Q105-Q86) -> 402651.58

Sheet житло
T1: Додаток №1 | X1: Додаток №1
T2: до рішення виконавчого | X2: до рішення виконавчого
T3: комітету міської ради | X3: комітету міської ради
N4: кап.ремонт | T4: від 07.09.2018р. № 182 | X4: від _______2018р. №___
A6: Перелік протирадіаційних укриттів, підвалів, нежитлових приміщень,
A7: житлових квартир комунальної власності (неприватизованих)
A10: № | B10: інв. | D10: Адреса | F10: площа | G10: рік вводу | H10: первісна вартість | I10: залишкова вартість | J10: аморт. | K10: індексація | N10: донараховано | O10: донараховано | Q10: вибуло | R10: первісна | S10: залишкова вартість | T10: залишкова | U10: аморт. | V10: знос | W10: знос | X10: залишкова вартість | Y10: аморт. | Z10: знос
A11: п/п | B11: номер | C11: код | D11: вулиця | E11: буд. | F11: м2 | G11: в експл. | H11: на початок | I11: на початок | K11: первісна | L11: залишкова | M11: амортизація | N11: первісної | O11: залишкової | P11: аморт. | Q11: залишкової | R11: вартість | T11: вартість
A12: 1 | B12: 100002 | C12: 1 | D12: Лесi Українки бульвар | E12: 12 | F12: =F13 -> 1158.3 | G12: 1971 | H12: =SUM(Лист1!G7) -> 1882677.7 | I12: =SUM(Лист1!H7) -> 809868.76 | J12: =SUM(Лист1!I7) -> 1288.15 | K12: =SUM(Лист1!J7) -> 0 | L12: =SUM(Лист1!K7) -> 0 | M12: =SUM(Лист1!L7) -> 0 | N12: 2382.88 | O12: 2189.3 | P12: 3.31 | Q12: =SUM(Лист1!P7) -> 0 | R12: =SUM(H12+N12) -> 1885060.6 | S12: =SUM(I12+O12-J12) -> 810769.91 | T12: =S12-3*U12 -> 806895.53 | U12: =J12+P12 -> 1291.46 | V12: =R12-T12 -> 1078165 | W12: =SUM(R12-S12) -> 1074290.7 | X12: =SUM(S12-U12) -> 809478.45 | Y12: =SUM(U12) -> 1291.46 | Z12: =SUM(U12+W12) -> 1075582.1 | AA12: =SUM(U12-Y12) -> 0 | AB12: =SUM(S12-X12-U12) -> -3.7289283e-11 | AC12: =SUM(R12-X12-Z12) -> 0
D13: протирадіаційне укриття | F13: 1158.3 | X13: =SUM(S13-U13) -> 0 | Y13: =SUM(U13) -> 0 | Z13: =SUM(U13+W13) -> 0 | AA13: =SUM(U13-Y13) -> 0 | AB13: =SUM(S13-X13-U13) -> 0 | AC13: =SUM(R13-X13-Z13) -> 0
X14: =SUM(S14-U14) -> 0 | Y14: =SUM(U14) -> 0 | Z14: =SUM(U14+W14) -> 0 | AA14: =SUM(U14-Y14) -> 0 | AB14: =SUM(S14-X14-U14) -> 0 | AC14: =SUM(R14-X14-Z14) -> 0
A15: =SUM(A12+1) -> 2 | B15: 100005 | C15: 3 | D15: Романа Шухевича вулиця | E15: 3 | F15: =F16 -> 245.54 | G15: 1960 | H15: =SUM(Лист1!G8) -> 344116.87 | I15: =SUM(Лист1!H8) -> 123550.95 | J15: =SUM(Лист1!I8) -> 249.56 | K15: =SUM(Лист1!J8) -> 0 | L15: =SUM(Лист1!K8) -> 0 | M15: =SUM(Лист1!L8) -> 0 | N15: =SUM(Лист1!M8) -> 0 | O15: =SUM(Лист1!N8) -> 0 | ... Q15: =SUM(Лист1!P8) -> 0 | R15: =SUM(H15+N15) -> 344116.87 | S15: =SUM(I15+O15-J15) -> 123301.39 | T15: =S15-3*U15 -> 122552.71 | U15: =J15+P15 -> 249.56 | V15: =R15-T15 -> 221564.16 | W15: =SUM(R15-S15) -> 220815.48 | X15: =SUM(S15-U15) -> 123051.83 | Y15: =SUM(U15) -> 249.56 | Z15: =SUM(U15+W15) -> 221065.04 | AA15: =SUM(U15-Y15) -> 0 | AB15: =SUM(S15-X15-U15) -> -2.3305802e-12 | AC15: =SUM(R15-X15-Z15) -> 0
D16: протирадіаційне укриття | F16: 245.54 | X16: =SUM(S16-U16) -> 0 | Y16: =SUM(U16) -> 0 | Z16: =SUM(U16+W16) -> 0 | AA16: =SUM(U16-Y16) -> 0 | AB16: =SUM(S16-X16-U16) -> 0 | AC16: =SUM(R16-X16-Z16) -> 0
X17: =SUM(S17-U17) -> 0 | Y17: =SUM(U17) -> 0 | Z17: =SUM(U17+W17) -> 0 | AA17: =SUM(U17-Y17) -> 0 | AB17: =SUM(S17-X17-U17) -> 0 | AC17: =SUM(R17-X17-Z17) -> 0
A18: =SUM(A15+1) -> 3 | B18: 100006 | C18: 4 | D18: Валова вулиця | E18: 45 | F18: 92 | G18: 1975 | H18: =SUM(Лист1!G9) -> 166683.28 | I18: =SUM(Лист1!H9) -> 62137.06 | J18: =SUM(Лист1!I9) -> 97.16 | K18: =SUM(Лист1!J9) -> 0 | L18: =SUM(Лист1!K9) -> 0 | M18: =SUM(Лист1!L9) -> 0 | N18: 898.41 | O18: 774.99 | P18: 1.16 | Q18: =SUM(Лист1!P9) -> 0 | R18: =SUM(H18+N18) -> 167581.69 | S18: =SUM(I18+O18-J18) -> 62814.89 | T18: =S18-3*U18 -> 62519.93 | U18: =J18+P18 -> 98.32 | V18: =R18-T18 -> 105061.76 | W18: =SUM(R18-S18) -> 104766.8 | X18: =SUM(S18-U18) -> 62716.57 | Y18: =SUM(U18) -> 98.32 | Z18: =SUM(U18+W18) -> 104865.12 | AA18: =SUM(U18-Y18) -> 0 | AB18: =SUM(S18-X18-U18) -> -2.8421709e-13 | AC18: =SUM(R18-X18-Z18) -> -1.4551915e-11
D19: неприватизовані квартири | X19: =SUM(S19-U19) -> 0 | Y19: =SUM(U19) -> 0 | Z19: =SUM(U19+W19) -> 0 | AA19: =SUM(U19-Y19) -> 0 | AB19: =SUM(S19-X19-U19) -> 0 | AC19: =SUM(R19-X19-Z19) -> 0
D20: №7 | F20: 37.3 | R20: =R18/F18*F20 -> 67943.446 | S20: =S18/F18*F20 -> 25467.341 | T20: =T$18/F$18*F20 -> 25347.754 | V20: =R20-T20 -> 42595.692 | W20: =W18/F18*F20 -> 42476.105 | X20: =SUM(S20-U20) -> 25467.341 | Y20: =SUM(U20) -> 0 | Z20: =SUM(U20+W20) -> 42476.105 | AA20: =SUM(U20-Y20) -> 0 | AB20: =SUM(S20-X20-U20) -> 0 | AC20: =SUM(R20-X20-Z20) -> -7.2759576e-12
D21: №14 | F21: 54.7 | R21: =R18/F18*F21 -> 99638.244 | S21: =S18/F18*F21 -> 37347.549 | T21: =T$18/F$18*F21 -> 37172.176 | V21: =R21-T21 -> 62466.068 | W21: =W18/F18*F21 -> 62290.695 | X21: =SUM(S21-U21) -> 37347.549 | Y21: =SUM(U21) -> 0 | Z21: =SUM(U21+W21) -> 62290.695 | AA21: =SUM(U21-Y21) -> 0 | AB21: =SUM(S21-X21-U21) -> 0 | AC21: =SUM(R21-X21-Z21) -> -7.2759576e-12
X22: =SUM(S22-U22) -> 0 | Y22: =SUM(U22) -> 0 | Z22: =SUM(U22+W22) -> 0 | AA22: =SUM(U22-Y22) -> 0 | AB22: =SUM(S22-X22-U22) -> 0 | AC22: =SUM(R22-X22-Z22) -> 0
A23: =SUM(A18+1) -> 4 | B23: 100011 | C23: 9 | D23: Пекарська вулиця | E23: 8 | F23: =F24 -> 884.4 | G23: 1982 | H23: =SUM(Лист1!G10) -> 1993280 | I23: =SUM(Лист1!H10) -> 861225.36 | J23: =SUM(Лист1!I10) -> 1131.11 | K23: =SUM(Лист1!J10) -> 0 | L23: =SUM(Лист1!K10) -> 0 | M23: =SUM(Лист1!L10) -> 0 | N23: 3531.3 | O23: 3280.2 | P23: 4.14 | Q23: =SUM(Лист1!P10) -> 0 | R23: =SUM(H23+N23) -> 1996811.3 | S23: =SUM(I23+O23-J23) -> 863374.45 | T23: =S23-3*U23 -> 859968.7 | U23: =J23+P23 -> 1135.25 | V23: =R23-T23 -> 1136842.6 | W23: =SUM(R23-S23) -> 1133436.8 | X23: =SUM(S23-U23) -> 862239.2 | Y23: =SUM(U23) -> 1135.25 | Z23: =SUM(U23+W23) -> 1134572.1 | AA23: =SUM(U23-Y23) -> 0 | AB23: =SUM(S23-X23-U23) -> 0 | AC23: =SUM(R23-X23-Z23) -> 0
D24: протирадіаційне укриття | F24: 884.4 | X24: =SUM(S24-U24) -> 0 | Y24: =SUM(U24) -> 0 | Z24: =SUM(U24+W24) -> 0 | AA24: =SUM(U24-Y24) -> 0 | AB24: =SUM(S24-X24-U24) -> 0 | AC24: =SUM(R24-X24-Z24) -> 0
X25: =SUM(S25-U25) -> 0 | Y25: =SUM(U25) -> 0 | Z25: =SUM(U25+W25) -> 0 | AA25: =SUM(U25-Y25) -> 0 | AB25: =SUM(S25-X25-U25) -> 0 | AC25: =SUM(R25-X25-Z25) -> 0
A26: =SUM(A23+1) -> 5 | B26: 100012 | C26: 10 | D26: Михайла Грушевського проспект | E26: 46 | F26: =F27 -> 57.1 | G26: 1986 | H26: =SUM(Лист1!G11) -> 132650.72 | I26: =SUM(Лист1!H11) -> 53370.26 | J26: =SUM(Лист1!I11) -> 70.54 | K26: =SUM(Лист1!J11) -> 0 | L26: =SUM(Лист1!K11) -> 0 | M26: =SUM(Лист1!L11) -> 0 | N26: 69.48 | O26: 59.24 | P26: 0.08 | Q26: =SUM(Лист1!P11) -> 0 | R26: =SUM(H26+N26) -> 132720.2 | S26: =SUM(I26+O26-J26) -> 53358.96 | T26: =S26-3*U26 -> 53147.1 | U26: =J26+P26 -> 70.62 | V26: =R26-T26 -> 79573.1 | W26: =SUM(R26-S26) -> 79361.24 | X26: =SUM(S26-U26) -> 53288.34 | Y26: =SUM(U26) -> 70.62 | Z26: =SUM(U26+W26) -> 79431.86 | AA26: =SUM(U26-Y26) -> 0 | AB26: =SUM(S26-X26-U26) -> 2.6147973e-12 | AC26: =SUM(R26-X26-Z26) -> 0
D27: неприватизована квартира №45 | F27: 57.1 | X27: =SUM(S27-U27) -> 0 | Y27: =SUM(U27) -> 0 | Z27: =SUM(U27+W27) -> 0 | AA27: =SUM(U27-Y27) -> 0 | AB27: =SUM(S27-X27-U27) -> 0 | AC27: =SUM(R27-X27-Z27) -> 0
X28: =SUM(S28-U28) -> 0 | Y28: =SUM(U28) -> 0 | Z28: =SUM(U28+W28) -> 0 | AA28: =SUM(U28-Y28) -> 0 | AB28: =SUM(S28-X28-U28) -> 0 | AC28: =SUM(R28-X28-Z28) -> 0
A29: =SUM(A26+1) -> 6 | B29: 100028 | C29: 23 | D29: Театральна вулиця | E29: 21 | F29: =F30 -> 88.9 | G29: 1940 | H29: =SUM(Лист1!G12) -> 158530.26 | I29: =SUM(Лист1!H12) -> 29686.87 | J29: =SUM(Лист1!I12) -> 114.78 | K29: =SUM(Лист1!J12) -> 0 | L29: =SUM(Лист1!K12) -> 0 | M29: =SUM(Лист1!L12) -> 0 | N29: =SUM(Лист1!M12) -> 0 | O29: =SUM(Лист1!N12) -> 0 | ... Q29: =SUM(Лист1!P12) -> 0 | R29: =SUM(H29+N29) -> 158530.26 | S29: =SUM(I29+O29-J29) -> 29572.09 | T29: =S29-3*U29 -> 29227.75 | U29: =J29+P29 -> 114.78 | V29: =R29-T29 -> 129302.51 | W29: =SUM(R29-S29) -> 128958.17 | X29: =SUM(S29-U29) -> 29457.31 | Y29: =SUM(U29) -> 114.78 | Z29: =SUM(U29+W29) -> 129072.95 | AA29: =SUM(U29-Y29) -> 0 | AB29: =SUM(S29-X29-U29) -> -1.1652901e-12 | AC29: =SUM(R29-X29-Z29) -> 0
D30: нежитлове приміщення | F30: 88.9 | X30: =SUM(S30-U30) -> 0 | Y30: =SUM(U30) -> 0 | Z30: =SUM(U30+W30) -> 0 | AA30: =SUM(U30-Y30) -> 0 | AB30: =SUM(S30-X30-U30) -> 0 | AC30: =SUM(R30-X30-Z30) -> 0
X31: =SUM(S31-U31) -> 0 | Y31: =SUM(U31) -> 0 | Z31: =SUM(U31+W31) -> 0 | AA31: =SUM(U31-Y31) -> 0 | AB31: =SUM(S31-X31-U31) -> 0 | AC31: =SUM(R31-X31-Z31) -> 0
A32: =SUM(A29+1) -> 7 | B32: 100033 | C32: 27 | D32: Театральна вулиця | E32: 32 | F32: =F33 -> 118 | G32: 1939 | H32: =SUM(Лист1!G13) -> 186813.95 | I32: =SUM(Лист1!H13) -> 38128.02 | J32: =SUM(Лист1!I13) -> 154.64 | R32: =SUM(H32+N32) -> 186813.95 | S32: =SUM(I32+O32-J32) -> 37973.38 | T32: =S32-3*U32 -> 37509.46 | U32: =J32+P32 -> 154.64 | V32: =R32-T32 -> 149304.49 | W32: =SUM(R32-S32) -> 148840.57 | X32: =SUM(S32-U32) -> 37818.74 | Y32: =SUM(U32) -> 154.64 | Z32: =SUM(U32+W32) -> 148995.21 | AA32: =SUM(U32-Y32) -> 0 | AB32: =SUM(S32-X32-U32) -> -5.6843419e-13 | AC32: =SUM(R32-X32-Z32) -> 0
D33: протирадіаційне укриття | F33: 118 | X33: =SUM(S33-U33) -> 0 | Y33: =SUM(U33) -> 0 | Z33: =SUM(U33+W33) -> 0 | AA33: =SUM(U33-Y33) -> 0 | AB33: =SUM(S33-X33-U33) -> 0 | AC33: =SUM(R33-X33-Z33) -> 0
X34: =SUM(S34-U34) -> 0 | Y34: =SUM(U34) -> 0 | Z34: =SUM(U34+W34) -> 0 | AA34: =SUM(U34-Y34) -> 0 | AB34: =SUM(S34-X34-U34) -> 0 | AC34: =SUM(R34-X34-Z34) -> 0
A35: =SUM(A32+1) -> 8 | B35: 100036 | C35: 29 | D35: Театральна вулиця | E35: 44 | F35: =F36 -> 90 | G35: 1939 | H35: =SUM(Лист1!G14) -> 244965.75 | I35: =SUM(Лист1!H14) -> 43373.74 | J35: =SUM(Лист1!I14) -> 174.92 | N35: 7611.41 | O35: 6092.57 | P35: 22.66 | R35: =SUM(H35+N35) -> 252577.16 | S35: =SUM(I35+O35-J35) -> 49291.39 | T35: =S35-3*U35 -> 48698.65 | U35: =J35+P35 -> 197.58 | V35: =R35-T35 -> 203878.51 | W35: =SUM(R35-S35) -> 203285.77 | X35: =SUM(S35-U35) -> 49093.81 | Y35: =SUM(U35) -> 197.58 | Z35: =SUM(U35+W35) -> 203483.35 | AA35: =SUM(U35-Y35) -> 0 | AB35: =SUM(S35-X35-U35) -> 1.762146e-12 | AC35: =SUM(R35-X35-Z35) -> 0
D36: протирадіаційне укриття | F36: 90 | X36: =SUM(S36-U36) -> 0 | Y36: =SUM(U36) -> 0 | Z36: =SUM(U36+W36) -> 0 | AA36: =SUM(U36-Y36) -> 0 | AB36: =SUM(S36-X36-U36) -> 0 | AC36: =SUM(R36-X36-Z36) -> 0
X37: =SUM(S37-U37) -> 0 | Y37: =SUM(U37) -> 0 | Z37: =SUM(U37+W37) -> 0 | AA37: =SUM(U37-Y37) -> 0 | AB37: =SUM(S37-X37-U37) -> 0 | AC37: =SUM(R37-X37-Z37) -> 0
A38: =SUM(A35+1) -> 9 | B38: 100049 | C38: 37 | D38: Тараса Шевченка вулиця | E38: 21 | F38: =SUM(F39:F40) -> 305.7 | G38: 1948 | H38: =SUM(Лист1!G15) -> 735613.92 | I38: =SUM(Лист1!H15) -> 166780.77 | J38: =SUM(Лист1!I15) -> 543.48 | R38: =SUM(H38+N38) -> 735613.92 | S38: =SUM(I38+O38-J38) -> 166237.29 | T38: =S38-3*U38 -> 164606.85 | U38: =J38+P38 -> 543.48 | V38: =R38-T38 -> 571007.07 | W38: =SUM(R38-S38) -> 569376.63 | X38: =SUM(S38-U38) -> 165693.81 | Y38: =SUM(U38) -> 543.48 | Z38: =SUM(U38+W38) -> 569920.11 | AA38: =SUM(U38-Y38) -> 0 | AB38: =SUM(S38-X38-U38) -> 1.0459189e-11 | AC38: =SUM(R38-X38-Z38) -> 0
D39: нежитлове приміщення | F39: 24.2 | R39: =R38/F38*F39 -> 58233.094 | S39: =S38/F38*F39 -> 13159.772 | T39: =T38/F$38*F$39 -> 13030.703 | U39: =J39+P39 -> 0 | V39: =R39-T39 -> 45202.392 | W39: =W38/F38*F39 -> 45073.322 | X39: =SUM(S39-U39) -> 13159.772 | Y39: =SUM(U39) -> 0 | Z39: =SUM(U39+W39) -> 45073.322 | AA39: =SUM(U39-Y39) -> 0 | AB39: =SUM(S39-X39-U39) -> 0 | AC39: =SUM(R39-X39-Z39) -> -7.2759576e-12
D40: протирадіаційне укриття | F40: 281.5 | R40: =R38/F38*F40 -> 677380.83 | S40: =S38/F38*F40 -> 153077.52 | T40: =T39/F$38*F$39 -> 1031.544 | U40: =J40+P40 -> 0 | V40: =R40-T40 -> 676349.28 | W40: =W38/F38*F40 -> 524303.31 | X40: =SUM(S40-U40) -> 153077.52 | Y40: =SUM(U40) -> 0 | Z40: =SUM(U40+W40) -> 524303.31 | AA40: =SUM(U40-Y40) -> 0 | AB40: =SUM(S40-X40-U40) -> 0 | AC40: =SUM(R40-X40-Z40) -> -1.1641532e-10
X41: =SUM(S41-U41) -> 0 | Y41: =SUM(U41) -> 0 | Z41: =SUM(U41+W41) -> 0 | AA41: =SUM(U41-Y41) -> 0 | AB41: =SUM(S41-X41-U41) -> 0 | AC41: =SUM(R41-X41-Z41) -> 0
A42: =SUM(A38+1) -> 10 | B42: 100054 | C42: 39 | D42: Тараса Шевченка вулиця | E42: 32 | F42: =F43 -> 29.3 | G42: 1939 | H42: =SUM(Лист1!G16) -> 57170.18 | I42: =SUM(Лист1!H16) -> 8817.16 | J42: =SUM(Лист1!I16) -> 38.38 | R42: =SUM(H42+N42) -> 57170.18 | S42: =SUM(I42+O42-J42) -> 8778.78 | T42: =S42-3*U42 -> 8663.64 | U42: =J42+P42 -> 38.38 | V42: =R42-T42 -> 48506.54 | W42: =SUM(R42-S42) -> 48391.4 | X42: =SUM(S42-U42) -> 8740.4 | Y42: =SUM(U42) -> 38.38 | Z42: =SUM(U42+W42) -> 48429.78 | AA42: =SUM(U42-Y42) -> 0 | AB42: =SUM(S42-X42-U42) -> -8.0291329e-13 | AC42: =SUM(R42-X42-Z42) -> 0
D43: неприватизована квартира №2 | F43: 29.3 | X43: =SUM(S43-U43) -> 0 | Y43: =SUM(U43) -> 0 | Z43: =SUM(U43+W43) -> 0 | AA43: =SUM(U43-Y43) -> 0 | AB43: =SUM(S43-X43-U43) -> 0 | AC43: =SUM(R43-X43-Z43) -> 0
X44: =SUM(S44-U44) -> 0 | Y44: =SUM(U44) -> 0 | Z44: =SUM(U44+W44) -> 0 | AA44: =SUM(U44-Y44) -> 0 | AB44: =SUM(S44-X44-U44) -> 0 | AC44: =SUM(R44-X44-Z44) -> 0
A45: =SUM(A42+1) -> 11 | B45: 100060 | C45: 40 | D45: Переяславська (Вiдродження пл.) | E45: 1-2 | F45: =SUM(F46:F47) -> 642.6 | G45: 1939 | H45: =SUM(Лист1!G17) -> 708183.91 | I45: =SUM(Лист1!H17) -> 115587.66 | J45: =SUM(Лист1!I17) -> 462.43 | R45: =SUM(R46:R47) -> 45574773 | S45: =SUM(I45+O45-J45) -> 115125.23 | T45: =SUM(T46:T47) -> 4947608.5 | U45: =J45+P45 -> 462.43 | V45: =SUM(V46:V47) -> 40627165 | W45: =SUM(R45-S45) -> 45459648 | X45: =SUM(S45-U45) -> 114662.8 | Y45: =SUM(U45) -> 462.43 | Z45: =SUM(U45+W45) -> 45460110 | AA45: =SUM(U45-Y45) -> 0 | AB45: =SUM(S45-X45-U45) -> -6.9917405e-12 | AC45: =SUM(R45-X45-Z45) -> 0
D46: нежитлове приміщення | F46: 551.6 | R46: 45474486 | T46: 4931501.8 | U46: 4947608.5 | V46: =SUM(R46-T46) -> 40542984 | X46: =SUM(S46-U46) -> -4947608.5 | Y46: =SUM(U46) -> 4947608.5 | Z46: =SUM(U46+W46) -> 4947608.5 | AA46: =SUM(U46-Y46) -> 0 | AB46: =SUM(S46-X46-U46) -> 0 | AC46: =SUM(R46-X46-Z46) -> 45474486
D47: підвал | F47: 91 | R47: 100287.48 | T47: 16106.68 | V47: 84180.8 | X47: =SUM(S47-U47) -> 0 | Y47: =SUM(U47) -> 0 | Z47: =SUM(U47+W47) -> 0 | AA47: =SUM(U47-Y47) -> 0 | AB47: =SUM(S47-X47-U47) -> 0 | AC47: =SUM(R47-X47-Z47) -> 100287.48
A48: =SUM(A45+1) -> 12 | B48: 100067 | C48: 47 | D48: Вiдродження площа | E48: 9, 10 | F48: =F49 -> 87.4 | G48: 1939 | H48: =SUM(Лист1!G18) -> 61016.47 | I48: =SUM(Лист1!H18) -> 10174.39 | J48: =SUM(Лист1!I18) -> 42.43 | R48: 2662148.6 | S48: =SUM(I48+O48-J48) -> 10131.96 | T48: 448894.55 | U48: =J48+P48 -> 42.43 | V48: =R48-T48 -> 2213254 | W48: =SUM(R48-S48) -> 2652016.6 | X48: =SUM(S48-U48) -> 10089.53 | Y48: =SUM(U48) -> 42.43 | Z48: =SUM(U48+W48) -> 2652059.1 | AA48: =SUM(U48-Y48) -> 0 | AB48: =SUM(S48-X48-U48) -> 2.9132252e-13 | AC48: =SUM(R48-X48-Z48) -> 0
D49: нежитлове приміщення | F49: 87.4 | X49: =SUM(S49-U49) -> 0 | Y49: =SUM(U49) -> 0 | Z49: =SUM(U49+W49) -> 0 | AA49: =SUM(U49-Y49) -> 0 | AB49: =SUM(S49-X49-U49) -> 0 | AC49: =SUM(R49-X49-Z49) -> 0
X50: =SUM(S50-U50) -> 0 | Y50: =SUM(U50) -> 0 | Z50: =SUM(U50+W50) -> 0 | AA50: =SUM(U50-Y50) -> 0 | AB50: =SUM(S50-X50-U50) -> 0 | AC50: =SUM(R50-X50-Z50) -> 0
A51: =SUM(A48+1) -> 13 | B51: 100071 | C51: 51 | D51: Вiдродження площа | E51: 19 | F51: =F52 -> 73.4 | G51: 1939 | H51: =SUM(Лист1!G19) -> 111604.55 | I51: =SUM(Лист1!H19) -> 19597.37 | J51: =SUM(Лист1!I19) -> 85.84 | N51: =SUM(Лист2!Q7) -> 66.42 | O51: =SUM(Лист2!R7) -> 52.59 | P51: =SUM(Лист2!S7) -> 0.2 | R51: =SUM(H51+N51) -> 111670.97 | S51: =SUM(I51+O51-J51) -> 19564.12 | T51: =S51-3*U51 -> 19306 | U51: =J51+P51 -> 86.04 | V51: =R51-T51 -> 92364.97 | W51: =SUM(R51-S51) -> 92106.85 | X51: =SUM(S51-U51) -> 19478.08 | Y51: =SUM(U51) -> 86.04 | Z51: =SUM(U51+W51) -> 92192.89 | AA51: =SUM(U51-Y51) -> 0 | AB51: =SUM(S51-X51-U51) -> 8.6686214e-13 | AC51: =SUM(R51-X51-Z51) -> 0
D52: нежитлове приміщення | F52: 73.4 | X52: =SUM(S52-U52) -> 0 | Y52: =SUM(U52) -> 0 | Z52: =SUM(U52+W52) -> 0 | AA52: =SUM(U52-Y52) -> 0 | AB52: =SUM(S52-X52-U52) -> 0 | AC52: =SUM(R52-X52-Z52) -> 0
S53: =SUM(I53+O53-J53) -> 0 | X53: =SUM(S53-U53) -> 0 | Y53: =SUM(U53) -> 0 | Z53: =SUM(U53+W53) -> 0 | AA53: =SUM(U53-Y53) -> 0 | AB53: =SUM(S53-X53-U53) -> 0 | AC53: =SUM(R53-X53-Z53) -> 0
A54: =SUM(A51+1) -> 14 | B54: 100072 | C54: 52 | D54: Вячеслава Чорновола вулиця | E54: 2 | F54: =F55 -> 27.2 | G54: 1939 | H54: =SUM(Лист1!G20) -> 13412.29 | I54: =SUM(Лист1!H20) -> 2548.87 | J54: =SUM(Лист1!I20) -> 10.93 | N54: 1280.58 | O54: 923.57 | P54: 3.78 | R54: =SUM(H54+N54) -> 14692.87 | S54: =SUM(I54+O54-J54) -> 3461.51 | T54: =S54-3*U54 -> 3417.38 | U54: =J54+P54 -> 14.71 | V54: =R54-T54 -> 11275.49 | W54: =SUM(R54-S54) -> 11231.36 | X54: =SUM(S54-U54) -> 3446.8 | Y54: =SUM(U54) -> 14.71 | Z54: =SUM(U54+W54) -> 11246.07 | AA54: =SUM(U54-Y54) -> 0 | AB54: =SUM(S54-X54-U54) -> 3.7303494e-14 | AC54: =SUM(R54-X54-Z54) -> 0
D55: неприватизована квартира №5 | F55: 27.2 | X55: =SUM(S55-U55) -> 0 | Y55: =SUM(U55) -> 0 | Z55: =SUM(U55+W55) -> 0 | AA55: =SUM(U55-Y55) -> 0 | AB55: =SUM(S55-X55-U55) -> 0 | AC55: =SUM(R55-X55-Z55) -> 0
X56: =SUM(S56-U56) -> 0 | Y56: =SUM(U56) -> 0 | Z56: =SUM(U56+W56) -> 0 | AA56: =SUM(U56-Y56) -> 0 | AB56: =SUM(S56-X56-U56) -> 0 | AC56: =SUM(R56-X56-Z56) -> 0
A57: =SUM(A54+1) -> 15 | B57: 100077 | C57: 57 | D57: Вячеслава Чорновола вулиця | E57: 8 | F57: =F58 -> 29 | G57: 1948 | H57: =SUM(Лист1!G21) -> 69018.97 | I57: =SUM(Лист1!H21) -> 12412.36 | J57: =SUM(Лист1!I21) -> 39.23 | R57: =SUM(H57+N57) -> 69018.97 | S57: =SUM(I57+O57-J57) -> 12373.13 | T57: =S57-3*U57 -> 12255.44 | U57: =J57+P57 -> 39.23 | V57: =R57-T57 -> 56763.53 | W57: =SUM(R57-S57) -> 56645.84 | X57: =SUM(S57-U57) -> 12333.9 | Y57: =SUM(U57) -> 39.23 | Z57: =SUM(U57+W57) -> 56685.07 | AA57: =SUM(U57-Y57) -> 0 | AB57: =SUM(S57-X57-U57) -> -4.3343107e-13 | AC57: =SUM(R57-X57-Z57) -> 0
D58: неприватизована квартира №3 | F58: 29 | X58: =SUM(S58-U58) -> 0 | Y58: =SUM(U58) -> 0 | Z58: =SUM(U58+W58) -> 0 | AA58: =SUM(U58-Y58) -> 0 | AB58: =SUM(S58-X58-U58) -> 0 | AC58: =SUM(R58-X58-Z58) -> 0
X59: =SUM(S59-U59) -> 0 | Y59: =SUM(U59) -> 0 | Z59: =SUM(U59+W59) -> 0 | AA59: =SUM(U59-Y59) -> 0 | AB59: =SUM(S59-X59-U59) -> 0 | AC59: =SUM(R59-X59-Z59) -> 0
A60: =SUM(A57+1) -> 16 | B60: 100081 | C60: 59 | D60: Вячеслава Чорновола вулиця | E60: 16 | F60: =F61 -> 23.5 | G60: 1939 | H60: =SUM(Лист1!G22) -> 30134.92 | I60: =SUM(Лист1!H22) -> 5159.18 | J60: =SUM(Лист1!I22) -> 22.12 | R60: =SUM(H60+N60) -> 30134.92 | S60: =SUM(I60+O60-J60) -> 5137.06 | T60: =S60-3*U60 -> 5070.7 | U60: =J60+P60 -> 22.12 | V60: =R60-T60 -> 25064.22 | W60: =SUM(R60-S60) -> 24997.86 | X60: =SUM(S60-U60) -> 5114.94 | Y60: =SUM(U60) -> 22.12 | Z60: =SUM(U60+W60) -> 25019.98 | AA60: =SUM(U60-Y60) -> 0 | AB60: =SUM(S60-X60-U60) -> -1.1013412e-13 | AC60: =SUM(R60-X60-Z60) -> 0
D61: нежитлове приміщення | F61: 23.5 | X61: =SUM(S61-U61) -> 0 | Y61: =SUM(U61) -> 0 | Z61: =SUM(U61+W61) -> 0 | AA61: =SUM(U61-Y61) -> 0 | AB61: =SUM(S61-X61-U61) -> 0 | AC61: =SUM(R61-X61-Z61) -> 0
X62: =SUM(S62-U62) -> 0 | Y62: =SUM(U62) -> 0 | Z62: =SUM(U62+W62) -> 0 | AA62: =SUM(U62-Y62) -> 0 | AB62: =SUM(S62-X62-U62) -> 0 | AC62: =SUM(R62-X62-Z62) -> 0
A63: =A60+1 -> 17 | B63: 100095 | C63: 70 | D63: Тараса Шевченка площа | E63: 8 | F63: =F64 -> 59 | G63: 1939 | H63: =SUM(Лист1!G24) -> 248367.66 | I63: =SUM(Лист1!H24) -> 48466.65 | J63: =SUM(Лист1!I24) -> 195.35 | R63: =SUM(H63+N63) -> 248367.66 | S63: =SUM(I63+O63-J63) -> 48271.3 | T63: =S63-3*U63 -> 47685.25 | U63: =J63+P63 -> 195.35 | V63: =R63-T63 -> 200682.41 | W63: =SUM(R63-S63) -> 200096.36 | X63: =SUM(S63-U63) -> 48075.95 | Y63: =SUM(U63) -> 195.35 | Z63: =SUM(U63+W63) -> 200291.71 | AA63: =SUM(U63-Y63) -> 0 | AB63: =SUM(S63-X63-U63) -> -1.4495072e-12 | AC63: =SUM(R63-X63-Z63) -> 0
D64: протирадіаційне укриття | F64: 59 | X64: =SUM(S64-U64) -> 0 | Y64: =SUM(U64) -> 0 | Z64: =SUM(U64+W64) -> 0 | AA64: =SUM(U64-Y64) -> 0 | AB64: =SUM(S64-X64-U64) -> 0 | AC64: =SUM(R64-X64-Z64) -> 0
X65: =SUM(S65-U65) -> 0 | Y65: =SUM(U65) -> 0 | Z65: =SUM(U65+W65) -> 0 | AA65: =SUM(U65-Y65) -> 0 | AB65: =SUM(S65-X65-U65) -> 0 | AC65: =SUM(R65-X65-Z65) -> 0
A66: =SUM(A63+1) -> 18 | B66: 100096 | C66: 71 | D66: Тараса Шевченка площа | E66: 10 | F66: =F67 -> 96.6 | G66: 1939 | H66: =SUM(Лист1!G25) -> 93391.4 | I66: =SUM(Лист1!H25) -> 16384.38 | J66: =SUM(Лист1!I25) -> 66.34 | R66: =SUM(H66+N66) -> 93391.4 | S66: =SUM(I66+O66-J66) -> 16318.04 | T66: =S66-3*U66 -> 16119.02 | U66: =J66+P66 -> 66.34 | V66: =R66-T66 -> 77272.38 | W66: =SUM(R66-S66) -> 77073.36 | X66: =SUM(S66-U66) -> 16251.7 | Y66: =SUM(U66) -> 66.34 | Z66: =SUM(U66+W66) -> 77139.7 | AA66: =SUM(U66-Y66) -> 0 | AB66: =SUM(S66-X66-U66) -> 1.4210855e-13 | AC66: =SUM(R66-X66-Z66) -> 1.4551915e-11
D67: підвал | F67: 96.6 | X67: =SUM(S67-U67) -> 0 | Y67: =SUM(U67) -> 0 | Z67: =SUM(U67+W67) -> 0 | AA67: =SUM(U67-Y67) -> 0 | AB67: =SUM(S67-X67-U67) -> 0 | AC67: =SUM(R67-X67-Z67) -> 0
X68: =SUM(S68-U68) -> 0 | Y68: =SUM(U68) -> 0 | Z68: =SUM(U68+W68) -> 0 | AA68: =SUM(U68-Y68) -> 0 | AB68: =SUM(S68-X68-U68) -> 0 | AC68: =SUM(R68-X68-Z68) -> 0
A69: =SUM(A66+1) -> 19 | B69: 100098 | C69: 73 | D69: Тараса Шевченка площа | E69: 11 | F69: =F70 -> 125.4 | G69: 1939 | H69: =SUM(Лист1!G26) -> 158557.16 | I69: =SUM(Лист1!H26) -> 24247.87 | J69: =SUM(Лист1!I26) -> 98.25 | R69: =SUM(H69+N69) -> 158557.16 | S69: =SUM(I69+O69-J69) -> 24149.62 | T69: =S69-3*U69 -> 23854.87 | U69: =J69+P69 -> 98.25 | V69: =R69-T69 -> 134702.29 | W69: =SUM(R69-S69) -> 134407.54 | X69: =SUM(S69-U69) -> 24051.37 | Y69: =SUM(U69) -> 98.25 | Z69: =SUM(U69+W69) -> 134505.79 | AA69: =SUM(U69-Y69) -> 0 | AB69: =SUM(S69-X69-U69) -> 0 | AC69: =SUM(R69-X69-Z69) -> 0
D70: підвал | F70: 125.4 | X70: =SUM(S70-U70) -> 0 | Y70: =SUM(U70) -> 0 | Z70: =SUM(U70+W70) -> 0 | AA70: =SUM(U70-Y70) -> 0 | AB70: =SUM(S70-X70-U70) -> 0 | AC70: =SUM(R70-X70-Z70) -> 0
X71: =SUM(S71-U71) -> 0 | Y71: =SUM(U71) -> 0 | Z71: =SUM(U71+W71) -> 0 | AA71: =SUM(U71-Y71) -> 0 | AB71: =SUM(S71-X71-U71) -> 0 | AC71: =SUM(R71-X71-Z71) -> 0
A72: =SUM(A69+1) -> 20 | B72: 100106 | C72: 81 | D72: Тараса Шевченка площа | E72: 20 | F72: =F73 -> 78.8 | G72: 1939 | H72: =SUM(Лист1!G27) -> 111507.03 | I72: =SUM(Лист1!H27) -> 22476.92 | J72: =SUM(Лист1!I27) -> 91.41 | R72: =SUM(H72+N72) -> 111507.03 | S72: =SUM(I72+O72-J72) -> 22385.51 | T72: =S72-3*U72 -> 22111.28 | U72: =J72+P72 -> 91.41 | V72: =R72-T72 -> 89395.75 | W72: =SUM(R72-S72) -> 89121.52 | X72: =SUM(S72-U72) -> 22294.1 | Y72: =SUM(U72) -> 91.41 | Z72: =SUM(U72+W72) -> 89212.93 | AA72: =SUM(U72-Y72) -> 0 | AB72: =SUM(S72-X72-U72) -> -1.4210855e-13 | AC72: =SUM(R72-X72-Z72) -> -1.4551915e-11
D73: протирадіаційне укриття | F73: 78.8 | X73: =SUM(S73-U73) -> 0 | Y73: =SUM(U73) -> 0 | Z73: =SUM(U73+W73) -> 0 | AA73: =SUM(U73-Y73) -> 0 | AB73: =SUM(S73-X73-U73) -> 0 | AC73: =SUM(R73-X73-Z73) -> 0
X74: =SUM(S74-U74) -> 0 | Y74: =SUM(U74) -> 0 | Z74: =SUM(U74+W74) -> 0 | AA74: =SUM(U74-Y74) -> 0 | AB74: =SUM(S74-X74-U74) -> 0 | AC74: =SUM(R74-X74-Z74) -> 0
A75: =SUM(A72+1) -> 21 | B75: 100107 | C75: 82 | D75: Тараса Шевченка площа | E75: 22 | F75: =F76 -> 68 | G75: 1939 | H75: =SUM(Лист1!G28) -> 116830.85 | I75: =SUM(Лист1!H28) -> 21048.65 | J75: =SUM(Лист1!I28) -> 85.41 | R75: =SUM(H75+N75) -> 116830.85 | S75: =SUM(I75+O75-J75) -> 20963.24 | T75: =S75-3*U75 -> 20707.01 | U75: =J75+P75 -> 85.41 | V75: =R75-T75 -> 96123.84 | W75: =SUM(R75-S75) -> 95867.61 | X75: =SUM(S75-U75) -> 20877.83 | Y75: =SUM(U75) -> 85.41 | Z75: =SUM(U75+W75) -> 95953.02 | AA75: =SUM(U75-Y75) -> 0 | AB75: =SUM(S75-X75-U75) -> -1.4210855e-13 | AC75: =SUM(R75-X75-Z75) -> 0
D76: протирадіаційне укриття | F76: 68 | X76: =SUM(S76-U76) -> 0 | Y76: =SUM(U76) -> 0 | Z76: =SUM(U76+W76) -> 0 | AA76: =SUM(U76-Y76) -> 0 | AB76: =SUM(S76-X76-U76) -> 0 | AC76: =SUM(R76-X76-Z76) -> 0
X77: =SUM(S77-U77) -> 0 | Y77: =SUM(U77) -> 0 | Z77: =SUM(U77+W77) -> 0 | AA77: =SUM(U77-Y77) -> 0 | AB77: =SUM(S77-X77-U77) -> 0 | AC77: =SUM(R77-X77-Z77) -> 0
A78: =SUM(A75+1) -> 22 | B78: 100108 | C78: 83 | D78: Тараса Шевченка площа | E78: 23 | F78: =F79 -> 73.6 | G78: 1872 | H78: =SUM(Лист1!G29) -> 95841.99 | I78: =SUM(Лист1!H29) -> 11325.02 | J78: =SUM(Лист1!I29) -> 81.71 | R78: =SUM(H78+N78) -> 95841.99 | S78: =SUM(I78+O78-J78) -> 11243.31 | T78: =S78-3*U78 -> 10998.18 | U78: =J78+P78 -> 81.71 | V78: =R78-T78 -> 84843.81 | W78: =SUM(R78-S78) -> 84598.68 | X78: =SUM(S78-U78) -> 11161.6 | Y78: =SUM(U78) -> 81.71 | Z78: =SUM(U78+W78) -> 84680.39 | AA78: =SUM(U78-Y78) -> 0 | AB78: =SUM(S78-X78-U78) -> -8.6686214e-13 | AC78: =SUM(R78-X78-Z78) -> -1.4551915e-11
D79: протирадіаційне укриття | F79: 73.6 | X79: =SUM(S79-U79) -> 0 | Y79: =SUM(U79) -> 0 | Z79: =SUM(U79+W79) -> 0 | AA79: =SUM(U79-Y79) -> 0 | AB79: =SUM(S79-X79-U79) -> 0 | AC79: =SUM(R79-X79-Z79) -> 0
X80: =SUM(S80-U80) -> 0 | Y80: =SUM(U80) -> 0 | Z80: =SUM(U80+W80) -> 0 | AA80: =SUM(U80-Y80) -> 0 | AB80: =SUM(S80-X80-U80) -> 0 | AC80: =SUM(R80-X80-Z80) -> 0
A81: =SUM(A78+1) -> 23 | B81: 100109 | C81: 84 | D81: Тараса Шевченка площа | E81: 24 | F81: 42.6 | G81: 1939 | H81: =SUM(Лист1!G30) -> 55398.93 | I81: =SUM(Лист1!H30) -> 9689.73 | J81: =SUM(Лист1!I30) -> 41.28 | R81: =SUM(H81+N81) -> 55398.93 | S81: =SUM(I81+O81-J81) -> 9648.45 | T81: =S81-3*U81 -> 9524.61 | U81: =J81+P81 -> 41.28 | V81: =R81-T81 -> 45874.32 | W81: =SUM(R81-S81) -> 45750.48 | X81: =SUM(S81-U81) -> 9607.17 | Y81: =SUM(U81) -> 41.28 | Z81: =SUM(U81+W81) -> 45791.76 | AA81: =SUM(U81-Y81) -> 0 | AB81: =SUM(S81-X81-U81) -> 6.5369932e-13 | AC81: =SUM(R81-X81-Z81) -> 0
D82: протирадіаційне укриття | F82: 42.6 | X82: =SUM(S82-U82) -> 0 | Y82: =SUM(U82) -> 0 | Z82: =SUM(U82+W82) -> 0 | AA82: =SUM(U82-Y82) -> 0 | AB82: =SUM(S82-X82-U82) -> 0 | AC82: =SUM(R82-X82-Z82) -> 0
X83: =SUM(S83-U83) -> 0 | Y83: =SUM(U83) -> 0 | Z83: =SUM(U83+W83) -> 0 | AA83: =SUM(U83-Y83) -> 0 | AB83: =SUM(S83-X83-U83) -> 0 | AC83: =SUM(R83-X83-Z83) -> 0
A84: =SUM(A81+1) -> 24 | B84: 100151 | C84: 110 | D84: Лесi Українки бульвар | E84: 11 | F84: 46.5 | G84: 1915 | H84: =SUM(Лист1!G31) -> 77227.16 | I84: =SUM(Лист1!H31) -> 13907.27 | J84: =SUM(Лист1!I31) -> 96.25 | R84: =SUM(H84+N84) -> 77227.16 | S84: =SUM(I84+O84-J84) -> 13811.02 | T84: =S84-3*U84 -> 13522.27 | U84: =J84+P84 -> 96.25 | V84: =R84-T84 -> 63704.89 | W84: =SUM(R84-S84) -> 63416.14 | X84: =SUM(S84-U84) -> 13714.77 | Y84: =SUM(U84) -> 96.25 | Z84: =SUM(U84+W84) -> 63512.39 | AA84: =SUM(U84-Y84) -> 0 | AB84: =SUM(S84-X84-U84) -> 0 | AC84: =SUM(R84-X84-Z84) -> 0
D85: нежитлове приміщення | F85: 46.5 | X85: =SUM(S85-U85) -> 0 | Y85: =SUM(U85) -> 0 | Z85: =SUM(U85+W85) -> 0 | AA85: =SUM(U85-Y85) -> 0 | AB85: =SUM(S85-X85-U85) -> 0 | AC85: =SUM(R85-X85-Z85) -> 0
X86: =SUM(S86-U86) -> 0 | Y86: =SUM(U86) -> 0 | Z86: =SUM(U86+W86) -> 0 | AA86: =SUM(U86-Y86) -> 0 | AB86: =SUM(S86-X86-U86) -> 0 | AC86: =SUM(R86-X86-Z86) -> 0
A87: =SUM(A84+1) -> 25 | B87: 100158 | C87: 113 | D87: Валова вулиця | E87: 10 | F87: 31.6 | G87: 1883 | H87: =SUM(Лист1!G32) -> 47224.8 | I87: =SUM(Лист1!H32) -> 4807.8 | J87: =SUM(Лист1!I32) -> 32.43 | R87: =SUM(H87+N87) -> 47224.8 | S87: =SUM(I87+O87-J87) -> 4775.37 | T87: =S87-3*U87 -> 4678.08 | U87: =J87+P87 -> 32.43 | V87: =R87-T87 -> 42546.72 | W87: =SUM(R87-S87) -> 42449.43 | X87: =SUM(S87-U87) -> 4742.94 | Y87: =SUM(U87) -> 32.43 | Z87: =SUM(U87+W87) -> 42481.86 | AA87: =SUM(U87-Y87) -> 0 | AB87: =SUM(S87-X87-U87) -> 2.9132252e-13 | AC87: =SUM(R87-X87-Z87) -> 0
D88: нежитлове приміщення | F88: 31.6 | X88: =SUM(S88-U88) -> 0 | Y88: =SUM(U88) -> 0 | Z88: =SUM(U88+W88) -> 0 | AA88: =SUM(U88-Y88) -> 0 | AB88: =SUM(S88-X88-U88) -> 0 | AC88: =SUM(R88-X88-Z88) -> 0
X89: =SUM(S89-U89) -> 0 | Y89: =SUM(U89) -> 0 | Z89: =SUM(U89+W89) -> 0 | AA89: =SUM(U89-Y89) -> 0 | AB89: =SUM(S89-X89-U89) -> 0 | AC89: =SUM(R89-X89-Z89) -> 0
A90: =SUM(A87+1) -> 26 | B90: 100177 | C90: 121 | D90: Василя Стуса вулиця | E90: 3 | F90: 63.1 | G90: 1939 | H90: =SUM(Лист1!G33) -> 67567.8 | I90: =SUM(Лист1!H33) -> 79001.01 | J90: =SUM(Лист1!I33) -> 46.77 | R90: =SUM(H90+N90) -> 67567.8 | S90: =SUM(I90+O90-J90) -> 78954.24 | T90: =S90-3*U90 -> 78813.93 | U90: =J90+P90 -> 46.77 | V90: =R90-T90 -> -11246.13 | W90: =SUM(R90-S90) -> -11386.44 | X90: =SUM(S90-U90) -> 78907.47 | Y90: =SUM(U90) -> 46.77 | Z90: =SUM(U90+W90) -> -11339.67 | AA90: =SUM(U90-Y90) -> 0 | AB90: =SUM(S90-X90-U90) -> 4.0714099e-12 | AC90: =SUM(R90-X90-Z90) -> 3.6379788e-12
D91: неприватизована квартира № 3 | F91: 63.1 | X91: =SUM(S91-U91) -> 0 | Y91: =SUM(U91) -> 0 | Z91: =SUM(U91+W91) -> 0 | AA91: =SUM(U91-Y91) -> 0 | AB91: =SUM(S91-X91-U91) -> 0 | AC91: =SUM(R91-X91-Z91) -> 0
X92: =SUM(S92-U92) -> 0 | Y92: =SUM(U92) -> 0 | Z92: =SUM(U92+W92) -> 0 | AA92: =SUM(U92-Y92) -> 0 | AB92: =SUM(S92-X92-U92) -> 0 | AC92: =SUM(R92-X92-Z92) -> 0
A93: =SUM(A90+1) -> 27 | B93: 100184 | C93: 126 | D93: Василя Стуса вулиця | E93: 24 | F93: 34.96 | G93: 1939 | H93: =SUM(Лист1!G34) -> 78455.82 | I93: =SUM(Лист1!H34) -> 11927.84 | J93: =SUM(Лист1!I34) -> 48.34 | R93: =SUM(H93+N93) -> 78455.82 | S93: =SUM(I93+O93-J93) -> 11879.5 | T93: =S93-3*U93 -> 11734.48 | U93: =J93+P93 -> 48.34 | V93: =R93-T93 -> 66721.34 | W93: =SUM(R93-S93) -> 66576.32 | X93: =SUM(S93-U93) -> 11831.16 | Y93: =SUM(U93) -> 48.34 | Z93: =SUM(U93+W93) -> 66624.66 | AA93: =SUM(U93-Y93) -> 0 | AB93: =SUM(S93-X93-U93) -> 1.4210855e-13 | AC93: =SUM(R93-X93-Z93) -> 0
D94: неприватизована квартира № 5 | F94: 34.96 | X94: =SUM(S94-U94) -> 0 | Y94: =SUM(U94) -> 0 | Z94: =SUM(U94+W94) -> 0 | AA94: =SUM(U94-Y94) -> 0 | AB94: =SUM(S94-X94-U94) -> 0 | AC94: =SUM(R94-X94-Z94) -> 0
X95: =SUM(S95-U95) -> 0 | Y95: =SUM(U95) -> 0 | Z95: =SUM(U95+W95) -> 0 | AA95: =SUM(U95-Y95) -> 0 | AB95: =SUM(S95-X95-U95) -> 0 | AC95: =SUM(R95-X95-Z95) -> 0
A96: =SUM(A93+1) -> 28 | B96: 100199 | C96: 137 | D96: Опришка М.Драгирюка вулиця | E96: 1 | F96: 218.4 | G96: 1939 | H96: =SUM(Лист1!G35) -> 278857.99 | I96: =SUM(Лист1!H35) -> 61786.47 | J96: =SUM(Лист1!I35) -> 247.55 | Q96: =SUM(Q83+Q56) -> 0 | R96: =SUM(H96+N96) -> 278857.99 | S96: =SUM(I96+O96-J96) -> 61538.92 | T96: =S96-3*U96 -> 60796.27 | U96: =J96+P96 -> 247.55 | V96: =R96-T96 -> 218061.72 | W96: =SUM(R96-S96) -> 217319.07 | X96: =SUM(S96-U96) -> 61291.37 | Y96: =SUM(U96) -> 247.55 | Z96: =SUM(U96+W96) -> 217566.62 | AA96: =SUM(U96-Y96) -> 0 | AB96: =SUM(S96-X96-U96) -> 2.8990144e-12 | AC96: =SUM(R96-X96-Z96) -> 0
D97: нежитлове приміщення | F97: 218.4 | X97: =SUM(S97-U97) -> 0 | Y97: =SUM(U97) -> 0 | Z97: =SUM(U97+W97) -> 0 | AA97: =SUM(U97-Y97) -> 0 | AB97: =SUM(S97-X97-U97) -> 0 | AC97: =SUM(R97-X97-Z97) -> 0
Q98: =SUM(Q93-Q96) -> 0 | X98: =SUM(S98-U98) -> 0 | Y98: =SUM(U98) -> 0 | Z98: =SUM(U98+W98) -> 0 | AA98: =SUM(U98-Y98) -> 0 | AB98: =SUM(S98-X98-U98) -> 0 | AC98: =SUM(R98-X98-Z98) -> 0
A99: =SUM(A96+1) -> 29 | B99: 100203 | C99: 141 | D99: Ринок площа | E99: 10 | F99: 33.6 | G99: 1939 | H99: =SUM(Лист1!G36) -> 46179.22 | I99: =SUM(Лист1!H36) -> 7796.7 | J99: =SUM(Лист1!I36) -> 34.23 | R99: =SUM(H99+N99) -> 46179.22 | S99: =SUM(I99+O99-J99) -> 7762.47 | T99: =S99-3*U99 -> 7659.78 | U99: =J99+P99 -> 34.23 | V99: =R99-T99 -> 38519.44 | W99: =SUM(R99-S99) -> 38416.75 | X99: =SUM(S99-U99) -> 7728.24 | Y99: =SUM(U99) -> 34.23 | Z99: =SUM(U99+W99) -> 38450.98 | AA99: =SUM(U99-Y99) -> 0 | AB99: =SUM(S99-X99-U99) -> -4.3343107e-13 | AC99: =SUM(R99-X99-Z99) -> 0
D100: нежитлове приміщення | F100: 33.6 | X100: =SUM(S100-U100) -> 0 | Y100: =SUM(U100) -> 0 | Z100: =SUM(U100+W100) -> 0 | AA100: =SUM(U100-Y100) -> 0 | AB100: =SUM(S100-X100-U100) -> 0 | AC100: =SUM(R100-X100-Z100) -> 0
X101: =SUM(S101-U101) -> 0 | Y101: =SUM(U101) -> 0 | Z101: =SUM(U101+W101) -> 0 | AA101: =SUM(U101-Y101) -> 0 | AB101: =SUM(S101-X101-U101) -> 0 | AC101: =SUM(R101-X101-Z101) -> 0
A102: =SUM(A99+1) -> 30 | B102: 100225 | C102: 151 | D102: Валова вулиця | E102: 8 | F102: =F103 -> 52.8 | G102: 1939 | H102: =SUM(Лист1!G37) -> 97347.06 | I102: =SUM(Лист1!H37) -> 18379.5 | J102: =SUM(Лист1!I37) -> 75.6 | R102: =SUM(H102+N102) -> 97347.06 | S102: =SUM(I102+O102-J102) -> 18303.9 | T102: =S102-3*U102 -> 18077.1 | U102: =J102+P102 -> 75.6 | V102: =R102-T102 -> 79269.96 | W102: =SUM(R102-S102) -> 79043.16 | X102: =SUM(S102-U102) -> 18228.3 | Y102: =SUM(U102) -> 75.6 | Z102: =SUM(U102+W102) -> 79118.76 | AA102: =SUM(U102-Y102) -> 0 | AB102: =SUM(S102-X102-U102) -> -1.4495072e-12 | AC102: =SUM(R102-X102-Z102) -> -1.4551915e-11
D103: неприватизована квартира № 5 | F103: 52.8 | X103: =SUM(S103-U103) -> 0 | Y103: =SUM(U103) -> 0 | Z103: =SUM(U103+W103) -> 0 | AA103: =SUM(U103-Y103) -> 0 | AB103: =SUM(S103-X103-U103) -> 0 | AC103: =SUM(R103-X103-Z103) -> 0
...

Sheet благоустрій
A1: ОСНОВНІ ЗАСОБИ. ОБОРОТНА ВІДОМІСТЬ
D2: за період | E2: Червень 2018-Червень 2018
D3: Благоустрій
A5: № | B5: інв. | D5: адреса | F5: рік вводу | G5: первісна вартість | H5: залишкова вартість | I5: амортизація | J5: індексація | M5: донараховано | N5: донараховано | O5: вибуло | P5: вибуло | Q5: первісна | R5: залишкова | S5: аморт. | T5: знос
A6: п/п | B6: номер | C6: код | D6: вулиця | E6: буд. | F6: в експл. | G6: на початок | H6: на початок | J6: первісна | K6: залишкова | L6: амортизація | M6: первісної | N6: залишкової | O6: первісної | P6: залишкової | Q6: на кінець | R6: на кінець
A7: 1 | B7: 100566 | C7: 236 | D7: Михайла Грушевського проспект | E7: 46 | F7: 1986 | G7: 7951 | H7: 1422.76 | I7: 9.24 | J7: - | K7: - | L7: - | M7: - | N7: - | O7: - | P7: - | Q7: 7951 | R7: 1413.52 | S7: 9.24 | T7: =SUM(Q7-R7) -> 6537.48
A8: 2 | B8: 100567 | C8: 237 | D8: Василя Стуса вулиця | E8: 10 | F8: 1948 | G8: 6110.18 | H8: 1118.55 | I8: 7.26 | J8: - | K8: - | L8: - | M8: - | N8: - | O8: - | P8: - | Q8: 6110.18 | R8: 1111.29 | S8: 7.26 | T8: =SUM(Q8-R8) -> 4998.89
F9: РАЗОМ: | G9: 14061.18 | H9: 2541.31 | I9: 16.5 | J9: - | K9: - | L9: - | M9: - | N9: - | O9: - | P9: - | Q9: 14061.18 | R9: 2524.81 | S9: 16.5 | T9: =SUM(Q9-R9) -> 11536.37
A11: 3 | B11: 201919 | C11: 729 | D11: Iвана Богуна вулиця | E11: 36 | F11: 2015 | G11: 5657.4 | H11: 5440.6 | I11: 6.83 | J11: - | K11: - | L11: - | M11: - | N11: - | O11: - | P11: - | Q11: 5657.4 | R11: 5433.77 | S11: 6.83 | T11: =SUM(Q11-R11) -> 223.63
A12: 4 | B12: 700072 | C12: 609 | D12: Дитячі майданчики | F12: 2012 | G12: 159622.42 | H12: 109075.58 | I12: 665.09 | J12: - | K12: - | L12: - | M12: - | N12: - | O12: - | P12: - | Q12: 159622.42 | R12: 108410.49 | S12: 665.09 | T12: =SUM(Q12-R12) -> 51211.93
A13: 5 | B13: 700195 | C13: 673 | D13: Демонтаж теплокамер | F13: 2012 | G13: 7944 | H13: 5693.2 | I13: 33.1 | J13: - | K13: - | L13: - | M13: - | N13: - | O13: - | P13: - | Q13: 7944 | R13: 5660.1 | S13: 33.1 | T13: =SUM(Q13-R13) -> 2283.9
A14: 6 | B14: 700196 | C14: 674 | D14: Демонтаж теплокамер | F14: 2012 | G14: 14991 | H14: 10743.72 | I14: 62.46 | J14: - | K14: - | L14: - | M14: - | N14: - | O14: - | P14: - | Q14: 14991 | R14: 10681.26 | S14: 62.46 | T14: =SUM(Q14-R14) -> 4309.74 | W14: =SUM(Q13:Q15) -> 53769.91 | X14: =SUM(R13:R15) -> 38568.11 | Y14: =SUM(W14-X14) -> 15201.8
A15: 7 | B15: 700209 | C15: 679 | D15: Демонтаж теплокамер | F15: 2012 | G15: 30834.91 | H15: 22355.23 | I15: 128.48 | J15: - | K15: - | L15: - | M15: - | N15: - | O15: - | P15: - | Q15: 30834.91 | R15: 22226.75 | S15: 128.48 | T15: =SUM(Q15-R15) -> 8608.16 | U15: =SUM(Q13+Q14+Q15+Q18) -> 132514.63 | Y15: =SUM(Q18-R18) -> 12253.77
A16: 8 | B16: 700222 | C16: 687 | D16: Дитячі майданчики | F16: 2013 | G16: 47811.11 | H16: 43864.81 | I16: 63.65 | J16: - | K16: - | L16: - | M16: - | N16: - | O16: - | P16: - | Q16: 47811.11 | R16: 43801.16 | S16: 63.65 | T16: =SUM(Q16-R16) -> 4009.95
A17: 9 | B17: 700251 | C17: 705 | D17: Дитячі майданчики | F17: 2013 | G17: 115884.58 | H17: 89327.83 | I17: 482.85 | J17: - | K17: - | L17: - | M17: - | N17: - | O17: - | P17: - | Q17: 115884.58 | R17: 88844.98 | S17: 482.85 | T17: =SUM(Q17-R17) -> 27039.6 | U17: =SUM(Q16:Q17) -> 163695.69 | V17: =SUM(R16:R17) -> 132646.14 | W17: =SUM(S16:S17) -> 546.5 | X17: =SUM(T16:T17) -> 31049.55 | Y17: =SUM(U16:U17) -> 163695.69
A18: 10 | B18: 700266 | C18: 721 | D18: Демонтаж теплокамер | F18: 2014 | G18: 78744.72 | H18: 66819.06 | I18: 328.11 | J18: - | K18: - | L18: - | M18: - | N18: - | O18: - | P18: - | Q18: 78744.72 | R18: 66490.95 | S18: 328.11 | T18: =SUM(Q18-R18) -> 12253.77
A19: 11 | B19: 700273 | C19: 730 | D19: Миколи Лисенка вулиця | F19: 2015 | G19: 457599 | H19: 401243.69 | I19: 1906.67 | J19: - | K19: - | L19: - | M19: - | N19: - | O19: - | P19: - | Q19: 457599 | R19: 399337.02 | S19: 1906.67 | T19: =SUM(Q19-R19) -> 58261.98 | U19: =SUM(Q11+Q19+Q20) -> 520103.8 | V19: 304698.4
A20: 12 | B20: 700274 | C20: 731 | D20: Миколи Леонтовича вулиця | F20: 2015 | G20: 56847.4 | H20: 49721.96 | I20: 236.86 | J20: - | K20: - | L20: - | M20: - | N20: - | O20: - | P20: - | Q20: 56847.4 | R20: 49485.1 | S20: 236.86 | T20: =SUM(Q20-R20) -> 7362.3 | V20: 242025.32 | Z20: 55668.4
A21: 13 | B21: 700275 | C21: 739 | D21: Дитячі майданчики | F21: 2016 | G21: 815413.01 | H21: 744483.52 | I21: 3397.57 | J21: - | K21: - | L21: - | M21: - | N21: - | O21: - | P21: - | Q21: 815413.01 | R21: 741085.95 | S21: 3397.57 | T21: =SUM(Q21-R21) -> 74327.06 | V21: =SUM(V19:V20) -> 546723.72 | W21: =SUM(V21-U19) -> 26619.92 | X21: =SUM(Q13+Q14) -> 22935 | Z21: =SUM(Q20-Z20) -> 1179
A22: 14 | B22: 700276 | C22: 743 | D22: Дитячі майданчики | F22: 2017 | G22: 9720 | H22: 9288 | I22: 40.5 | J22: - | K22: - | L22: - | M22: - | N22: - | O22: - | P22: - | Q22: 9720 | R22: 9247.5 | S22: 40.5 | T22: =SUM(Q22-R22) -> 472.5 | U22: =SUM(Q22/6) -> 1620 | V22: =SUM(R22/6) -> 1541.25 | W22: =SUM(S22/6) -> 6.75 | X22: =SUM(T22/6) -> 78.75
A23: 15 | B23: 700281 | C23: 745 | D23: Миколи Леонтовича вулиця | E23: 22 | F23: 2017 | G23: 73784 | H23: 71939.42 | I23: 307.43 | J23: - | K23: - | L23: - | M23: - | N23: - | O23: - | P23: - | Q23: 73784 | R23: 71631.99 | S23: 307.43 | T23: =SUM(Q23-R23) -> 2152.01 | U23: =SUM(U22+Q30) -> 205395.67 | V23: =SUM(V22+R30) -> 198284.36 | W23: =SUM(W22+S30) -> 885.82 | X23: =SUM(X22+T30) -> 7111.31 | Z23: 249030
A24: 16 | B24: 700282 | C24: 746 | D24: Дитячі майданчики | F24: 2017 | G24: 234634.83 | H24: 227791.28 | I24: 977.65 | J24: - | K24: - | L24: - | M24: - | N24: - | O24: - | P24: - | Q24: 234634.83 | R24: 226813.63 | S24: 977.65 | T24: =SUM(Q24-R24) -> 7821.2 | U24: =SUM(Q24+U22) -> 236254.83 | V24: =SUM(R24+V22) -> 228354.88 | W24: =SUM(S24+W22) -> 984.4 | X24: =SUM(T24+X22) -> 7899.95 | Z24: =SUM(Z20+Z23) -> 304698.4
A25: 17 | B25: 700283 | C25: 747 | D25: Дитячі майданчики | F25: 2107 | G25: 235113.17 | H25: 228255.69 | I25: 979.64 | J25: - | K25: - | L25: - | M25: - | N25: - | O25: - | P25: - | Q25: 235113.17 | R25: 227276.05 | S25: 979.64 | T25: =SUM(Q25-R25) -> 7837.12 | U25: =SUM(Q25+U22) -> 236733.17 | V25: =SUM(R25+V22) -> 228817.3 | W25: =SUM(S25+W22) -> 986.39 | X25: =SUM(T25+X22) -> 7915.87 | Z25: 207405
A26: 18 | B26: 700284 | C26: 748 | D26: Дитячі майданчики | F26: 2107 | G26: 133022.33 | H26: 129142.51 | I26: 554.26 | J26: - | K26: - | L26: - | M26: - | N26: - | O26: - | P26: - | Q26: 133022.33 | R26: 128588.25 | S26: 554.26 | T26: =SUM(Q26-R26) -> 4434.08 | Z26: =SUM(Z23+Z25) -> 456435
A27: 19 | B27: 700285 | C27: 749 | D27: Дитячі майданчики | F27: 2107 | G27: 176121.67 | H27: 170984.79 | I27: 733.84 | J27: - | K27: - | L27: - | M27: - | N27: - | O27: - | P27: - | Q27: 176121.67 | R27: 170250.95 | S27: 733.84 | T27: =SUM(Q27-R27) -> 5870.72 | U27: =SUM(Q27+U22) -> 177741.67 | V27: =SUM(R27+V22) -> 171792.2 | W27: =SUM(S27+W22) -> 740.59 | X27: =SUM(T27+X22) -> 5949.47 | Z27: =SUM(Q19-Z26) -> 1164
A28: 20 | B28: 700286 | C28: 750 | D28: Дитячі майданчики | F28: 2107 | G28: 162411.77 | H28: 157674.73 | I28: 676.72 | J28: - | K28: - | L28: - | M28: - | N28: - | O28: - | P28: - | Q28: 162411.77 | R28: 156998.01 | S28: 676.72 | T28: =SUM(Q28-R28) -> 5413.76 | U28: =SUM(Q28+U22) -> 164031.77 | V28: =SUM(R28+V22) -> 158539.26 | W28: =SUM(S28+W22) -> 683.47 | X28: =SUM(T28+X22) -> 5492.51
A29: 21 | B29: 700287 | C29: 752 | D29: Лавочки | F29: 2107 | G29: 83333.33 | H29: 78472.25 | I29: 694.44 | J29: - | K29: - | L29: - | M29: - | N29: - | O29: - | P29: - | Q29: 83333.33 | R29: 77777.81 | S29: 694.44 | T29: =SUM(Q29-R29) -> 5555.52 | U29: =SUM(U23+U24+U25+U26+U27+U28) -> 1020157.1 | V29: =SUM(V23+V24+V25+V26+V27+V28) -> 985788 | W29: =SUM(W23+W24+W25+W26+W27+W28) -> 4280.67 | X29: =SUM(X23+X24+X25+X26+X27+X28) -> 34369.11
A30: 22 | B30: 700287 | C30: 751 | D30: Дитячі майданчики | F30: 2107 | G30: 203775.67 | H30: 197622.18 | I30: 879.07 | J30: - | K30: - | L30: - | M30: - | N30: - | O30: - | P30: - | Q30: 203775.67 | R30: 196743.11 | S30: 879.07 | T30: =SUM(Q30-R30) -> 7032.56 | U30: =SUM(Q22+Q24+Q25+Q26+Q27+Q28+Q30) -> 1154799.4
A31: 23 | B31: 700288 | C31: 753 | D31: Миколи Лисенка вулиця | E31: підїздні ш | F31: 2017 | G31: 246666.7 | H31: 238033.39 | I31: 1233.33 | J31: - | K31: - | L31: - | M31: - | N31: - | O31: - | P31: - | Q31: 246666.7 | R31: 236800.06 | S31: 1233.33 | T31: =SUM(Q31-R31) -> 9866.64
A32: 24 | B32: 700289 | C32: 754 | D32: Гетьмана Івана Мазепи вулиця | E32: підїздні ш | F32: 2017 | G32: 222184 | H32: 214407.56 | I32: 1110.92 | J32: - | K32: - | L32: - | M32: - | N32: - | O32: - | P32: - | Q32: 222184 | R32: 213296.64 | S32: 1110.92 | T32: =SUM(Q32-R32) -> 8887.36 | U32: 1020157.1
A33: 25 | B33: 700290 | C33: 755 | D33: Миколи Леонтовича вулиця | E33: підїздні ш | F33: 2017 | G33: 46639.25 | H33: 45667.6 | I33: 194.33 | J33: - | K33: - | L33: - | M33: - | N33: - | O33: - | P33: - | Q33: 46639.25 | R33: 45473.27 | S33: 194.33 | T33: =SUM(Q33-R33) -> 1165.98 | U33: =SUM(Q22+Q24+Q25+Q26+Q27+Q28+Q30) -> 1154799.4
F34: РАЗОМ: | G34: 3618756.3 | H34: 3318048.6 | I34: 15693.8 | J34: - | K34: - | L34: - | M34: - | N34: - | O34: - | P34: - | Q34: 3618756.3 | R34: 3302354.8 | S34: 15693.8 | T34: =SUM(Q34-R34) -> 316401.47 | U34: =SUM(U30-U32) -> 134642.33
U35: =SUM(U34-U22) -> 133022.33
F36: ВСЬОГО: | G36: 3632817.5 | H36: 3320589.9 | I36: 15710.3 | M36: - | N36: - | O36: - | P36: - | Q36: 3632817.5 | R36: 3304879.6 | S36: 15710.3
U37: =SUM(Q26+U22) -> 134642.33 | V37: =SUM(R26+V22) -> 130129.5 | W37: =SUM(S26+W22) -> 561.01 | X37: =SUM(T26+X22) -> 4512.83 | Y37: =SUM(U37-V37) -> 4512.83
U38: =ROUND((U37*0.3333333),2) -> 44880.77 | V38: =ROUND((V37*0.3333333),2) -> 43376.5 | W38: =ROUND((W37*0.3333333),2) -> 187 | X38: =ROUND((X37*0.3333333),2) -> 1504.28 | Y38: =SUM(U38-V38) -> 1504.27
U39: =ROUND((U37*0.6666667),2) -> 89761.56 | V39: =ROUND((V37*0.6666667),2) -> 86753 | W39: =ROUND((W37*0.6666667),2) -> 374.01 | X39: =ROUND((X37*0.6666667),2) -> 3008.55 | Y39: =SUM(U39-V39) -> 3008.56
U40: =SUM(U37-U38-U39) -> 0 | V40: =SUM(V37-V38-V39) -> 0 | W40: =SUM(W37-W38-W39) -> 0 | X40: =SUM(X37-X38-X39) -> -1.2732926e-11 | Y40: =SUM(Y37-Y38-Y39) -> -7.2759576e-12
U41: 44880.77 | V41: 0.33 | X41: 44880.77
U42: 89761.56 | V42: 0.67 | X42: 163695.69
U43: =SUM(U41:U42) -> 134642.33 | X43: 815413.01
X44: 1020157.1
V45: =SUM(U39-V39) -> 3008.56 | X45: 159622.42
X46: 89761.56
W48: =SUM(Q12+Q16+Q17+Q21+Q22+Q24+Q25+Q26+Q27+Q28+Q30) -> 2293530.6 | X48: =SUM(X41:X46) -> 2293530.6

Sheet нежитло
A1: ОСНОВНІ ЗАСОБИ. ОБОРОТНА ВІДОМІСТЬ
D2: за період | E2: Червень 2018-Червень 2018
D3: Нежитло
A5: № | B5: інв. | D5: адреса | F5: рік вводу | G5: первісна вартість | H5: залишкова вартість | I5: амортизація | J5: індексація | M5: донараховано | N5: донараховано | O5: вибуло | P5: вибуло | Q5: первісна | R5: залишкова | S5: аморт. | T5: знос
A6: п/п | B6: номер | C6: код | D6: вулиця | E6: буд. | F6: в експл. | G6: на початок | H6: на початок | J6: первісна | K6: залишкова | L6: амортизація | M6: первісної | N6: залишкової | O6: первісної | P6: залишкової | Q6: на кінець | R6: на кінець
A7: 1 | B7: 100495 | C7: 222 | D7: Євгена Коновальця вулиця | E7: 27 | F7: 1939 | G7: 3839.64 | H7: - | I7: - | J7: - | K7: - | L7: - | M7: - | N7: - | O7: - | P7: - | Q7: 3839.64 | R7: - | S7: -
A8: 3 | B8: 100504 | C8: 225 | D8: Театральна вулиця | E8: 13 15 17 | F8: 1939 | G8: 10086.29 | H8: 1122.86 | I8: 8.61 | J8: - | K8: - | L8: - | M8: - | N8: - | O8: - | P8: - | Q8: 10086.29 | R8: 1114.25 | S8: 8.61 | T8: =SUM(Q8-R8) -> 8972.04
A9: 4 | B9: 100517 | C9: 227 | D9: Вячеслава Чорновола вулиця | E9: 49 | F9: 1939 | G9: 5760.82 | H9: - | I9: - | J9: - | K9: - | L9: - | M9: - | N9: - | O9: - | P9: - | Q9: 5760.82 | R9: - | S9: -
A10: 5 | B10: 100523 | C10: 228 | D10: Вячеслава Чорновола вулиця | E10: 53 | F10: 1939 | G10: 298.37 | H10: - | I10: - | J10: - | K10: - | L10: - | M10: - | N10: - | O10: - | P10: - | Q10: 298.37 | R10: - | S10: -
A11: 6 | B11: 100532 | C11: 229 | D11: Iвана Вагилевича вулиця | E11: 3 | F11: 1939 | G11: 3067.1 | H11: - | I11: - | J11: - | K11: - | L11: - | M11: - | N11: - | O11: - | P11: - | Q11: 3067.1 | R11: - | S11: -
A12: 7 | B12: 100539 | C12: 231 | D12: Олекси Довбуша вулиця | E12: 19б | F12: 1970 | G12: 284.01 | H12: - | I12: - | J12: - | K12: - | L12: - | M12: - | N12: - | O12: - | P12: - | Q12: 284.01 | R12: - | S12: -
A13: 8 | B13: 100545 | C13: 234 | D13: Михайла Драгоманова вулиця | E13: 3б | F13: 1948 | G13: 5729.51 | H13: 2131.62 | I13: 5.96 | J13: - | K13: - | L13: - | M13: - | N13: - | O13: - | P13: - | Q13: 5729.51 | R13: 2125.66 | S13: 5.96 | T13: =SUM(Q13-R13) -> 3603.85
A14: 11 | B14: 100924 | C14: 241 | D14: Романа Шухевича вулиця | E14: 78 | F14: 1919 | G14: 16994.42 | H14: 2591.77 | I14: 14.9 | J14: - | K14: - | L14: - | M14: - | N14: - | O14: - | P14: - | Q14: 16994.42 | R14: 2576.87 | S14: 14.9 | T14: =SUM(Q14-R14) -> 14417.55
A15: 13 | B15: 101919 | C15: 245 | D15: Ринок площа | E15: 1 | F15: 1960 | G15: 49025 | H15: 32138.37 | I15: 64.02 | J15: - | K15: - | L15: - | M15: - | N15: - | O15: - | P15: - | Q15: 49025 | R15: 32074.35 | S15: 64.02 | T15: =SUM(Q15-R15) -> 16950.65
A16: 15 | B16: 101923 | C16: 248 | D16: Ринок площа | E16: 1 | F16: 1975 | G16: 118344 | H16: 52451.84 | I16: 138.76 | J16: - | K16: - | L16: - | M16: - | N16: - | O16: - | P16: - | Q16: 118344 | R16: 52313.08 | S16: 138.76 | T16: =SUM(Q16-R16) -> 66030.92
A17: 16 | B17: 101925 | C17: 250 | D17: Лесi Українки бульвар | E17: 47 | F17: 1950 | G17: 1019780 | H17: 550046.24 | I17: 1329.92 | J17: - | K17: - | L17: - | M17: - | N17: - | O17: - | P17: - | Q17: 1019780 | R17: 548716.32 | S17: 1329.92 | T17: =SUM(Q17-R17) -> 471063.68
A18: 17 | B18: 101926 | C18: 251 | D18: Лесi Українки бульвар | E18: 47 | F18: 1950 | G18: 1710 | H18: - | I18: - | J18: - | K18: - | L18: - | M18: - | N18: - | O18: - | P18: - | Q18: 1710 | R18: - | S18: -
A19: 18 | B19: 101927 | C19: 728 | D19: Вячеслава Чорновола вулиця | E19: 3/1 | F19: 2001 | G19: 475 | H19: - | I19: - | J19: - | K19: - | L19: - | M19: - | N19: - | O19: - | P19: - | Q19: 475 | R19: - | S19: -
A20: 20 | B20: 101929 | C20: 757 | D20: Гетьмана Івана Мазепи вулиця | E20: 4 | F20: 1898 | G20: 5801 | H20: - | I20: - | J20: - | K20: - | L20: - | M20: - | N20: - | O20: - | P20: - | Q20: 5801 | R20: - | S20: -
A21: 21 | B21: 200259 | C21: 332 | D21: Василя Стефаника вулиця | E21: 5а | F21: 1970 | G21: 1614.83 | H21: - | I21: - | J21: - | K21: - | L21: - | M21: - | N21: - | O21: - | P21: - | Q21: 1614.83 | R21: - | S21: -
A22: 22 | B22: 200263 | C22: 333 | D22: Старомiська вулиця | E22: 5а | F22: 1970 | G22: 141540 | H22: 51450.58 | I22: 82.72 | J22: - | K22: - | L22: - | M22: - | N22: - | O22: - | P22: - | Q22: 141540 | R22: 51367.86 | S22: 82.72 | T22: =SUM(Q22-R22) -> 90172.14
A23: 23 | B23: 200266 | C23: 334 | D23: Старомiська вулиця | E23: 5а | F23: 1970 | G23: 9795.31 | H23: 4191.3 | I23: 6.74 | J23: - | K23: - | L23: - | M23: - | N23: - | O23: - | P23: - | Q23: 9795.31 | R23: 4184.56 | S23: 6.74 | T23: =SUM(Q23-R23) -> 5610.75
A24: 24 | B24: 200287 | C24: 336 | D24: Володимира Гнатюка вулиця | E24: 35а | F24: 1960 | G24: 5383.37 | H24: 2363.4 | I24: 4.61 | J24: - | K24: - | L24: - | M24: - | N24: - | O24: - | P24: - | Q24: 5383.37 | R24: 2358.79 | S24: 4.61 | T24: =SUM(Q24-R24) -> 3024.58
A25: 30 | B25: 300508 | C25: 461 | D25: Андрiя Чайковського вулиця | E25: 33 | F25: 1948 | G25: 38874.46 | H25: 4659.05 | I25: 12.97 | J25: - | K25: - | L25: - | M25: - | N25: - | O25: - | P25: - | Q25: 38874.46 | R25: 4646.08 | S25: 12.97 | T25: =SUM(Q25-R25) -> 34228.38
A26: 31 | B26: 400304 | C26: 535 | D26: Михайла Грушевського проспект | E26: 41 | F26: 1939 | G26: 6417.5 | H26: - | I26: - | J26: - | K26: - | L26: - | M26: - | N26: - | O26: - | P26: - | Q26: 6417.5 | R26: - | S26: -
A27: 32 | B27: 400308 | C27: 536 | D27: Симона Петлюри вулиця | E27: 45 | F27: 1930 | G27: 19454.6 | H27: - | I27: - | J27: - | K27: - | L27: - | M27: - | N27: - | O27: - | P27: - | Q27: 19454.6 | R27: - | S27: -
A28: 33 | B28: 400309 | C28: 537 | D28: Олександра Пушкiна вулиця | E28: 3 | F28: 1948 | G28: 27495.96 | H28: - | I28: - | J28: - | K28: - | L28: - | M28: - | N28: - | O28: - | P28: - | Q28: 27495.96 | R28: - | S28: -
A29: 36 | B29: 500001 | C29: 550 | D29: Старомiська вулиця | E29: 5а | F29: 1970 | G29: 636.27 | H29: - | I29: - | J29: - | K29: - | L29: - | M29: - | N29: - | O29: - | P29: - | Q29: 636.27 | R29: - | S29: -
A30: 37 | B30: 500002 | C30: 551 | D30: Старомiська вулиця | E30: 5а | F30: 1970 | G30: 5474.36 | H30: 1792.69 | I30: 2.88 | J30: - | K30: - | L30: - | M30: - | N30: - | O30: - | P30: - | Q30: 5474.36 | R30: 1789.81 | S30: 2.88 | T30: =SUM(Q30-R30) -> 3684.55
A31: 38 | B31: 500003 | C31: 552 | D31: Володимира Гнатюка вулиця | E31: 35а | F31: 1970 | G31: 308.5 | H31: - | I31: - | J31: - | K31: - | L31: - | M31: - | N31: - | O31: - | P31: - | Q31: 308.5 | R31: - | S31: -
A32: 39 | B32: 500007 | C32: 553 | D32: Старомiська вулиця | E32: 5а | F32: 1970 | G32: 4670 | H32: 4051.77 | I32: 6.51 | J32: - | K32: - | L32: - | M32: - | N32: - | O32: - | P32: - | Q32: 4670 | R32: 4045.26 | S32: 6.51 | T32: =SUM(Q32-R32) -> 624.74
A33: 40 | B33: 500008 | C33: 554 | D33: Старомiська вулиця | E33: 5а | F33: 1970 | G33: 12808 | H33: 11673.52 | I33: 11.33 | J33: - | K33: - | L33: - | M33: - | N33: - | O33: - | P33: - | Q33: 12808 | R33: 11662.19 | S33: 11.33 | T33: =SUM(Q33-R33) -> 1145.81
A34: 42 | B34: 700077 | C34: 613 | D34: Iвана Франка вулиця | E34: 83 | F34: 1939 | G34: 274476 | H34: - | I34: - | J34: - | K34: - | L34: - | M34: - | N34: - | O34: - | P34: - | Q34: 274476 | R34: - | S34: -
A35: 43 | B35: 700078 | C35: 614 | D35: Iвана Франка вулиця | E35: 83 | F35: 1939 | G35: 25604 | H35: - | I35: - | J35: - | K35: - | L35: - | M35: - | N35: - | O35: - | P35: - | Q35: 25604 | R35: - | S35: -
A36: 44 | B36: 700218 | C36: 684 | D36: Вячеслава Чорновола вулиця | E36: 25 | F36: 2013 | G36: 30000 | H36: 24285.44 | I36: 89.29 | J36: - | K36: - | L36: - | M36: - | N36: - | O36: - | P36: - | Q36: 30000 | R36: 24196.15 | S36: 89.29 | T36: =SUM(Q36-R36) -> 5803.85
A37: 45 | B37: 700262 | C37: 717 | D37: Iвана Франка вулиця | E37: 6 | F37: 2014 | G37: 1582000 | H37: 1501016.8 | I37: 1883.33 | J37: - | K37: - | L37: - | M37: - | N37: - | O37: - | P37: - | Q37: 1582000 | R37: 1499133.5 | S37: 1883.33 | T37: =SUM(Q37-R37) -> 82866.52
A38: 46 | B38: 700263 | C38: 718 | D38: Iвана Франка вулиця | E38: 6А | F38: 2014 | G38: 930400 | H38: 882772.34 | I38: 1107.62 | J38: - | K38: - | L38: - | M38: - | N38: - | O38: - | P38: - | Q38: 930400 | R38: 881664.72 | S38: 1107.62 | T38: =SUM(Q38-R38) -> 48735.28
A39: 47 | B39: 700264 | C39: 719 | D39: Iвана Франка вулиця | E39: 6Б | F39: 2014 | G39: 40950 | H39: 38853.75 | I39: 48.75 | J39: - | K39: - | L39: - | M39: - | N39: - | O39: - | P39: - | Q39: 40950 | R39: 38805 | S39: 48.75 | T39: =SUM(Q39-R39) -> 2145
A40: 48 | B40: 700265 | C40: 720 | D40: Iвана Франка вулиця | E40: 6В | F40: 2014 | G40: 17000 | H40: 16129.68 | I40: 20.24 | J40: - | K40: - | L40: - | M40: - | N40: - | O40: - | P40: - | Q40: 17000 | R40: 16109.44 | S40: 20.24 | T40: =SUM(Q40-R40) -> 890.56
A41: 51 | B41: 700278 | C41: 737 | D41: Вiдродження площа | E41: 14 | F41: 1939 | G41: 71304.45 | H41: 70567.13 | I41: 212.22 | J41: - | K41: - | L41: - | M41: - | N41: - | O41: - | P41: - | Q41: 71304.45 | R41: 70354.91 | S41: 212.22 | T41: =SUM(Q41-R41) -> 949.54
F42: РАЗОМ: | G42: 4487402.8 | H42: 3254290.2 | I42: 5051.38 | J42: - | K42: - | L42: - | M42: - | N42: - | O42: - | P42: - | Q42: 4487402.8 | R42: 3249238.8 | S42: 5051.38 | T42: =SUM(Q42-R42) -> 1238164
F44: РАЗОМ: | G44: - | H44: - | I44: - | J44: - | K44: - | L44: - | M44: - | N44: - | O44: - | P44: - | Q44: - | R44: - | S44: -
F46: ВСЬОГО: | G46: 4487402.8 | H46: 3254290.2 | I46: 5051.38 | M46: - | N46: - | O46: - | P46: - | Q46: 4487402.8 | R46: 3249238.8 | S46: 5051.38
A48: зайвий капітальний ремонт рахується на балансі
A49: =SUM(A43+1) -> 1 | B49: 700228 | C49: 691 | D49: Театральна вулиця | E49: 15 | F49: 2013 | G49: 40693.44 | H49: 33473.9 | I49: 121.12 | J49: - | K49: - | L49: - | M49: - | N49: - | O49: - | P49: - | Q49: 40693.44 | R49: 33352.78 | S49: 121.12 | T49: =SUM(Q49-R49) -> 7340.66
Q50: =SUM(Q49+Q8) -> 50779.73 | R50: =SUM(R49+R8) -> 34467.03 | S50: =SUM(S49+S8) -> 129.73 | T50: =SUM(T49+T8) -> 16312.7

Sheet каналіз
A1: ОСНОВНІ ЗАСОБИ. ОБОРОТНА ВІДОМІСТЬ
D2: за період | E2: Червень 2018-Червень 2018
D3: Дощова каналізація (К1)
A5: № | B5: інв. | D5: адреса | F5: рік вводу | G5: первісна вартість | H5: залишкова вартість | I5: амортизація | J5: індексація | M5: донараховано | N5: донараховано | O5: вибуло | P5: вибуло | Q5: первісна | R5: залишкова | S5: аморт. | T5: знос
A6: п/п | B6: номер | C6: код | D6: вулиця | E6: буд. | F6: в експл. | G6: на початок | H6: на початок | J6: первісна | K6: залишкова | L6: амортизація | M6: первісної | N6: залишкової | O6: первісної | P6: залишкової | Q6: на кінець | R6: на кінець
A7: 1 | B7: 700029 | C7: 577 | D7: Миколи Леонтовича вулиця | F7: 2011 | G7: 80577.31 | H7: 62447.08 | I7: 223.83 | J7: - | K7: - | L7: - | M7: - | N7: - | O7: - | P7: - | Q7: 80577.31 | R7: 62223.25 | S7: 223.83 | T7: =SUM(Q7-R7) -> 18354.06
A8: 2 | B8: 700060 | C8: 602 | D8: Миколи Леонтовича вулиця | F8: 2011 | G8: 96066.92 | H8: 74985.77 | I8: 266.85 | J8: - | K8: - | L8: - | M8: - | N8: - | O8: - | P8: - | Q8: 96066.92 | R8: 74718.92 | S8: 266.85 | T8: =SUM(Q8-R8) -> 21348
A9: 3 | B9: 700071 | C9: 608 | D9: Миколи Леонтовича вулиця | F9: 2012 | G9: 65022.92 | H9: 51295.8 | I9: 180.62 | J9: - | K9: - | L9: - | M9: - | N9: - | O9: - | P9: - | Q9: 65022.92 | R9: 51115.18 | S9: 180.62 | T9: =SUM(Q9-R9) -> 13907.74
A10: 4 | B10: 700095 | C10: 627 | D10: Миколи Леонтовича вулиця | F10: 2012 | G10: 38794.79 | H10: 31040.13 | I10: 107.76 | J10: - | K10: - | L10: - | M10: - | N10: - | O10: - | P10: - | Q10: 38794.79 | R10: 30932.37 | S10: 107.76 | T10: =SUM(Q10-R10) -> 7862.42
F11: РАЗОМ: | G11: 280461.94 | H11: 219768.78 | I11: 779.06 | J11: - | K11: - | L11: - | M11: - | N11: - | O11: - | P11: - | Q11: 280461.94 | R11: 218989.72 | S11: 779.06 | T11: =SUM(Q11-R11) -> 61472.22
A13: 5 | B13: 700061 | C13: 603 | D13: Миколи Леонтовича вулиця | F13: 1983 | G13: 31705 | H13: 24748.26 | I13: 88.06 | J13: - | K13: - | L13: - | M13: - | N13: - | O13: - | P13: - | Q13: 31705 | R13: 24660.2 | S13: 88.06 | T13: =SUM(Q13-R13) -> 7044.8
F14: РАЗОМ: | G14: 31705 | H14: 24748.26 | I14: 88.06 | J14: - | K14: - | L14: - | M14: - | N14: - | O14: - | P14: - | Q14: 31705 | R14: 24660.2 | S14: 88.06 | T14: =SUM(Q14-R14) -> 7044.8
F16: ВСЬОГО: | G16: 312166.94 | H16: 244517.04 | I16: 867.12 | M16: - | N16: - | O16: - | P16: - | Q16: 312166.94 | R16: 243649.92 | S16: 867.12 | T16: =SUM(Q16-R16) -> 68517.02
F19: 2011 | Q19: =SUM(Q7+Q8) -> 176644.23 | R19: =SUM(R7+R8) -> 136942.17 | S19: =SUM(S7+S8) -> 490.68 | T19: =SUM(T7+T8) -> 39702.06
F20: 2012 | Q20: =SUM(Q9+Q10) -> 103817.71 | R20: =SUM(R9+R10) -> 82047.55 | S20: =SUM(S9+S10) -> 288.38 | T20: =SUM(T9+T10) -> 21770.16
F21: 1983 | Q21: =SUM(Q13) -> 31705 | R21: =SUM(R13) -> 24660.2 | S21: =SUM(S13) -> 88.06 | T21: =SUM(T13) -> 7044.8

Sheet 108
A1: ОСНОВНІ ЗАСОБИ. ОБОРОТНА ВІДОМІСТЬ
C2: за період | D2: Червень 2018
C3: 108
A5: № | C5: найменування | D5: МВО | E5: підрозділ | F5: рік вводу | G5: первісна вартість | H5: залишкова вартість | I5: амортизація | J5: донараховано | K5: донараховано | L5: вибуло | M5: вибуло | N5: первісна | O5: залишкова | P5: аморт. | Q5: знос
A6: п/п | B6: інв.номер | F6: в експл. | G6: на початок | H6: на початок | J6: первісної | K6: залишкової | L6: первісної | M6: залишкової | N6: на кінець | O6: на кінець
A7: 1 | B7: 10800001 | C7: Дуб | D7: Марфей Мирослав Васильович (Озеленення) | E7: Тех.дільниця №2 | F7: 1939 | G7: 96 | H7: - | I7: - | J7: - | K7: - | L7: - | M7: - | N7: 96 | O7: 0 | P7: - | Q7: =SUM(N7-O7) -> 96
A8: 2 | B8: 10800002 | C8: Ясен | D8: Марфей Мирослав Васильович (Озеленення) | E8: Тех.дільниця №2 | F8: 1939 | G8: 96 | H8: - | I8: - | J8: - | K8: - | L8: - | M8: - | N8: 96 | O8: 0 | P8: - | Q8: =SUM(N8-O8) -> 96
A9: 3 | B9: 10800003 | C9: Саженці клена (17шт) | D9: Марфей Мирослав Васильович (Озеленення) | F9: 2017 | G9: 22100 | H9: 21179.45 | I9: 184.11 | J9: - | K9: - | L9: - | M9: - | N9: 22100 | O9: 20995.34 | P9: 184.11 | Q9: =SUM(N9-O9) -> 1104.66
A10: 4 | B10: 10800004 | C10: Саженці катальпа (18шт) | D10: Марфей Мирослав Васильович (Озеленення) | F10: 2017 | G10: 5400 | H10: 5175 | I10: 45 | J10: - | K10: - | L10: - | M10: - | N10: 5400 | O10: 5130 | P10: 45 | Q10: =SUM(N10-O10) -> 270
F11: РАЗОМ: | G11: 27692 | H11: 26354.45 | I11: 229.11 | J11: - | K11: - | L11: - | M11: - | N11: 27692 | O11: 26125.34 | P11: 229.11 | Q11: =SUM(N11-O11) -> 1566.66
