Workbook

Sheet Лист1
A1: ОСНОВНІ ЗАСОБИ. ОБОРОТНА ВІДОМІСТЬ
D2: за період | E2: Червень 2018-Червень 2018
D3: Житлові будинки
A5: № | B5: інв. | D5: адреса | F5: рік вводу | G5: первісна вартість | H5: залишкова вартість | I5: амортизація | J5: індексація | M5: донараховано | N5: донараховано | O5: вибуло | P5: вибуло | Q5: первісна вартість | R5: залишкова вартість | S5: амортизація
A6: п/п | B6: номер | C6: код | D6: вулиця | E6: буд. | F6: в експл. | G6: на початок | H6: на початок | J6: первісна | K6: залишкова | L6: амортизація | M6: первісної | N6: залишкової | O6: первісної | P6: залишкової | Q6: на кінець | R6: на кінець
A7: 1 | B7: 100002 | C7: 1 | D7: Лесi Українки бульвар | E7: 12 | F7: 1971 | G7: 1882677.7 | H7: 809868.76 | I7: 1288.15 | J7: - | K7: - | L7: - | M7: - | N7: - | O7: - | P7: - | Q7: 1882677.7 | R7: 808580.61 | S7: 1288.15
A8: 3 | B8: 100005 | C8: 3 | D8: Романа Шухевича вулиця | E8: 3 | F8: 1960 | G8: 344116.87 | H8: 123550.95 | I8: 249.56 | J8: - | K8: - | L8: - | M8: - | N8: - | O8: - | P8: - | Q8: 344116.87 | R8: 123301.39 | S8: 249.56
A9: 4 | B9: 100006 | C9: 4 | D9: Валова вулиця | E9: 45 | F9: 1975 | G9: 166683.28 | H9: 62137.06 | I9: 97.16 | J9: - | K9: - | L9: - | M9: - | N9: - | O9: - | P9: - | Q9: 166683.28 | R9: 62039.9 | S9: 97.16
A10: 9 | B10: 100011 | C10: 9 | D10: Пекарська вулиця | E10: 8 | F10: 1982 | G10: 1993280 | H10: 861225.36 | I10: 1131.11 | J10: - | K10: - | L10: - | M10: - | N10: - | O10: - | P10: - | Q10: 1993280 | R10: 860094.25 | S10: 1131.11
A11: 10 | B11: 100012 | C11: 10 | D11: Михайла Грушевського проспект | E11: 46 | F11: 1986 | G11: 132650.72 | H11: 53370.26 | I11: 70.54 | J11: - | K11: - | L11: - | M11: - | N11: - | O11: - | P11: - | Q11: 132650.72 | R11: 53299.72 | S11: 70.54
A12: 22 | B12: 100028 | C12: 23 | D12: Театральна вулиця | E12: 21 | F12: 1940 | G12: 158530.26 | H12: 29686.87 | I12: 114.78 | J12: - | K12: - | L12: - | M12: - | N12: - | O12: - | P12: - | Q12: 158530.26 | R12: 29572.09 | S12: 114.78
A13: 26 | B13: 100033 | C13: 27 | D13: Театральна вулиця | E13: 32 | F13: 1939 | G13: 186813.95 | H13: 38128.02 | I13: 154.64 | J13: - | K13: - | L13: - | M13: - | N13: - | O13: - | P13: - | Q13: 186813.95 | R13: 37973.38 | S13: 154.64
A14: 28 | B14: 100036 | C14: 29 | D14: Театральна вулиця | E14: 44 | F14: 1939 | G14: 244965.75 | H14: 43373.74 | I14: 174.92 | J14: - | K14: - | L14: - | M14: - | N14: - | O14: - | P14: - | Q14: 244965.75 | R14: 43198.82 | S14: 174.92
A15: 36 | B15: 100049 | C15: 37 | D15: Тараса Шевченка вулиця | E15: 21 | F15: 1948 | G15: 735613.92 | H15: 166780.77 | I15: 543.48 | J15: - | K15: - | L15: - | M15: - | N15: - | O15: - | P15: - | Q15: 735613.92 | R15: 166237.29 | S15: 543.48
A16: 38 | B16: 100054 | C16: 39 | D16: Тараса Шевченка вулиця | E16: 32 | F16: 1939 | G16: 57170.18 | H16: 8817.16 | I16: 38.38 | J16: - | K16: - | L16: - | M16: - | N16: - | O16: - | P16: - | Q16: 57170.18 | R16: 8778.78 | S16: 38.38
A17: 39 | B17: 100060 | C17: 40 | D17: Вiдродження площа | E17: 2 | F17: 1939 | G17: 708183.91 | H17: 115587.66 | I17: 462.43 | J17: - | K17: - | L17: - | M17: - | N17: - | O17: - | P17: - | Q17: 708183.91 | R17: 115125.23 | S17: 462.43
A18: 46 | B18: 100067 | C18: 47 | D18: Вiдродження площа | E18: 10 | F18: 1939 | G18: 61016.47 | H18: 10174.39 | I18: 42.43 | J18: - | K18: - | L18: - | M18: - | N18: - | O18: - | P18: - | Q18: 61016.47 | R18: 10131.96 | S18: 42.43
... A44: 184 | B44: 100303 | C44: 185 | D44: Валова вулиця | E44: 59 | F44: 1986 | G44: 101027.96 | H44: 39749.66 | I44: 56.15 | J44: - | K44: - | L44: - | M44: - | N44: - | O44: - | P44: - | Q44: 101027.96 | R44: 39693.51 | S44: 56.15
A45: 188 | B45: 100318 | C45: 189 | D45: Гетьманська вулиця | E45: 11а | F45: 1948 | G45: 44448.38 | H45: 10110.75 | I45: 28.19 | J45: - | K45: - | L45: - | M45: - | N45: - | O45: - | P45: - | Q45: 44448.38 | R45: 10082.56 | S45: 28.19
A46: 189 | B46: 100324 | C46: 190 | D46: Гетьманська вулиця | E46: 32 | F46: 1939 | G46: 78579.98 | H46: 21912.75 | I46: 92.65 | J46: - | K46: - | L46: - | M46: - | N46: - | O46: - | P46: - | Q46: 78579.98 | R46: 21820.1 | S46: 92.65
A47: 200 | B47: 100362 | C47: 201 | D47: Михайла Лермонтова вулиця | E47: 19 | F47: 1939 | G47: 43534.27 | H47: 6747.7 | I47: 29.23 | J47: - | K47: - | L47: - | M47: - | N47: - | O47: - | P47: - | Q47: 43534.27 | R47: 6718.47 | S47: 29.23
A48: 207 | B48: 100383 | C48: 208 | D48: Старогончарна вулиця | E48: 40 | F48: 1939 | G48: 180013.83 | H48: 11854.39 | I48: 76.69 | J48: - | K48: - | L48: - | M48: - | N48: - | O48: - | P48: - | Q48: 180013.83 | R48: 11777.7 | S48: 76.69
A49: 212 | B49: 100410 | C49: 214 | D49: Михайла Павлика вулиця | E49: 16 | F49: 1939 | G49: 103869.53 | H49: 10960.22 | I49: 72.54 | J49: - | K49: - | L49: - | M49: - | N49: - | O49: - | P49: - | Q49: 103869.53 | R49: 10887.68 | S49: 72.54
A50: 213 | B50: 100421 | C50: 215 | D50: Кринична вулиця | E50: 54 | F50: 1939 | G50: 109154.89 | H50: 8312.01 | I50: 54.51 | J50: - | K50: - | L50: - | M50: - | N50: - | O50: - | P50: - | Q50: 109154.89 | R50: 8257.5 | S50: 54.51
A51: 215 | B51: 100432 | C51: 217 | D51: Олекси Довбуша вулиця | E51: 29 | F51: 1939 | G51: 15519 | H51: 4274.79 | I51: 28.17 | J51: - | K51: - | L51: - | M51: - | N51: - | O51: - | P51: - | Q51: 15519 | R51: 4246.62 | S51: 28.17
A52: 217 | B52: 100459 | C52: 219 | D52: Кирила Блонського вулиця | E52: 16 | F52: 1939 | G52: 72437.02 | H52: 3919.68 | I52: 25.4 | J52: - | K52: - | L52: - | M52: - | N52: - | O52: - | P52: - | Q52: 72437.02 | R52: 3894.28 | S52: 25.4
A53: 227 | B53: 100926 | C53: 243 | D53: Лесi Українки бульвар | E53: 7 | F53: 1901 | G53: 3752.55 | H53: - | I53: - | J53: - | K53: - | L53: - | M53: - | N53: - | O53: - | P53: - | Q53: 3752.55 | R53: - | S53: -
A54: 228 | B54: 101922 | C54: 247 | D54: Адама Мiцкевича вулиця | E54: 4а | F54: 1939 | G54: 241183.04 | H54: 153215.16 | I54: 992.36 | J54: - | K54: - | L54: - | M54: - | N54: - | O54: - | P54: - | Q54: 241183.04 | R54: 152222.8 | S54: 992.36
A55: 229 | B55: 101924 | C55: 249 | D55: Сотнi Кривоноса вулиця | E55: 55 | F55: 1988 | G55: 302340.65 | H55: 225595.27 | I55: 261.04 | J55: - | K55: - | L55: - | M55: - | N55: - | O55: - | P55: - | Q55: 302340.65 | R55: 225334.23 | S55: 261.04
A56: 231 | B56: 200005 | C56: 253 | D56: Дмитра Яворницького вулиця | E56: 26 | F56: 1983 | G56: 153700.56 | H56: 59288.32 | I56: 83.33 | J56: - | K56: - | L56: - | M56: - | N56: - | O56: - | P56: - | Q56: 153700.56 | R56: 59204.99 | S56: 83.33
A57: 232 | B57: 200006 | C57: 254 | D57: Дмитра Яворницького вулиця | E57: 22 | F57: 1984 | G57: 175382.51 | H57: 68925.2 | I57: 93.33 | J57: - | K57: - | L57: - | M57: - | N57: - | O57: - | P57: - | Q57: 175382.51 | R57: 68831.87 | S57: 93.33
A58: 233 | B58: 200012 | C58: 255 | D58: Василя Стефаника вулиця | E58: 2а | F58: 1975 | G58: 1794671.8 | H58: 698233.29 | I58: 1030.77 | J58: - | K58: - | L58: - | M58: - | N58: - | O58: - | P58: - | Q58: 1794671.8 | R58: 697202.52 | S58: 1030.77
A59: 234 | B59: 200013 | C59: 256 | D59: Iвана Богуна вулиця | E59: 26 | F59: 1977 | G59: 1619796.9 | H59: 639517.31 | I59: 911.6 | J59: - | K59: - | L59: - | M59: - | N59: - | O59: - | P59: - | Q59: 1619796.9 | R59: 638605.71 | S59: 911.6
A60: 235 | B60: 200014 | C60: 257 | D60: Iвана Богуна вулиця | E60: 30 | F60: 1977 | G60: 859138.53 | H60: 336596.02 | I60: 481.89 | J60: - | K60: - | L60: - | M60: - | N60: - | O60: - | P60: - | Q60: 859138.53 | R60: 336114.13 | S60: 481.89
A61: 236 | B61: 200015 | C61: 258 | D61: Iвана Богуна вулиця | E61: 32 | F61: 1977 | G61: 993252.95 | H61: 390939.35 | I61: 557.56 | J61: - | K61: - | L61: - | M61: - | N61: - | O61: - | P61: - | Q61: 993252.95 | R61: 390381.79 | S61: 557.56
A62: 237 | B62: 200016 | C62: 259 | D62: Iвана Богуна вулиця | E62: 10 | F62: 1982 | G62: 392451.15 | H62: 157195.4 | I62: 211.37 | J62: - | K62: - | L62: - | M62: - | N62: - | O62: - | P62: - | Q62: 392451.15 | R62: 156984.03 | S62: 211.37
A63: 238 | B63: 200017 | C63: 260 | D63: Iвана Богуна вулиця | E63: 18 | F63: 1978 | G63: 567005.91 | H63: 228912.4 | I63: 325.18 | J63: - | K63: - | L63: - | M63: - | N63: - | O63: - | P63: - | Q63: 567005.91 | R63: 228587.22 | S63: 325.18
A64: 239 | B64: 200018 | C64: 261 | D64: Iвана Богуна вулиця | E64: 40 | F64: 1981 | G64: 777104.31 | H64: 128788.45 | I64: 172.07 | J64: - | K64: - | L64: - | M64: - | N64: - | O64: - | P64: - | Q64: 777104.31 | R64: 128616.38 | S64: 172.07
A65: 240 | B65: 200020 | C65: 262 | D65: Iвана Богуна вулиця | E65: 36 | F65: 1980 | G65: 2020540.5 | H65: 837470.39 | I65: 1141.33 | J65: - | K65: - | L65: - | M65: - | N65: - | O65: - | P65: - | Q65: 2020540.5 | R65: 836329.06 | S65: 1141.33
A66: 241 | B66: 200021 | C66: 263 | D66: Iвана Богуна вулиця | E66: 34 | F66: 1980 | G66: 792087.16 | H66: 318059.4 | I66: 430.73 | J66: - | K66: - | L66: - | M66: - | N66: - | O66: - | P66: - | Q66: 792087.16 | R66: 317628.67 | S66: 430.73
...

Sheet Лист2
A1: ОСНОВНІ ЗАСОБИ. ОБОРОТНА ВІДОМІСТЬ
D2: за період | E2: Червень 2018-Червень 2018
D3: Капітальний ремонт (К)
A5: № | B5: інв. | D5: адреса | F5: рік вводу | G5: первісна вартість | H5: залишкова вартість | I5: амортизація | J5: індексація | M5: донараховано | N5: донараховано | O5: вибуло | P5: вибуло | Q5: первісна вартість | R5: залишкова вартість | S5: амортизація
A6: п/п | B6: номер | C6: код | D6: вулиця | E6: буд. | F6: в експл. | G6: на початок | H6: на початок | J6: первісна | K6: залишкова | L6: амортизація | M6: первісної | N6: залишкової | O6: первісної | P6: залишкової | Q6: на кінець | R6: на кінець
A7: 1 | B7: 100071 | C7: 712 | D7: Вiдродження площа | E7: 19 | F7: 1939 | G7: 66.42 | H7: 52.79 | I7: 0.2 | J7: - | K7: - | L7: - | M7: - | N7: - | O7: - | P7: - | Q7: 66.42 | R7: 52.59 | S7: 0.2
A8: 2 | B8: 700001 | C8: 557 | D8: Iвана Крип'якевича вулиця | E8: 36 | F8: 1990 | G8: 1240.69 | H8: 1025.32 | I8: 1.31 | J8: - | K8: - | L8: - | M8: - | N8: - | O8: - | P8: - | Q8: 1240.69 | R8: 1024.01 | S8: 1.31
A9: 3 | B9: 700002 | C9: 558 | D9: Миколи Леонтовича вулиця | E9: 10 | F9: 1989 | G9: 24175.02 | H9: 21954.39 | I9: 25.83 | J9: - | K9: - | L9: - | M9: - | N9: - | O9: - | P9: - | Q9: 24175.02 | R9: 21928.56 | S9: 25.83
A10: 5 | B10: 700004 | C10: 560 | D10: Миколи Леонтовича вулиця | E10: 26 | F10: 1990 | G10: 3450.7 | H10: 2973.22 | I10: 3.6 | J10: - | K10: - | L10: - | M10: - | N10: - | O10: - | P10: - | Q10: 3450.7 | R10: 2969.62 | S10: 3.6
A11: 6 | B11: 700005 | C11: 561 | D11: Сiчових Стрiльцiв вулиця | E11: 39 | F11: 1989 | G11: 1634.98 | H11: 1387.9 | I11: 1.89 | J11: - | K11: - | L11: - | M11: - | N11: - | O11: - | P11: - | Q11: 1634.98 | R11: 1386.01 | S11: 1.89
A12: 7 | B12: 700006 | C12: 562 | D12: Миколи Леонтовича вулиця | E12: 4 | F12: 1989 | G12: 1252.58 | H12: 1086.58 | I12: 1.15 | J12: - | K12: - | L12: - | M12: - | N12: - | O12: - | P12: - | Q12: 1252.58 | R12: 1085.43 | S12: 1.15
A13: 8 | B13: 700007 | C13: 563 | D13: Миколи Леонтовича вулиця | E13: 18 | F13: 1990 | G13: 2937.61 | H13: 2588.25 | I13: 3.1 | J13: - | K13: - | L13: - | M13: - | N13: - | O13: - | P13: - | Q13: 2937.61 | R13: 2585.15 | S13: 3.1
A14: 9 | B14: 700008 | C14: 564 | D14: Iвана Богуна вулиця | E14: 10 | F14: 1982 | G14: 4074.95 | H14: 3595.7 | I14: 4.73 | J14: - | K14: - | L14: - | M14: - | N14: - | O14: - | P14: - | Q14: 4074.95 | R14: 3590.97 | S14: 4.73
A15: 11 | B15: 700013 | C15: 566 | D15: Миколи Леонтовича вулиця | E15: 22 | F15: 1988 | G15: 630.43 | H15: 553.09 | I15: 1.32 | J15: - | K15: - | L15: - | M15: - | N15: - | O15: - | P15: - | Q15: 630.43 | R15: 551.77 | S15: 1.32
A16: 12 | B16: 700014 | C16: 567 | D16: Миколи Леонтовича вулиця | E16: 24 | F16: 1988 | G16: 1791.69 | H16: 1583.99 | I16: 1.92 | J16: - | K16: - | L16: - | M16: - | N16: - | O16: - | P16: - | Q16: 1791.69 | R16: 1582.07 | S16: 1.92
A17: 13 | B17: 700015 | C17: 568 | D17: Миколи Леонтовича вулиця | E17: 20 | F17: 1987 | G17: 115.1 | H17: 94.77 | I17: 0.12 | J17: - | K17: - | L17: - | M17: - | N17: - | O17: - | P17: - | Q17: 115.1 | R17: 94.65 | S17: 0.12
A18: 14 | B18: 700016 | C18: 569 | D18: Миколи Леонтовича вулиця | E18: 8 | F18: 1989 | G18: 233.45 | H18: 187.44 | I18: 0.25 | J18: - | K18: - | L18: - | M18: - | N18: - | O18: - | P18: - | Q18: 233.45 | R18: 187.19 | S18: 0.25
... A52: 65 | B52: 700099 | C52: 629 | D52: Андрiя Чайковського вулиця | E52: 44 | F52: 2012 | G52: 4250.29 | H52: 3742.11 | I52: 5.26 | J52: - | K52: - | L52: - | M52: - | N52: - | O52: - | P52: - | Q52: 4250.29 | R52: 3736.85 | S52: 5.26
A53: 68 | B53: 700103 | C53: 632 | D53: Полковника Семена Палiя вулиця | E53: 26а | F53: 2012 | G53: 576.95 | H53: 394.47 | I53: 2.21 | J53: - | K53: - | L53: - | M53: - | N53: - | O53: - | P53: - | Q53: 576.95 | R53: 392.26 | S53: 2.21
A54: 70 | B54: 700115 | C54: 634 | D54: Полковника Семена Палiя вулиця | E54: 20 | F54: 2012 | G54: 492.6 | H54: 383.55 | I54: 0.79 | J54: - | K54: - | L54: - | M54: - | N54: - | O54: - | P54: - | Q54: 492.6 | R54: 382.76 | S54: 0.79
A55: 71 | B55: 700116 | C55: 635 | D55: Полковника Семена Палiя вулиця | E55: 30 | F55: 2012 | G55: 989.65 | H55: 887.89 | I55: 0.99 | J55: - | K55: - | L55: - | M55: - | N55: - | O55: - | P55: - | Q55: 989.65 | R55: 886.9 | S55: 0.99
A56: 73 | B56: 700118 | C56: 637 | D56: Миколи Костомарова вулиця | E56: 1 | F56: 2012 | G56: 757.2 | H56: 606.17 | I56: 0.74 | J56: - | K56: - | L56: - | M56: - | N56: - | O56: - | P56: - | Q56: 757.2 | R56: 605.43 | S56: 0.74
A57: 74 | B57: 700119 | C57: 638 | D57: Гетьмана Івана Мазепи вулиця | E57: 268 | F57: 2012 | G57: 949.49 | H57: 806.5 | I57: 1.04 | J57: - | K57: - | L57: - | M57: - | N57: - | O57: - | P57: - | Q57: 949.49 | R57: 805.46 | S57: 1.04
A58: 75 | B58: 700120 | C58: 639 | D58: Симона Петлюри вулиця | E58: 38 | F58: 2012 | G58: 3816.43 | H58: 3422.95 | I58: 4.29 | J58: - | K58: - | L58: - | M58: - | N58: - | O58: - | P58: - | Q58: 3816.43 | R58: 3418.66 | S58: 4.29
A59: 76 | B59: 700121 | C59: 640 | D59: Сiчових Стрiльцiв вулиця | E59: 27 | F59: 2012 | G59: 1688.01 | H59: 1563.31 | I59: 2.1 | J59: - | K59: - | L59: - | M59: - | N59: - | O59: - | P59: - | Q59: 1688.01 | R59: 1561.21 | S59: 2.1
A60: 77 | B60: 700122 | C60: 641 | D60: Сiчових Стрiльцiв вулиця | E60: 29 | F60: 2012 | G60: 3349.48 | H60: 3057.6 | I60: 4.04 | J60: - | K60: - | L60: - | M60: - | N60: - | O60: - | P60: - | Q60: 3349.48 | R60: 3053.56 | S60: 4.04
A61: 78 | B61: 700123 | C61: 642 | D61: Валова вулиця | E61: 59 | F61: 2012 | G61: 598.16 | H61: 485.49 | I61: 0.66 | J61: - | K61: - | L61: - | M61: - | N61: - | O61: - | P61: - | Q61: 598.16 | R61: 484.83 | S61: 0.66
A62: 79 | B62: 700124 | C62: 643 | D62: Iвана Богуна вулиця | E62: 32 | F62: 2012 | G62: 3313.31 | H62: 3117.29 | I62: 4.18 | J62: - | K62: - | L62: - | M62: - | N62: - | O62: - | P62: - | Q62: 3313.31 | R62: 3113.11 | S62: 4.18
A63: 80 | B63: 700125 | C63: 644 | D63: Iвана Богуна вулиця | E63: 30 | F63: 2012 | G63: 2953.35 | H63: 2727.99 | I63: 3.73 | J63: - | K63: - | L63: - | M63: - | N63: - | O63: - | P63: - | Q63: 2953.35 | R63: 2724.26 | S63: 3.73
A64: 81 | B64: 700126 | C64: 645 | D64: Iвана Богуна вулиця | E64: 18 | F64: 2012 | G64: 4198.56 | H64: 3919.41 | I64: 5.22 | J64: - | K64: - | L64: - | M64: - | N64: - | O64: - | P64: - | Q64: 4198.56 | R64: 3914.19 | S64: 5.22
A65: 82 | B65: 700127 | C65: 646 | D65: Сiчових Стрiльцiв вулиця | E65: 33 | F65: 2012 | G65: 1085.85 | H65: 937.39 | I65: 1.48 | J65: - | K65: - | L65: - | M65: - | N65: - | O65: - | P65: - | Q65: 1085.85 | R65: 935.91 | S65: 1.48
A66: 83 | B66: 700129 | C66: 647 | D66: Сiчових Стрiльцiв вулиця | E66: 44 | F66: 2012 | G66: 3134.26 | H66: 2797.89 | I66: 4.74 | J66: - | K66: - | L66: - | M66: - | N66: - | O66: - | P66: - | Q66: 3134.26 | R66: 2793.15 | S66: 4.74
A67: 86 | B67: 700134 | C67: 650 | D67: Гетьмана Івана Мазепи вулиця | E67: 298а | F67: 2012 | G67: 457.63 | H67: 379.01 | I67: 0.47 | J67: - | K67: - | L67: - | M67: - | N67: - | O67: - | P67: - | Q67: 457.63 | R67: 378.54 | S67: 0.47
A68: 88 | B68: 700137 | C68: 652 | D68: Гетьмана Івана Мазепи вулиця | E68: 250 | F68: 2012 | G68: 2481.85 | H68: 2223.33 | I68: 2.83 | J68: - | K68: - | L68: - | M68: - | N68: - | O68: - | P68: - | Q68: 2481.85 | R68: 2220.5 | S68: 2.83
A69: 91 | B69: 700141 | C69: 655 | D69: Дмитра Яворницького вулиця | E69: 15 | F69: 2012 | G69: 2834.09 | H69: 1100.18 | I69: 7.25 | J69: - | K69: - | L69: - | M69: - | N69: - | O69: - | P69: - | Q69: 2834.09 | R69: 1092.93 | S69: 7.25
A70: 93 | B70: 700159 | C70: 657 | D70: Гетьмана Івана Мазепи вулиця | E70: 292 | F70: 2012 | G70: 353.67 | H70: 313.85 | I70: 0.37 | J70: - | K70: - | L70: - | M70: - | N70: - | O70: - | P70: - | Q70: 353.67 | R70: 313.48 | S70: 0.37
A71: 94 | B71: 700160 | C71: 658 | D71: Миколи Лисенка вулиця | E71: 2 | F71: 2012 | G71: 579.69 | H71: 527.4 | I71: 0.71 | J71: - | K71: - | L71: - | M71: - | N71: - | O71: - | P71: - | Q71: 579.69 | R71: 526.69 | S71: 0.71
A72: 96 | B72: 700162 | C72: 660 | D72: Iвана Богуна вулиця | E72: 36 | F72: 2012 | G72: 96.06 | H72: 86.98 | I72: 0.12 | J72: - | K72: - | L72: - | M72: - | N72: - | O72: - | P72: - | Q72: 96.06 | R72: 86.86 | S72: 0.12
A73: 97 | B73: 700163 | C73: 661 | D73: Iвана Богуна вулиця | E73: 26 | F73: 2012 | G73: 1163 | H73: 1120.48 | I73: 1.47 | J73: - | K73: - | L73: - | M73: - | N73: - | O73: - | P73: - | Q73: 1163 | R73: 1119.01 | S73: 1.47
A74: 99 | B74: 700165 | C74: 663 | D74: Iвана Богуна вулиця | E74: 42 | F74: 2012 | G74: 13181.57 | H74: 12427.09 | I74: 14.64 | J74: - | K74: - | L74: - | M74: - | N74: - | O74: - | P74: - | Q74: 13181.57 | R74: 12412.45 | S74: 14.64
...

Sheet житло
T1: Додаток №1 | X1: Додаток №1
T2: до рішення виконавчого | X2: до рішення виконавчого
T3: комітету міської ради | X3: комітету міської ради
N4: кап.ремонт | T4: від 07.09.2018р. № 182 | X4: від _______2018р. №___
A6: Перелік протирадіаційних укриттів, підвалів, нежитлових приміщень,
A7: житлових квартир комунальної власності (неприватизованих)
A10: № | B10: інв. | D10: Адреса | F10: площа | G10: рік вводу | H10: первісна вартість | I10: залишкова вартість | J10: аморт. | K10: індексація | N10: донараховано | O10: донараховано | Q10: вибуло | R10: первісна | S10: залишкова вартість | T10: залишкова | U10: аморт. | V10: знос | W10: знос | X10: залишкова вартість | Y10: аморт. | Z10: знос
A11: п/п | B11: номер | C11: код | D11: вулиця | E11: буд. | F11: м2 | G11: в експл. | H11: на початок | I11: на початок | K11: первісна | L11: залишкова | M11: амортизація | N11: первісної | O11: залишкової | P11: аморт. | Q11: залишкової | R11: вартість | T11: вартість
A12: 1 | B12: 100002 | C12: 1 | D12: Лесi Українки бульвар | E12: 12 | F12: =F13 -> 1158.3 | G12: 1971 | H12: =SUM(Лист1!G7) -> 1882677.7 | I12: =SUM(Лист1!H7) -> 809868.76 | J12: =SUM(Лист1!I7) -> 1288.15 | K12: =SUM(Лист1!J7) -> 0 | L12: =SUM(Лист1!K7) -> 0 | M12: =SUM(Лист1!L7) -> 0 | N12: 2382.88 | O12: 2189.3 | P12: 3.31 | Q12: =SUM(Лист1!P7) -> 0 | R12: =SUM(H12+N12) -> 1885060.6 | S12: =SUM(I12+O12-J12) -> 810769.91 | T12: =S12-3*U12 -> 806895.53 | U12: =J12+P12 -> 1291.46 | V12: =R12-T12 -> 1078165 | W12: =SUM(R12-S12) -> 1074290.7 | X12: =SUM(S12-U12) -> 809478.45 | Y12: =SUM(U12) -> 1291.46 | Z12: =SUM(U12+W12) -> 1075582.1 | AA12: =SUM(U12-Y12) -> 0 | AB12: =SUM(S12-X12-U12) -> -3.7289283e-11 | AC12: =SUM(R12-X12-Z12) -> 0
D13: протирадіаційне укриття | F13: 1158.3 | X13: =SUM(S13-U13) -> 0 | Y13: =SUM(U13) -> 0 | Z13: =SUM(U13+W13) -> 0 | AA13: =SUM(U13-Y13) -> 0 | AB13: =SUM(S13-X13-U13) -> 0 | AC13: =SUM(R13-X13-Z13) -> 0
X14: =SUM(S14-U14) -> 0 | Y14: =SUM(U14) -> 0 | Z14: =SUM(U14+W14) -> 0 | AA14: =SUM(U14-Y14) -> 0 | AB14: =SUM(S14-X14-U14) -> 0 | AC14: =SUM(R14-X14-Z14) -> 0
A15: =SUM(A12+1) -> 2 | B15: 100005 | C15: 3 | D15: Романа Шухевича вулиця | E15: 3 | F15: =F16 -> 245.54 | G15: 1960 | H15: =SUM(Лист1!G8) -> 344116.87 | I15: =SUM(Лист1!H8) -> 123550.95 | J15: =SUM(Лист1!I8) -> 249.56 | K15: =SUM(Лист1!J8) -> 0 | L15: =SUM(Лист1!K8) -> 0 | M15: =SUM(Лист1!L8) -> 0 | N15: =SUM(Лист1!M8) -> 0 | O15: =SUM(Лист1!N8) -> 0 | ... Q15: =SUM(Лист1!P8) -> 0 | R15: =SUM(H15+N15) -> 344116.87 | S15: =SUM(I15+O15-J15) -> 123301.39 | T15: =S15-3*U15 -> 122552.71 | U15: =J15+P15 -> 249.56 | V15: =R15-T15 -> 221564.16 | W15: =SUM(R15-S15) -> 220815.48 | X15: =SUM(S15-U15) -> 123051.83 | Y15: =SUM(U15) -> 249.56 | Z15: =SUM(U15+W15) -> 221065.04 | AA15: =SUM(U15-Y15) -> 0 | AB15: =SUM(S15-X15-U15) -> -2.3305802e-12 | AC15: =SUM(R15-X15-Z15) -> 0
D16: протирадіаційне укриття | F16: 245.54 | X16: =SUM(S16-U16) -> 0 | Y16: =SUM(U16) -> 0 | Z16: =SUM(U16+W16) -> 0 | AA16: =SUM(U16-Y16) -> 0 | AB16: =SUM(S16-X16-U16) -> 0 | AC16: =SUM(R16-X16-Z16) -> 0
X17: =SUM(S17-U17) -> 0 | Y17: =SUM(U17) -> 0 | Z17: =SUM(U17+W17) -> 0 | AA17: =SUM(U17-Y17) -> 0 | AB17: =SUM(S17-X17-U17) -> 0 | AC17: =SUM(R17-X17-Z17) -> 0
A18: =SUM(A15+1) -> 3 | B18: 100006 | C18: 4 | D18: Валова вулиця | E18: 45 | F18: 92 | G18: 1975 | H18: =SUM(Лист1!G9) -> 166683.28 | I18: =SUM(Лист1!H9) -> 62137.06 | J18: =SUM(Лист1!I9) -> 97.16 | K18: =SUM(Лист1!J9) -> 0 | L18: =SUM(Лист1!K9) -> 0 | M18: =SUM(Лист1!L9) -> 0 | N18: 898.41 | O18: 774.99 | P18: 1.16 | Q18: =SUM(Лист1!P9) -> 0 | R18: =SUM(H18+N18) -> 167581.69 | S18: =SUM(I18+O18-J18) -> 62814.89 | T18: =S18-3*U18 -> 62519.93 | U18: =J18+P18 -> 98.32 | V18: =R18-T18 -> 105061.76 | W18: =SUM(R18-S18) -> 104766.8 | X18: =SUM(S18-U18) -> 62716.57 | Y18: =SUM(U18) -> 98.32 | Z18: =SUM(U18+W18) -> 104865.12 | AA18: =SUM(U18-Y18) -> 0 | AB18: =SUM(S18-X18-U18) -> -2.8421709e-13 | AC18: =SUM(R18-X18-Z18) -> -1.4551915e-11
D19: неприватизовані квартири | X19: =SUM(S19-U19) -> 0 | Y19: =SUM(U19) -> 0 | Z19: =SUM(U19+W19) -> 0 | AA19: =SUM(U19-Y19) -> 0 | AB19: =SUM(S19-X19-U19) -> 0 | AC19: =SUM(R19-X19-Z19) -> 0
D20: №7 | F20: 37.3 | R20: =R18/F18*F20 -> 67943.446 | S20: =S18/F18*F20 -> 25467.341 | T20: =T$18/F$18*F20 -> 25347.754 | V20: =R20-T20 -> 42595.692 | W20: =W18/F18*F20 -> 42476.105 | X20: =SUM(S20-U20) -> 25467.341 | Y20: =SUM(U20) -> 0 | Z20: =SUM(U20+W20) -> 42476.105 | AA20: =SUM(U20-Y20) -> 0 | AB20: =SUM(S20-X20-U20) -> 0 | AC20: =SUM(R20-X20-Z20) -> -7.2759576e-12
D21: №14 | F21: 54.7 | R21: =R18/F18*F21 -> 99638.244 | S21: =S18/F18*F21 -> 37347.549 | T21: =T$18/F$18*F21 -> 37172.176 | V21: =R21-T21 -> 62466.068 | W21: =W18/F18*F21 -> 62290.695 | X21: =SUM(S21-U21) -> 37347.549 | Y21: =SUM(U21) -> 0 | Z21: =SUM(U21+W21) -> 62290.695 | AA21: =SUM(U21-Y21) -> 0 | AB21: =SUM(S21-X21-U21) -> 0 | AC21: =SUM(R21-X21-Z21) -> -7.2759576e-12
X22: =SUM(S22-U22) -> 0 | Y22: =SUM(U22) -> 0 | Z22: =SUM(U22+W22) -> 0 | AA22: =SUM(U22-Y22) -> 0 | AB22: =SUM(S22-X22-U22) -> 0 | AC22: =SUM(R22-X22-Z22) -> 0
A23: =SUM(A18+1) -> 4 | B23: 100011 | C23: 9 | D23: Пекарська вулиця | E23: 8 | F23: =F24 -> 884.4 | G23: 1982 | H23: =SUM(Лист1!G10) -> 1993280 | I23: =SUM(Лист1!H10) -> 861225.36 | J23: =SUM(Лист1!I10) -> 1131.11 | K23: =SUM(Лист1!J10) -> 0 | L23: =SUM(Лист1!K10) -> 0 | M23: =SUM(Лист1!L10) -> 0 | N23: 3531.3 | O23: 3280.2 | P23: 4.14 | Q23: =SUM(Лист1!P10) -> 0 | R23: =SUM(H23+N23) -> 1996811.3 | S23: =SUM(I23+O23-J23) -> 863374.45 | T23: =S23-3*U23 -> 859968.7 | U23: =J23+P23 -> 1135.25 | V23: =R23-T23 -> 1136842.6 | W23: =SUM(R23-S23) -> 1133436.8 | X23: =SUM(S23-U23) -> 862239.2 | Y23: =SUM(U23) -> 1135.25 | Z23: =SUM(U23+W23) -> 1134572.1 | AA23: =SUM(U23-Y23) -> 0 | AB23: =SUM(S23-X23-U23) -> 0 | AC23: =SUM(R23-X23-Z23) -> 0
D24: протирадіаційне укриття | F24: 884.4 | X24: =SUM(S24-U24) -> 0 | Y24: =SUM(U24) -> 0 | Z24: =SUM(U24+W24) -> 0 | AA24: =SUM(U24-Y24) -> 0 | AB24: =SUM(S24-X24-U24) -> 0 | AC24: =SUM(R24-X24-Z24) -> 0
X25: =SUM(S25-U25) -> 0 | Y25: =SUM(U25) -> 0 | Z25: =SUM(U25+W25) -> 0 | AA25: =SUM(U25-Y25) -> 0 | AB25: =SUM(S25-X25-U25) -> 0 | AC25: =SUM(R25-X25-Z25) -> 0
A26: =SUM(A23+1) -> 5 | B26: 100012 | C26: 10 | D26: Михайла Грушевського проспект | E26: 46 | F26: =F27 -> 57.1 | G26: 1986 | H26: =SUM(Лист1!G11) -> 132650.72 | I26: =SUM(Лист1!H11) -> 53370.26 | J26: =SUM(Лист1!I11) -> 70.54 | K26: =SUM(Лист1!J11) -> 0 | L26: =SUM(Лист1!K11) -> 0 | M26: =SUM(Лист1!L11) -> 0 | N26: 69.48 | O26: 59.24 | P26: 0.08 | Q26: =SUM(Лист1!P11) -> 0 | R26: =SUM(H26+N26) -> 132720.2 | S26: =SUM(I26+O26-J26) -> 53358.96 | T26: =S26-3*U26 -> 53147.1 | U26: =J26+P26 -> 70.62 | V26: =R26-T26 -> 79573.1 | W26: =SUM(R26-S26) -> 79361.24 | X26: =SUM(S26-U26) -> 53288.34 | Y26: =SUM(U26) -> 70.62 | Z26: =SUM(U26+W26) -> 79431.86 | AA26: =SUM(U26-Y26) -> 0 | AB26: =SUM(S26-X26-U26) -> 2.6147973e-12 | AC26: =SUM(R26-X26-Z26) -> 0
D27: неприватизована квартира №45 | F27: 57.1 | X27: =SUM(S27-U27) -> 0 | Y27: =SUM(U27) -> 0 | Z27: =SUM(U27+W27) -> 0 | AA27: =SUM(U27-Y27) -> 0 | AB27: =SUM(S27-X27-U27) -> 0 | AC27: =SUM(R27-X27-Z27) -> 0
X28: =SUM(S28-U28) -> 0 | Y28: =SUM(U28) -> 0 | Z28: =SUM(U28+W28) -> 0 | AA28: =SUM(U28-Y28) -> 0 | AB28: =SUM(S28-X28-U28) -> 0 | AC28: =SUM(R28-X28-Z28) -> 0
A29: =SUM(A26+1) -> 6 | B29: 100028 | C29: 23 | D29: Театральна вулиця | E29: 21 | F29: =F30 -> 88.9 | G29: 1940 | H29: =SUM(Лист1!G12) -> 158530.26 | I29: =SUM(Лист1!H12) -> 29686.87 | J29: =SUM(Лист1!I12) -> 114.78 | K29: =SUM(Лист1!J12) -> 0 | L29: =SUM(Лист1!K12) -> 0 | M29: =SUM(Лист1!L12) -> 0 | N29: =SUM(Лист1!M12) -> 0 | O29: =SUM(Лист1!N12) -> 0 | ... Q29: =SUM(Лист1!P12) -> 0 | R29: =SUM(H29+N29) -> 158530.26 | S29: =SUM(I29+O29-J29) -> 29572.09 | T29: =S29-3*U29 -> 29227.75 | U29: =J29+P29 -> 114.78 | V29: =R29-T29 -> 129302.51 | W29: =SUM(R29-S29) -> 128958.17 | X29: =SUM(S29-U29) -> 29457.31 | Y29: =SUM(U29) -> 114.78 | Z29: =SUM(U29+W29) -> 129072.95 | AA29: =SUM(U29-Y29) -> 0 | AB29: =SUM(S29-X29-U29) -> -1.1652901e-12 | AC29: =SUM(R29-X29-Z29) -> 0
D30: нежитлове приміщення | F30: 88.9 | X30: =SUM(S30-U30) -> 0 | Y30: =SUM(U30) -> 0 | Z30: =SUM(U30+W30) -> 0 | AA30: =SUM(U30-Y30) -> 0 | AB30: =SUM(S30-X30-U30) -> 0 | AC30: =SUM(R30-X30-Z30) -> 0
X31: =SUM(S31-U31) -> 0 | Y31: =SUM(U31) -> 0 | Z31: =SUM(U31+W31) -> 0 | AA31: =SUM(U31-Y31) -> 0 | AB31: =SUM(S31-X31-U31) -> 0 | AC31: =SUM(R31-X31-Z31) -> 0
A32: =SUM(A29+1) -> 7 | B32: 100033 | C32: 27 | D32: Театральна вулиця | E32: 32 | F32: =F33 -> 118 | G32: 1939 | H32: =SUM(Лист1!G13) -> 186813.95 | I32: =SUM(Лист1!H13) -> 38128.02 | J32: =SUM(Лист1!I13) -> 154.64 | R32: =SUM(H32+N32) -> 186813.95 | S32: =SUM(I32+O32-J32) -> 37973.38 | T32: =S32-3*U32 -> 37509.46 | U32: =J32+P32 -> 154.64 | V32: =R32-T32 -> 149304.49 | W32: =SUM(R32-S32) -> 148840.57 | X32: =SUM(S32-U32) -> 37818.74 | Y32: =SUM(U32) -> 154.64 | Z32: =SUM(U32+W32) -> 148995.21 | AA32: =SUM(U32-Y32) -> 0 | AB32: =SUM(S32-X32-U32) -> -5.6843419e-13 | AC32: =SUM(R32-X32-Z32) -> 0
D33: протирадіаційне укриття | F33: 118 | X33: =SUM(S33-U33) -> 0 | Y33: =SUM(U33) -> 0 | Z33: =SUM(U33+W33) -> 0 | AA33: =SUM(U33-Y33) -> 0 | AB33: =SUM(S33-X33-U33) -> 0 | AC33: =SUM(R33-X33-Z33) -> 0
X34: =SUM(S34-U34) -> 0 | Y34: =SUM(U34) -> 0 | Z34: =SUM(U34+W34) -> 0 | AA34: =SUM(U34-Y34) -> 0 | AB34: =SUM(S34-X34-U34) -> 0 | AC34: =SUM(R34-X34-Z34) -> 0
A35: =SUM(A32+1) -> 8 | B35: 100036 | C35: 29 | D35: Театральна вулиця | E35: 44 | F35: =F36 -> 90 | G35: 1939 | H35: =SUM(Лист1!G14) -> 244965.75 | I35: =SUM(Лист1!H14) -> 43373.74 | J35: =SUM(Лист1!I14) -> 174.92 | N35: 7611.41 | O35: 6092.57 | P35: 22.66 | R35: =SUM(H35+N35) -> 252577.16 | S35: =SUM(I35+O35-J35) -> 49291.39 | T35: =S35-3*U35 -> 48698.65 | U35: =J35+P35 -> 197.58 | V35: =R35-T35 -> 203878.51 | W35: =SUM(R35-S35) -> 203285.77 | X35: =SUM(S35-U35) -> 49093.81 | Y35: =SUM(U35) -> 197.58 | Z35: =SUM(U35+W35) -> 203483.35 | AA35: =SUM(U35-Y35) -> 0 | AB35: =SUM(S35-X35-U35) -> 1.762146e-12 | AC35: =SUM(R35-X35-Z35) -> 0
D36: протирадіаційне укриття | F36: 90 | X36: =SUM(S36-U36) -> 0 | Y36: =SUM(U36) -> 0 | Z36: =SUM(U36+W36) -> 0 | AA36: =SUM(U36-Y36) -> 0 | AB36: =SUM(S36-X36-U36) -> 0 | AC36: =SUM(R36-X36-Z36) -> 0
X37: =SUM(S37-U37) -> 0 | Y37: =SUM(U37) -> 0 | Z37: =SUM(U37+W37) -> 0 | AA37: =SUM(U37-Y37) -> 0 | AB37: =SUM(S37-X37-U37) -> 0 | AC37: =SUM(R37-X37-Z37) -> 0
A38: =SUM(A35+1) -> 9 | B38: 100049 | C38: 37 | D38: Тараса Шевченка вулиця | E38: 21 | F38: =SUM(F39:F40) -> 305.7 | G38: 1948 | H38: =SUM(Лист1!G15) -> 735613.92 | I38: =SUM(Лист1!H15) -> 166780.77 | J38: =SUM(Лист1!I15) -> 543.48 | R38: =SUM(H38+N38) -> 735613.92 | S38: =SUM(I38+O38-J38) -> 166237.29 | T38: =S38-3*U38 -> 164606.85 | U38: =J38+P38 -> 543.48 | V38: =R38-T38 -> 571007.07 | W38: =SUM(R38-S38) -> 569376.63 | X38: =SUM(S38-U38) -> 165693.81 | Y38: =SUM(U38) -> 543.48 | Z38: =SUM(U38+W38) -> 569920.11 | AA38: =SUM(U38-Y38) -> 0 | AB38: =SUM(S38-X38-U38) -> 1.0459189e-11 | AC38: =SUM(R38-X38-Z38) -> 0
D39: нежитлове приміщення | F39: 24.2 | R39: =R38/F38*F39 -> 58233.094 | S39: =S38/F38*F39 -> 13159.772 | T39: =T38/F$38*F$39 -> 13030.703 | U39: =J39+P39 -> 0 | V39: =R39-T39 -> 45202.392 | W39: =W38/F38*F39 -> 45073.322 | X39: =SUM(S39-U39) -> 13159.772 | Y39: =SUM(U39) -> 0 | Z39: =SUM(U39+W39) -> 45073.322 | AA39: =SUM(U39-Y39) -> 0 | AB39: =SUM(S39-X39-U39) -> 0 | AC39: =SUM(R39-X39-Z39) -> -7.2759576e-12
D40: протирадіаційне укриття | F40: 281.5 | R40: =R38/F38*F40 -> 677380.83 | S40: =S38/F38*F40 -> 153077.52 | T40: =T39/F$38*F$39 -> 1031.544 | U40: =J40+P40 -> 0 | V40: =R40-T40 -> 676349.28 | W40: =W38/F38*F40 -> 524303.31 | X40: =SUM(S40-U40) -> 153077.52 | Y40: =SUM(U40) -> 0 | Z40: =SUM(U40+W40) -> 524303.31 | AA40: =SUM(U40-Y40) -> 0 | AB40: =SUM(S40-X40-U40) -> 0 | AC40: =SUM(R40-X40-Z40) -> -1.1641532e-10
X41: =SUM(S41-U41) -> 0 | Y41: =SUM(U41) -> 0 | Z41: =SUM(U41+W41) -> 0 | AA41: =SUM(U41-Y41) -> 0 | AB41: =SUM(S41-X41-U41) -> 0 | AC41: =SUM(R41-X41-Z41) -> 0
A42: =SUM(A38+1) -> 10 | B42: 100054 | C42: 39 | D42: Тараса Шевченка вулиця | E42: 32 | F42: =F43 -> 29.3 | G42: 1939 | H42: =SUM(Лист1!G16) -> 57170.18 | I42: =SUM(Лист1!H16) -> 8817.16 | J42: =SUM(Лист1!I16) -> 38.38 | R42: =SUM(H42+N42) -> 57170.18 | S42: =SUM(I42+O42-J42) -> 8778.78 | T42: =S42-3*U42 -> 8663.64 | U42: =J42+P42 -> 38.38 | V42: =R42-T42 -> 48506.54 | W42: =SUM(R42-S42) -> 48391.4 | X42: =SUM(S42-U42) -> 8740.4 | Y42: =SUM(U42) -> 38.38 | Z42: =SUM(U42+W42) -> 48429.78 | AA42: =SUM(U42-Y42) -> 0 | AB42: =SUM(S42-X42-U42) -> -8.0291329e-13 | AC42: =SUM(R42-X42-Z42) -> 0
D43: неприватизована квартира №2 | F43: 29.3 | X43: =SUM(S43-U43) -> 0 | Y43: =SUM(U43) -> 0 | Z43: =SUM(U43+W43) -> 0 | AA43: =SUM(U43-Y43) -> 0 | AB43: =SUM(S43-X43-U43) -> 0 | AC43: =SUM(R43-X43-Z43) -> 0
...

Sheet благоустрій
A1: ОСНОВНІ ЗАСОБИ. ОБОРОТНА ВІДОМІСТЬ
D2: за період | E2: Червень 2018-Червень 2018
D3: Благоустрій
A5: № | B5: інв. | D5: адреса | F5: рік вводу | G5: первісна вартість | H5: залишкова вартість | I5: амортизація | J5: індексація | M5: донараховано | N5: донараховано | O5: вибуло | P5: вибуло | Q5: первісна | R5: залишкова | S5: аморт. | T5: знос
A6: п/п | B6: номер | C6: код | D6: вулиця | E6: буд. | F6: в експл. | G6: на початок | H6: на початок | J6: первісна | K6: залишкова | L6: амортизація | M6: первісної | N6: залишкової | O6: первісної | P6: залишкової | Q6: на кінець | R6: на кінець
A7: 1 | B7: 100566 | C7: 236 | D7: Михайла Грушевського проспект | E7: 46 | F7: 1986 | G7: 7951 | H7: 1422.76 | I7: 9.24 | J7: - | K7: - | L7: - | M7: - | N7: - | O7: - | P7: - | Q7: 7951 | R7: 1413.52 | S7: 9.24 | T7: =SUM(Q7-R7) -> 6537.48
A8: 2 | B8: 100567 | C8: 237 | D8: Василя Стуса вулиця | E8: 10 | F8: 1948 | G8: 6110.18 | H8: 1118.55 | I8: 7.26 | J8: - | K8: - | L8: - | M8: - | N8: - | O8: - | P8: - | Q8: 6110.18 | R8: 1111.29 | S8: 7.26 | T8: =SUM(Q8-R8) -> 4998.89
F9: РАЗОМ: | G9: 14061.18 | H9: 2541.31 | I9: 16.5 | J9: - | K9: - | L9: - | M9: - | N9: - | O9: - | P9: - | Q9: 14061.18 | R9: 2524.81 | S9: 16.5 | T9: =SUM(Q9-R9) -> 11536.37
A11: 3 | B11: 201919 | C11: 729 | D11: Iвана Богуна вулиця | E11: 36 | F11: 2015 | G11: 5657.4 | H11: 5440.6 | I11: 6.83 | J11: - | K11: - | L11: - | M11: - | N11: - | O11: - | P11: - | Q11: 5657.4 | R11: 5433.77 | S11: 6.83 | T11: =SUM(Q11-R11) -> 223.63
A12: 4 | B12: 700072 | C12: 609 | D12: Дитячі майданчики | F12: 2012 | G12: 159622.42 | H12: 109075.58 | I12: 665.09 | J12: - | K12: - | L12: - | M12: - | N12: - | O12: - | P12: - | Q12: 159622.42 | R12: 108410.49 | S12: 665.09 | T12: =SUM(Q12-R12) -> 51211.93
A13: 5 | B13: 700195 | C13: 673 | D13: Демонтаж теплокамер | F13: 2012 | G13: 7944 | H13: 5693.2 | I13: 33.1 | J13: - | K13: - | L13: - | M13: - | N13: - | O13: - | P13: - | Q13: 7944 | R13: 5660.1 | S13: 33.1 | T13: =SUM(Q13-R13) -> 2283.9
A14: 6 | B14: 700196 | C14: 674 | D14: Демонтаж теплокамер | F14: 2012 | G14: 14991 | H14: 10743.72 | I14: 62.46 | J14: - | K14: - | L14: - | M14: - | N14: - | O14: - | P14: - | Q14: 14991 | R14: 10681.26 | S14: 62.46 | T14: =SUM(Q14-R14) -> 4309.74 | W14: =SUM(Q13:Q15) -> 53769.91 | X14: =SUM(R13:R15) -> 38568.11 | Y14: =SUM(W14-X14) -> 15201.8
A15: 7 | B15: 700209 | C15: 679 | D15: Демонтаж теплокамер | F15: 2012 | G15: 30834.91 | H15: 22355.23 | I15: 128.48 | J15: - | K15: - | L15: - | M15: - | N15: - | O15: - | P15: - | Q15: 30834.91 | R15: 22226.75 | S15: 128.48 | T15: =SUM(Q15-R15) -> 8608.16 | U15: =SUM(Q13+Q14+Q15+Q18) -> 132514.63 | Y15: =SUM(Q18-R18) -> 12253.77
A16: 8 | B16: 700222 | C16: 687 | D16: Дитячі майданчики | F16: 2013 | G16: 47811.11 | H16: 43864.81 | I16: 63.65 | J16: - | K16: - | L16: - | M16: - | N16: - | O16: - | P16: - | Q16: 47811.11 | R16: 43801.16 | S16: 63.65 | T16: =SUM(Q16-R16) -> 4009.95
A17: 9 | B17: 700251 | C17: 705 | D17: Дитячі майданчики | F17: 2013 | G17: 115884.58 | H17: 89327.83 | I17: 482.85 | J17: - | K17: - | L17: - | M17: - | N17: - | O17: - | P17: - | Q17: 115884.58 | R17: 88844.98 | S17: 482.85 | T17: =SUM(Q17-R17) -> 27039.6 | U17: =SUM(Q16:Q17) -> 163695.69 | V17: =SUM(R16:R17) -> 132646.14 | W17: =SUM(S16:S17) -> 546.5 | X17: =SUM(T16:T17) -> 31049.55 | Y17: =SUM(U16:U17) -> 163695.69
A18: 10 | B18: 700266 | C18: 721 | D18: Демонтаж теплокамер | F18: 2014 | G18: 78744.72 | H18: 66819.06 | I18: 328.11 | J18: - | K18: - | L18: - | M18: - | N18: - | O18: - | P18: - | Q18: 78744.72 | R18: 66490.95 | S18: 328.11 | T18: =SUM(Q18-R18) -> 12253.77
A19: 11 | B19: 700273 | C19: 730 | D19: Миколи Лисенка вулиця | F19: 2015 | G19: 457599 | H19: 401243.69 | I19: 1906.67 | J19: - | K19: - | L19: - | M19: - | N19: - | O19: - | P19: - | Q19: 457599 | R19: 399337.02 | S19: 1906.67 | T19: =SUM(Q19-R19) -> 58261.98 | U19: =SUM(Q11+Q19+Q20) -> 520103.8 | V19: 304698.4
A20: 12 | B20: 700274 | C20: 731 | D20: Миколи Леонтовича вулиця | F20: 2015 | G20: 56847.4 | H20: 49721.96 | I20: 236.86 | J20: - | K20: - | L20: - | M20: - | N20: - | O20: - | P20: - | Q20: 56847.4 | R20: 49485.1 | S20: 236.86 | T20: =SUM(Q20-R20) -> 7362.3 | V20: 242025.32 | Z20: 55668.4
A21: 13 | B21: 700275 | C21: 739 | D21: Дитячі майданчики | F21: 2016 | G21: 815413.01 | H21: 744483.52 | I21: 3397.57 | J21: - | K21: - | L21: - | M21: - | N21: - | O21: - | P21: - | Q21: 815413.01 | R21: 741085.95 | S21: 3397.57 | T21: =SUM(Q21-R21) -> 74327.06 | V21: =SUM(V19:V20) -> 546723.72 | W21: =SUM(V21-U19) -> 26619.92 | X21: =SUM(Q13+Q14) -> 22935 | Z21: =SUM(Q20-Z20) -> 1179
A22: 14 | B22: 700276 | C22: 743 | D22: Дитячі майданчики | F22: 2017 | G22: 9720 | H22: 9288 | I22: 40.5 | J22: - | K22: - | L22: - | M22: - | N22: - | O22: - | P22: - | Q22: 9720 | R22: 9247.5 | S22: 40.5 | T22: =SUM(Q22-R22) -> 472.5 | U22: =SUM(Q22/6) -> 1620 | V22: =SUM(R22/6) -> 1541.25 | W22: =SUM(S22/6) -> 6.75 | X22: =SUM(T22/6) -> 78.75
A23: 15 | B23: 700281 | C23: 745 | D23: Миколи Леонтовича вулиця | E23: 22 | F23: 2017 | G23: 73784 | H23: 71939.42 | I23: 307.43 | J23: - | K23: - | L23: - | M23: - | N23: - | O23: - | P23: - | Q23: 73784 | R23: 71631.99 | S23: 307.43 | T23: =SUM(Q23-R23) -> 2152.01 | U23: =SUM(U22+Q30) -> 205395.67 | V23: =SUM(V22+R30) -> 198284.36 | W23: =SUM(W22+S30) -> 885.82 | X23: =SUM(X22+T30) -> 7111.31 | Z23: 249030
A24: 16 | B24: 700282 | C24: 746 | D24: Дитячі майданчики | F24: 2017 | G24: 234634.83 | H24: 227791.28 | I24: 977.65 | J24: - | K24: - | L24: - | M24: - | N24: - | O24: - | P24: - | Q24: 234634.83 | R24: 226813.63 | S24: 977.65 | T24: =SUM(Q24-R24) -> 7821.2 | U24: =SUM(Q24+U22) -> 236254.83 | V24: =SUM(R24+V22) -> 228354.88 | W24: =SUM(S24+W22) -> 984.4 | X24: =SUM(T24+X22) -> 7899.95 | Z24: =SUM(Z20+Z23) -> 304698.4
A25: 17 | B25: 700283 | C25: 747 | D25: Дитячі майданчики | F25: 2107 | G25: 235113.17 | H25: 228255.69 | I25: 979.64 | J25: - | K25: - | L25: - | M25: - | N25: - | O25: - | P25: - | Q25: 235113.17 | R25: 227276.05 | S25: 979.64 | T25: =SUM(Q25-R25) -> 7837.12 | U25: =SUM(Q25+U22) -> 236733.17 | V25: =SUM(R25+V22) -> 228817.3 | W25: =SUM(S25+W22) -> 986.39 | X25: =SUM(T25+X22) -> 7915.87 | Z25: 207405
A26: 18 | B26: 700284 | C26: 748 | D26: Дитячі майданчики | F26: 2107 | G26: 133022.33 | H26: 129142.51 | I26: 554.26 | J26: - | K26: - | L26: - | M26: - | N26: - | O26: - | P26: - | Q26: 133022.33 | R26: 128588.25 | S26: 554.26 | T26: =SUM(Q26-R26) -> 4434.08 | Z26: =SUM(Z23+Z25) -> 456435
A27: 19 | B27: 700285 | C27: 749 | D27: Дитячі майданчики | F27: 2107 | G27: 176121.67 | H27: 170984.79 | I27: 733.84 | J27: - | K27: - | L27: - | M27: - | N27: - | O27: - | P27: - | Q27: 176121.67 | R27: 170250.95 | S27: 733.84 | T27: =SUM(Q27-R27) -> 5870.72 | U27: =SUM(Q27+U22) -> 177741.67 | V27: =SUM(R27+V22) -> 171792.2 | W27: =SUM(S27+W22) -> 740.59 | X27: =SUM(T27+X22) -> 5949.47 | Z27: =SUM(Q19-Z26) -> 1164
A28: 20 | B28: 700286 | C28: 750 | D28: Дитячі майданчики | F28: 2107 | G28: 162411.77 | H28: 157674.73 | I28: 676.72 | J28: - | K28: - | L28: - | M28: - | N28: - | O28: - | P28: - | Q28: 162411.77 | R28: 156998.01 | S28: 676.72 | T28: =SUM(Q28-R28) -> 5413.76 | U28: =SUM(Q28+U22) -> 164031.77 | V28: =SUM(R28+V22) -> 158539.26 | W28: =SUM(S28+W22) -> 683.47 | X28: =SUM(T28+X22) -> 5492.51
A29: 21 | B29: 700287 | C29: 752 | D29: Лавочки | F29: 2107 | G29: 83333.33 | H29: 78472.25 | I29: 694.44 | J29: - | K29: - | L29: - | M29: - | N29: - | O29: - | P29: - | Q29: 83333.33 | R29: 77777.81 | S29: 694.44 | T29: =SUM(Q29-R29) -> 5555.52 | U29: =SUM(U23+U24+U25+U26+U27+U28) -> 1020157.1 | V29: =SUM(V23+V24+V25+V26+V27+V28) -> 985788 | W29: =SUM(W23+W24+W25+W26+W27+W28) -> 4280.67 | X29: =SUM(X23+X24+X25+X26+X27+X28) -> 34369.11
A30: 22 | B30: 700287 | C30: 751 | D30: Дитячі майданчики | F30: 2107 | G30: 203775.67 | H30: 197622.18 | I30: 879.07 | J30: - | K30: - | L30: - | M30: - | N30: - | O30: - | P30: - | Q30: 203775.67 | R30: 196743.11 | S30: 879.07 | T30: =SUM(Q30-R30) -> 7032.56 | U30: =SUM(Q22+Q24+Q25+Q26+Q27+Q28+Q30) -> 1154799.4
A31: 23 | B31: 700288 | C31: 753 | D31: Миколи Лисенка вулиця | E31: підїздні ш | F31: 2017 | G31: 246666.7 | H31: 238033.39 | I31: 1233.33 | J31: - | K31: - | L31: - | M31: - | N31: - | O31: - | P31: - | Q31: 246666.7 | R31: 236800.06 | S31: 1233.33 | T31: =SUM(Q31-R31) -> 9866.64
A32: 24 | B32: 700289 | C32: 754 | D32: Гетьмана Івана Мазепи вулиця | E32: підїздні ш | F32: 2017 | G32: 222184 | H32: 214407.56 | I32: 1110.92 | J32: - | K32: - | L32: - | M32: - | N32: - | O32: - | P32: - | Q32: 222184 | R32: 213296.64 | S32: 1110.92 | T32: =SUM(Q32-R32) -> 8887.36 | U32: 1020157.1
A33: 25 | B33: 700290 | C33: 755 | D33: Миколи Леонтовича вулиця | E33: підїздні ш | F33: 2017 | G33: 46639.25 | H33: 45667.6 | I33: 194.33 | J33: - | K33: - | L33: - | M33: - | N33: - | O33: - | P33: - | Q33: 46639.25 | R33: 45473.27 | S33: 194.33 | T33: =SUM(Q33-R33) -> 1165.98 | U33: =SUM(Q22+Q24+Q25+Q26+Q27+Q28+Q30) -> 1154799.4
F34: РАЗОМ: | G34: 3618756.3 | H34: 3318048.6 | I34: 15693.8 | J34: - | K34: - | L34: - | M34: - | N34: - | O34: - | P34: - | Q34: 3618756.3 | R34: 3302354.8 | S34: 15693.8 | T34: =SUM(Q34-R34) -> 316401.47 | U34: =SUM(U30-U32) -> 134642.33
U35: =SUM(U34-U22) -> 133022.33
F36: ВСЬОГО: | G36: 3632817.5 | H36: 3320589.9 | I36: 15710.3 | M36: - | N36: - | O36: - | P36: - | Q36: 3632817.5 | R36: 3304879.6 | S36: 15710.3
U37: =SUM(Q26+U22) -> 134642.33 | V37: =SUM(R26+V22) -> 130129.5 | W37: =SUM(S26+W22) -> 561.01 | X37: =SUM(T26+X22) -> 4512.83 | Y37: =SUM(U37-V37) -> 4512.83
U38: =ROUND((U37*0.3333333),2) -> 44880.77 | V38: =ROUND((V37*0.3333333),2) -> 43376.5 | W38: =ROUND((W37*0.3333333),2) -> 187 | X38: =ROUND((X37*0.3333333),2) -> 1504.28 | Y38: =SUM(U38-V38) -> 1504.27
U39: =ROUND((U37*0.6666667),2) -> 89761.56 | V39: =ROUND((V37*0.6666667),2) -> 86753 | W39: =ROUND((W37*0.6666667),2) -> 374.01 | X39: =ROUND((X37*0.6666667),2) -> 3008.55 | Y39: =SUM(U39-V39) -> 3008.56
U40: =SUM(U37-U38-U39) -> 0 | V40: =SUM(V37-V38-V39) -> 0 | W40: =SUM(W37-W38-W39) -> 0 | X40: =SUM(X37-X38-X39) -> -1.2732926e-11 | Y40: =SUM(Y37-Y38-Y39) -> -7.2759576e-12
U41: 44880.77 | V41: 0.33 | X41: 44880.77
U42: 89761.56 | V42: 0.67 | X42: 163695.69
...

Sheet нежитло
A1: ОСНОВНІ ЗАСОБИ. ОБОРОТНА ВІДОМІСТЬ
D2: за період | E2: Червень 2018-Червень 2018
D3: Нежитло
A5: № | B5: інв. | D5: адреса | F5: рік вводу | G5: первісна вартість | H5: залишкова вартість | I5: амортизація | J5: індексація | M5: донараховано | N5: донараховано | O5: вибуло | P5: вибуло | Q5: первісна | R5: залишкова | S5: аморт. | T5: знос
A6: п/п | B6: номер | C6: код | D6: вулиця | E6: буд. | F6: в експл. | G6: на початок | H6: на початок | J6: первісна | K6: залишкова | L6: амортизація | M6: первісної | N6: залишкової | O6: первісної | P6: залишкової | Q6: на кінець | R6: на кінець
A7: 1 | B7: 100495 | C7: 222 | D7: Євгена Коновальця вулиця | E7: 27 | F7: 1939 | G7: 3839.64 | H7: - | I7: - | J7: - | K7: - | L7: - | M7: - | N7: - | O7: - | P7: - | Q7: 3839.64 | R7: - | S7: -
A8: 3 | B8: 100504 | C8: 225 | D8: Театральна вулиця | E8: 13 15 17 | F8: 1939 | G8: 10086.29 | H8: 1122.86 | I8: 8.61 | J8: - | K8: - | L8: - | M8: - | N8: - | O8: - | P8: - | Q8: 10086.29 | R8: 1114.25 | S8: 8.61 | T8: =SUM(Q8-R8) -> 8972.04
A9: 4 | B9: 100517 | C9: 227 | D9: Вячеслава Чорновола вулиця | E9: 49 | F9: 1939 | G9: 5760.82 | H9: - | I9: - | J9: - | K9: - | L9: - | M9: - | N9: - | O9: - | P9: - | Q9: 5760.82 | R9: - | S9: -
A10: 5 | B10: 100523 | C10: 228 | D10: Вячеслава Чорновола вулиця | E10: 53 | F10: 1939 | G10: 298.37 | H10: - | I10: - | J10: - | K10: - | L10: - | M10: - | N10: - | O10: - | P10: - | Q10: 298.37 | R10: - | S10: -
A11: 6 | B11: 100532 | C11: 229 | D11: Iвана Вагилевича вулиця | E11: 3 | F11: 1939 | G11: 3067.1 | H11: - | I11: - | J11: - | K11: - | L11: - | M11: - | N11: - | O11: - | P11: - | Q11: 3067.1 | R11: - | S11: -
A12: 7 | B12: 100539 | C12: 231 | D12: Олекси Довбуша вулиця | E12: 19б | F12: 1970 | G12: 284.01 | H12: - | I12: - | J12: - | K12: - | L12: - | M12: - | N12: - | O12: - | P12: - | Q12: 284.01 | R12: - | S12: -
A13: 8 | B13: 100545 | C13: 234 | D13: Михайла Драгоманова вулиця | E13: 3б | F13: 1948 | G13: 5729.51 | H13: 2131.62 | I13: 5.96 | J13: - | K13: - | L13: - | M13: - | N13: - | O13: - | P13: - | Q13: 5729.51 | R13: 2125.66 | S13: 5.96 | T13: =SUM(Q13-R13) -> 3603.85
A14: 11 | B14: 100924 | C14: 241 | D14: Романа Шухевича вулиця | E14: 78 | F14: 1919 | G14: 16994.42 | H14: 2591.77 | I14: 14.9 | J14: - | K14: - | L14: - | M14: - | N14: - | O14: - | P14: - | Q14: 16994.42 | R14: 2576.87 | S14: 14.9 | T14: =SUM(Q14-R14) -> 14417.55
A15: 13 | B15: 101919 | C15: 245 | D15: Ринок площа | E15: 1 | F15: 1960 | G15: 49025 | H15: 32138.37 | I15: 64.02 | J15: - | K15: - | L15: - | M15: - | N15: - | O15: - | P15: - | Q15: 49025 | R15: 32074.35 | S15: 64.02 | T15: =SUM(Q15-R15) -> 16950.65
A16: 15 | B16: 101923 | C16: 248 | D16: Ринок площа | E16: 1 | F16: 1975 | G16: 118344 | H16: 52451.84 | I16: 138.76 | J16: - | K16: - | L16: - | M16: - | N16: - | O16: - | P16: - | Q16: 118344 | R16: 52313.08 | S16: 138.76 | T16: =SUM(Q16-R16) -> 66030.92
A17: 16 | B17: 101925 | C17: 250 | D17: Лесi Українки бульвар | E17: 47 | F17: 1950 | G17: 1019780 | H17: 550046.24 | I17: 1329.92 | J17: - | K17: - | L17: - | M17: - | N17: - | O17: - | P17: - | Q17: 1019780 | R17: 548716.32 | S17: 1329.92 | T17: =SUM(Q17-R17) -> 471063.68
A18: 17 | B18: 101926 | C18: 251 | D18: Лесi Українки бульвар | E18: 47 | F18: 1950 | G18: 1710 | H18: - | I18: - | J18: - | K18: - | L18: - | M18: - | N18: - | O18: - | P18: - | Q18: 1710 | R18: - | S18: -
A19: 18 | B19: 101927 | C19: 728 | D19: Вячеслава Чорновола вулиця | E19: 3/1 | F19: 2001 | G19: 475 | H19: - | I19: - | J19: - | K19: - | L19: - | M19: - | N19: - | O19: - | P19: - | Q19: 475 | R19: - | S19: -
A20: 20 | B20: 101929 | C20: 757 | D20: Гетьмана Івана Мазепи вулиця | E20: 4 | F20: 1898 | G20: 5801 | H20: - | I20: - | J20: - | K20: - | L20: - | M20: - | N20: - | O20: - | P20: - | Q20: 5801 | R20: - | S20: -
A21: 21 | B21: 200259 | C21: 332 | D21: Василя Стефаника вулиця | E21: 5а | F21: 1970 | G21: 1614.83 | H21: - | I21: - | J21: - | K21: - | L21: - | M21: - | N21: - | O21: - | P21: - | Q21: 1614.83 | R21: - | S21: -
A22: 22 | B22: 200263 | C22: 333 | D22: Старомiська вулиця | E22: 5а | F22: 1970 | G22: 141540 | H22: 51450.58 | I22: 82.72 | J22: - | K22: - | L22: - | M22: - | N22: - | O22: - | P22: - | Q22: 141540 | R22: 51367.86 | S22: 82.72 | T22: =SUM(Q22-R22) -> 90172.14
A23: 23 | B23: 200266 | C23: 334 | D23: Старомiська вулиця | E23: 5а | F23: 1970 | G23: 9795.31 | H23: 4191.3 | I23: 6.74 | J23: - | K23: - | L23: - | M23: - | N23: - | O23: - | P23: - | Q23: 9795.31 | R23: 4184.56 | S23: 6.74 | T23: =SUM(Q23-R23) -> 5610.75
A24: 24 | B24: 200287 | C24: 336 | D24: Володимира Гнатюка вулиця | E24: 35а | F24: 1960 | G24: 5383.37 | H24: 2363.4 | I24: 4.61 | J24: - | K24: - | L24: - | M24: - | N24: - | O24: - | P24: - | Q24: 5383.37 | R24: 2358.79 | S24: 4.61 | T24: =SUM(Q24-R24) -> 3024.58
A25: 30 | B25: 300508 | C25: 461 | D25: Андрiя Чайковського вулиця | E25: 33 | F25: 1948 | G25: 38874.46 | H25: 4659.05 | I25: 12.97 | J25: - | K25: - | L25: - | M25: - | N25: - | O25: - | P25: - | Q25: 38874.46 | R25: 4646.08 | S25: 12.97 | T25: =SUM(Q25-R25) -> 34228.38
A26: 31 | B26: 400304 | C26: 535 | D26: Михайла Грушевського проспект | E26: 41 | F26: 1939 | G26: 6417.5 | H26: - | I26: - | J26: - | K26: - | L26: - | M26: - | N26: - | O26: - | P26: - | Q26: 6417.5 | R26: - | S26: -
A27: 32 | B27: 400308 | C27: 536 | D27: Симона Петлюри вулиця | E27: 45 | F27: 1930 | G27: 19454.6 | H27: - | I27: - | J27: - | K27: - | L27: - | M27: - | N27: - | O27: - | P27: - | Q27: 19454.6 | R27: - | S27: -
A28: 33 | B28: 400309 | C28: 537 | D28: Олександра Пушкiна вулиця | E28: 3 | F28: 1948 | G28: 27495.96 | H28: - | I28: - | J28: - | K28: - | L28: - | M28: - | N28: - | O28: - | P28: - | Q28: 27495.96 | R28: - | S28: -
A29: 36 | B29: 500001 | C29: 550 | D29: Старомiська вулиця | E29: 5а | F29: 1970 | G29: 636.27 | H29: - | I29: - | J29: - | K29: - | L29: - | M29: - | N29: - | O29: - | P29: - | Q29: 636.27 | R29: - | S29: -
A30: 37 | B30: 500002 | C30: 551 | D30: Старомiська вулиця | E30: 5а | F30: 1970 | G30: 5474.36 | H30: 1792.69 | I30: 2.88 | J30: - | K30: - | L30: - | M30: - | N30: - | O30: - | P30: - | Q30: 5474.36 | R30: 1789.81 | S30: 2.88 | T30: =SUM(Q30-R30) -> 3684.55
A31: 38 | B31: 500003 | C31: 552 | D31: Володимира Гнатюка вулиця | E31: 35а | F31: 1970 | G31: 308.5 | H31: - | I31: - | J31: - | K31: - | L31: - | M31: - | N31: - | O31: - | P31: - | Q31: 308.5 | R31: - | S31: -
A32: 39 | B32: 500007 | C32: 553 | D32: Старомiська вулиця | E32: 5а | F32: 1970 | G32: 4670 | H32: 4051.77 | I32: 6.51 | J32: - | K32: - | L32: - | M32: - | N32: - | O32: - | P32: - | Q32: 4670 | R32: 4045.26 | S32: 6.51 | T32: =SUM(Q32-R32) -> 624.74
A33: 40 | B33: 500008 | C33: 554 | D33: Старомiська вулиця | E33: 5а | F33: 1970 | G33: 12808 | H33: 11673.52 | I33: 11.33 | J33: - | K33: - | L33: - | M33: - | N33: - | O33: - | P33: - | Q33: 12808 | R33: 11662.19 | S33: 11.33 | T33: =SUM(Q33-R33) -> 1145.81
A34: 42 | B34: 700077 | C34: 613 | D34: Iвана Франка вулиця | E34: 83 | F34: 1939 | G34: 274476 | H34: - | I34: - | J34: - | K34: - | L34: - | M34: - | N34: - | O34: - | P34: - | Q34: 274476 | R34: - | S34: -
A35: 43 | B35: 700078 | C35: 614 | D35: Iвана Франка вулиця | E35: 83 | F35: 1939 | G35: 25604 | H35: - | I35: - | J35: - | K35: - | L35: - | M35: - | N35: - | O35: - | P35: - | Q35: 25604 | R35: - | S35: -
A36: 44 | B36: 700218 | C36: 684 | D36: Вячеслава Чорновола вулиця | E36: 25 | F36: 2013 | G36: 30000 | H36: 24285.44 | I36: 89.29 | J36: - | K36: - | L36: - | M36: - | N36: - | O36: - | P36: - | Q36: 30000 | R36: 24196.15 | S36: 89.29 | T36: =SUM(Q36-R36) -> 5803.85
A37: 45 | B37: 700262 | C37: 717 | D37: Iвана Франка вулиця | E37: 6 | F37: 2014 | G37: 1582000 | H37: 1501016.8 | I37: 1883.33 | J37: - | K37: - | L37: - | M37: - | N37: - | O37: - | P37: - | Q37: 1582000 | R37: 1499133.5 | S37: 1883.33 | T37: =SUM(Q37-R37) -> 82866.52
A38: 46 | B38: 700263 | C38: 718 | D38: Iвана Франка вулиця | E38: 6А | F38: 2014 | G38: 930400 | H38: 882772.34 | I38: 1107.62 | J38: - | K38: - | L38: - | M38: - | N38: - | O38: - | P38: - | Q38: 930400 | R38: 881664.72 | S38: 1107.62 | T38: =SUM(Q38-R38) -> 48735.28
A39: 47 | B39: 700264 | C39: 719 | D39: Iвана Франка вулиця | E39: 6Б | F39: 2014 | G39: 40950 | H39: 38853.75 | I39: 48.75 | J39: - | K39: - | L39: - | M39: - | N39: - | O39: - | P39: - | Q39: 40950 | R39: 38805 | S39: 48.75 | T39: =SUM(Q39-R39) -> 2145
A40: 48 | B40: 700265 | C40: 720 | D40: Iвана Франка вулиця | E40: 6В | F40: 2014 | G40: 17000 | H40: 16129.68 | I40: 20.24 | J40: - | K40: - | L40: - | M40: - | N40: - | O40: - | P40: - | Q40: 17000 | R40: 16109.44 | S40: 20.24 | T40: =SUM(Q40-R40) -> 890.56
A41: 51 | B41: 700278 | C41: 737 | D41: Вiдродження площа | E41: 14 | F41: 1939 | G41: 71304.45 | H41: 70567.13 | I41: 212.22 | J41: - | K41: - | L41: - | M41: - | N41: - | O41: - | P41: - | Q41: 71304.45 | R41: 70354.91 | S41: 212.22 | T41: =SUM(Q41-R41) -> 949.54
...

Sheet каналіз
A1: ОСНОВНІ ЗАСОБИ. ОБОРОТНА ВІДОМІСТЬ
D2: за період | E2: Червень 2018-Червень 2018
D3: Дощова каналізація (К1)
A5: № | B5: інв. | D5: адреса | F5: рік вводу | G5: первісна вартість | H5: залишкова вартість | I5: амортизація | J5: індексація | M5: донараховано | N5: донараховано | O5: вибуло | P5: вибуло | Q5: первісна | R5: залишкова | S5: аморт. | T5: знос
A6: п/п | B6: номер | C6: код | D6: вулиця | E6: буд. | F6: в експл. | G6: на початок | H6: на початок | J6: первісна | K6: залишкова | L6: амортизація | M6: первісної | N6: залишкової | O6: первісної | P6: залишкової | Q6: на кінець | R6: на кінець
A7: 1 | B7: 700029 | C7: 577 | D7: Миколи Леонтовича вулиця | F7: 2011 | G7: 80577.31 | H7: 62447.08 | I7: 223.83 | J7: - | K7: - | L7: - | M7: - | N7: - | O7: - | P7: - | Q7: 80577.31 | R7: 62223.25 | S7: 223.83 | T7: =SUM(Q7-R7) -> 18354.06
A8: 2 | B8: 700060 | C8: 602 | D8: Миколи Леонтовича вулиця | F8: 2011 | G8: 96066.92 | H8: 74985.77 | I8: 266.85 | J8: - | K8: - | L8: - | M8: - | N8: - | O8: - | P8: - | Q8: 96066.92 | R8: 74718.92 | S8: 266.85 | T8: =SUM(Q8-R8) -> 21348
A9: 3 | B9: 700071 | C9: 608 | D9: Миколи Леонтовича вулиця | F9: 2012 | G9: 65022.92 | H9: 51295.8 | I9: 180.62 | J9: - | K9: - | L9: - | M9: - | N9: - | O9: - | P9: - | Q9: 65022.92 | R9: 51115.18 | S9: 180.62 | T9: =SUM(Q9-R9) -> 13907.74
A10: 4 | B10: 700095 | C10: 627 | D10: Миколи Леонтовича вулиця | F10: 2012 | G10: 38794.79 | H10: 31040.13 | I10: 107.76 | J10: - | K10: - | L10: - | M10: - | N10: - | O10: - | P10: - | Q10: 38794.79 | R10: 30932.37 | S10: 107.76 | T10: =SUM(Q10-R10) -> 7862.42
F11: РАЗОМ: | G11: 280461.94 | H11: 219768.78 | I11: 779.06 | J11: - | K11: - | L11: - | M11: - | N11: - | O11: - | P11: - | Q11: 280461.94 | R11: 218989.72 | S11: 779.06 | T11: =SUM(Q11-R11) -> 61472.22
A13: 5 | B13: 700061 | C13: 603 | D13: Миколи Леонтовича вулиця | F13: 1983 | G13: 31705 | H13: 24748.26 | I13: 88.06 | J13: - | K13: - | L13: - | M13: - | N13: - | O13: - | P13: - | Q13: 31705 | R13: 24660.2 | S13: 88.06 | T13: =SUM(Q13-R13) -> 7044.8
F14: РАЗОМ: | G14: 31705 | H14: 24748.26 | I14: 88.06 | J14: - | K14: - | L14: - | M14: - | N14: - | O14: - | P14: - | Q14: 31705 | R14: 24660.2 | S14: 88.06 | T14: =SUM(Q14-R14) -> 7044.8
F16: ВСЬОГО: | G16: 312166.94 | H16: 244517.04 | I16: 867.12 | M16: - | N16: - | O16: - | P16: - | Q16: 312166.94 | R16: 243649.92 | S16: 867.12 | T16: =SUM(Q16-R16) -> 68517.02
F19: 2011 | Q19: =SUM(Q7+Q8) -> 176644.23 | R19: =SUM(R7+R8) -> 136942.17 | S19: =SUM(S7+S8) -> 490.68 | T19: =SUM(T7+T8) -> 39702.06
F20: 2012 | Q20: =SUM(Q9+Q10) -> 103817.71 | R20: =SUM(R9+R10) -> 82047.55 | S20: =SUM(S9+S10) -> 288.38 | T20: =SUM(T9+T10) -> 21770.16
F21: 1983 | Q21: =SUM(Q13) -> 31705 | R21: =SUM(R13) -> 24660.2 | S21: =SUM(S13) -> 88.06 | T21: =SUM(T13) -> 7044.8

Sheet 108
A1: ОСНОВНІ ЗАСОБИ. ОБОРОТНА ВІДОМІСТЬ
C2: за період | D2: Червень 2018
C3: 108
A5: № | C5: найменування | D5: МВО | E5: підрозділ | F5: рік вводу | G5: первісна вартість | H5: залишкова вартість | I5: амортизація | J5: донараховано | K5: донараховано | L5: вибуло | M5: вибуло | N5: первісна | O5: залишкова | P5: аморт. | Q5: знос
A6: п/п | B6: інв.номер | F6: в експл. | G6: на початок | H6: на початок | J6: первісної | K6: залишкової | L6: первісної | M6: залишкової | N6: на кінець | O6: на кінець
A7: 1 | B7: 10800001 | C7: Дуб | D7: Марфей Мирослав Васильович (Озеленення) | E7: Тех.дільниця №2 | F7: 1939 | G7: 96 | H7: - | I7: - | J7: - | K7: - | L7: - | M7: - | N7: 96 | O7: 0 | P7: - | Q7: =SUM(N7-O7) -> 96
A8: 2 | B8: 10800002 | C8: Ясен | D8: Марфей Мирослав Васильович (Озеленення) | E8: Тех.дільниця №2 | F8: 1939 | G8: 96 | H8: - | I8: - | J8: - | K8: - | L8: - | M8: - | N8: 96 | O8: 0 | P8: - | Q8: =SUM(N8-O8) -> 96
A9: 3 | B9: 10800003 | C9: Саженці клена (17шт) | D9: Марфей Мирослав Васильович (Озеленення) | F9: 2017 | G9: 22100 | H9: 21179.45 | I9: 184.11 | J9: - | K9: - | L9: - | M9: - | N9: 22100 | O9: 20995.34 | P9: 184.11 | Q9: =SUM(N9-O9) -> 1104.66
A10: 4 | B10: 10800004 | C10: Саженці катальпа (18шт) | D10: Марфей Мирослав Васильович (Озеленення) | F10: 2017 | G10: 5400 | H10: 5175 | I10: 45 | J10: - | K10: - | L10: - | M10: - | N10: 5400 | O10: 5130 | P10: 45 | Q10: =SUM(N10-O10) -> 270
F11: РАЗОМ: | G11: 27692 | H11: 26354.45 | I11: 229.11 | J11: - | K11: - | L11: - | M11: - | N11: 27692 | O11: 26125.34 | P11: 229.11 | Q11: =SUM(N11-O11) -> 1566.66
