Workbook

Sheet 1-4 класи
AG1: Додаток 1
AG2: до рішення виконавчого комітету
AG3: від___________________№____________ | AH3: 09.09.2025 №111
C5: Фактична мережа закладів загальної середньої освіти на 2025/2026 навчальний рік
B7: 1-А | C7: 1-Б | D7: 1-В | E7: 1-Г | F7: 1-Д | G7: 1-І | H7: к-сть класів | I7: к-сть учнів | J7: 2-А | K7: 2-Б | L7: 2-В | M7: 2-Г | N7: 2-Д | O7: 2-І | P7: к-сть класів | Q7: к-сть учнів | R7: 3-А | S7: 3-Б | T7: 3-В | U7: 3-Г | V7: 3-І | W7: к-сть класів | X7: к-сть учнів | Y7: 4-А | Z7: 4-Б | AA7: 4-В | AB7: 4-Г | AC7: 4-І | AD7: к-сть класів | AE7: к-сть учнів | AF7: к-сть 1-4 класів | AG7: к-сть учнів у 1-4 кл. | AH7: к-сть 1-4 класів по опорному закладу | AI7: к-сть учнів у 1-4 кл. по опорному зекладу | AJ7: ГПД (всього ставок)
A8: Коломийський ліцей №1 імені В.Стефаника | B8: 28 | C8: 22 | D8: 24 | G8: 20 | H8: =COUNT(B8:G8) -> 4 | I8: =SUM(B8:G8) -> 94 | J8: 26 | K8: 27 | L8: 27 | O8: 16 | P8: =COUNT(J8:O8) -> 4 | Q8: =SUM(J8:O8) -> 96 | R8: 29 | S8: 29 | T8: 29 | V8: 20 | W8: =COUNT(R8:V8) -> 4 | X8: =SUM(R8:V8) -> 107 | Y8: 28 | Z8: 35 | AA8: 33 | AB8: 33 | AC8: 30 | AD8: =COUNT(Y8:AC8) -> 5 | AE8: =SUM(Y8:AC8) -> 159 | AF8: =H8+P8+W8+AD8 -> 17 | AG8: =I8+Q8+X8+AE8 -> 456 | AH8: =SUM(AF8:AF10) -> 25 | AI8: =SUM(AG8:AG10) -> 575 | AJ8: 6
A9: Корницька філія | B9: 19 | H9: =COUNT(B9:G9) -> 1 | I9: =SUM(B9:G9) -> 19 | J9: 12 | P9: =COUNT(J9:O9) -> 1 | Q9: =SUM(J9:O9) -> 12 | R9: 19 | W9: =COUNT(R9:V9) -> 1 | X9: =SUM(R9:V9) -> 19 | Y9: 14 | AD9: =COUNT(Y9:AC9) -> 1 | AE9: =SUM(Y9:AC9) -> 14 | AF9: =H9+P9+W9+AD9 -> 4 | AG9: =I9+Q9+X9+AE9 -> 64
A10: Воскресінцівська філія | B10: 14 | H10: 1 | I10: 14 | J10: 12 | P10: 1 | Q10: =SUM(J10:O10) -> 12 | R10: 14 | W10: =COUNT(R10:V10) -> 1 | X10: =SUM(R10:V10) -> 14 | Y10: 15 | AD10: 1 | AE10: =SUM(Y10:AC10) -> 15 | AF10: =H10+P10+W10+AD10 -> 4 | AG10: =I10+Q10+X10+AE10 -> 55
A11: Коломийський ліцей №2 | B11: 18 | C11: 19 | H11: =COUNT(B11:G11) -> 2 | I11: =SUM(B11:G11) -> 37 | J11: 25 | K11: 26 | P11: =COUNT(J11:O11) -> 2 | Q11: =SUM(J11:O11) -> 51 | R11: 27 | S11: 25 | T11: 24 | W11: =COUNT(R11:V11) -> 3 | X11: =SUM(R11:V11) -> 76 | Y11: 23 | Z11: 24 | AD11: =COUNT(Y11:AC11) -> 2 | AE11: =SUM(Y11:AC11) -> 47 | AF11: =H11+P11+W11+AD11 -> 9 | AG11: =I11+Q11+X11+AE11 -> 211 | AH11: =AF11 -> 9 | AI11: =AG11 -> 211 | AJ11: 2.5
A12: Коломийський ліцей №4 імені Сергія Лисенка | B12: 24 | C12: 22 | D12: 25 | E12: 21 | H12: =COUNT(B12:G12) -> 4 | I12: =SUM(B12:G12) -> 92 | J12: 24 | K12: 23 | L12: 21 | M12: 22 | N12: 25 | P12: =COUNT(J12:O12) -> 5 | Q12: =SUM(J12:O12) -> 115 | R12: 30 | S12: 27 | T12: 27 | U12: 30 | W12: =COUNT(R12:V12) -> 4 | X12: =SUM(R12:V12) -> 114 | Y12: 31 | Z12: 27 | AA12: 30 | AB12: 31 | AD12: =COUNT(Y12:AC12) -> 4 | AE12: =SUM(Y12:AC12) -> 119 | AF12: =H12+P12+W12+AD12 -> 17 | AG12: =I12+Q12+X12+AE12 -> 440 | AH12: =SUM(AF12:AF14) -> 23 | AI12: =SUM(AG12:AG14) -> 556 | AJ12: 7
A13: філія 3 | B13: 18 | H13: =COUNT(B13:G13) -> 1 | I13: =SUM(B13:G13) -> 18 | P13: =COUNT(J13:O13) -> 0 | Q13: =SUM(J13:O13) -> 0 | R13: 18 | W13: =COUNT(R13:V13) -> 1 | X13: =SUM(R13:V13) -> 18 | Y13: 22 | AD13: =COUNT(Y13:AC13) -> 1 | AE13: =SUM(Y13:AC13) -> 22 | AF13: =H13+P13+W13+AD13 -> 3 | AG13: =I13+Q13+X13+AE13 -> 58
A14: філія 20 | H14: =COUNT(B14:G14) -> 0 | I14: =SUM(B14:G14) -> 0 | J14: 20 | P14: =COUNT(J14:O14) -> 1 | Q14: =SUM(J14:O14) -> 20 | R14: 21 | W14: =COUNT(R14:V14) -> 1 | X14: =SUM(R14:V14) -> 21 | Y14: 17 | AD14: =COUNT(Y14:AC14) -> 1 | AE14: =SUM(Y14:AC14) -> 17 | AF14: =H14+P14+W14+AD14 -> 3 | AG14: =I14+Q14+X14+AE14 -> 58
A15: Коломийський ліцей №5 імені Т.Г.Шевченка | B15: 18 | C15: 26 | G15: 20 | H15: =COUNT(B15:G15) -> 3 | I15: =SUM(B15:G15) -> 64 | J15: 22 | O15: 24 | P15: =COUNT(J15:O15) -> 2 | Q15: =SUM(J15:O15) -> 46 | R15: 32 | S15: 27 | V15: 29 | W15: =COUNT(R15:V15) -> 3 | X15: =SUM(R15:V15) -> 88 | Y15: 24 | Z15: 21 | AC15: 24 | AD15: =COUNT(Y15:AC15) -> 3 | AE15: =SUM(Y15:AC15) -> 69 | AF15: =H15+P15+W15+AD15 -> 11 | AG15: =I15+Q15+X15+AE15 -> 267 | AH15: =SUM(AF15:AF18) -> 22 | AI15: =SUM(AG15:AG18) -> 425 | AJ15: 6
A16: філія 7 | B16: 15 | H16: =COUNT(B16:G16) -> 1 | I16: =SUM(B16:G16) -> 15 | J16: 19 | P16: =COUNT(J16:O16) -> 1 | Q16: =SUM(J16:O16) -> 19 | R16: 30 | W16: =COUNT(R16:V16) -> 1 | X16: =SUM(R16:V16) -> 30 | Y16: 28 | AD16: =COUNT(Y16:AC16) -> 1 | AE16: =SUM(Y16:AC16) -> 28 | AF16: =H16+P16+W16+AD16 -> 4 | AG16: =I16+Q16+X16+AE16 -> 92
A17: Раківчицька філія | B17: 6 | H17: =COUNT(B17:G17) -> 1 | I17: =SUM(B17:G17) -> 6 | J17: 7 | P17: =COUNT(J17:O17) -> 1 | Q17: =SUM(J17:O17) -> 7 | W17: 0 | X17: =SUM(R17:V17) -> 0 | Y17: 13 | AD17: =COUNT(Y17:AC17) -> 1 | AE17: =SUM(Y17:AC17) -> 13 | AF17: =H17+P17+W17+AD17 -> 3 | AG17: =I17+Q17+X17+AE17 -> 26
A18: Шепарівцівська філія | B18: 11 | H18: =COUNT(B18:G18) -> 1 | I18: =SUM(B18:G18) -> 11 | J18: 10 | P18: =COUNT(J18:O18) -> 1 | Q18: =SUM(J18:O18) -> 10 | R18: 11 | W18: =COUNT(R18:V18) -> 1 | X18: =SUM(R18:V18) -> 11 | Y18: 8 | AD18: =COUNT(Y18:AC18) -> 1 | AE18: =SUM(Y18:AC18) -> 8 | AF18: =H18+P18+W18+AD18 -> 4 | AG18: 40
A19: Коломийський ліцей №8 | B19: 28 | C19: 25 | D19: 28 | H19: =COUNT(B19:G19) -> 3 | I19: =SUM(B19:G19) -> 81 | J19: 27 | K19: 23 | L19: 23 | P19: =COUNT(J19:O19) -> 3 | Q19: =SUM(J19:O19) -> 73 | R19: 25 | S19: 18 | T19: 29 | W19: =COUNT(R19:V19) -> 3 | X19: =SUM(R19:V19) -> 72 | Y19: 25 | Z19: 20 | AA19: 25 | AD19: =COUNT(Y19:AC19) -> 3 | AE19: =SUM(Y19:AC19) -> 70 | AF19: =H19+P19+W19+AD19 -> 12 | AG19: =I19+Q19+X19+AE19 -> 296 | AH19: =AF19+AF21+AF20 -> 20 | AI19: =AG19+AG21+AG20 -> 409 | AJ19: 5.5
A20: Іванівецька філія | B20: 14 | H20: 1 | I20: =SUM(B20:G20) -> 14 | J20: 19 | P20: =COUNT(J20:O20) -> 1 | Q20: =SUM(J20:O20) -> 19 | R20: 13 | W20: =COUNT(R20:V20) -> 1 | X20: =SUM(R20:V20) -> 13 | Y20: 12 | AD20: =COUNT(Y20:AC20) -> 1 | AE20: =SUM(Y20:AC20) -> 12 | AF20: =H20+P20+W20+AD20 -> 4 | AG20: =I20+Q20+X20+AE20 -> 58
A21: Товмачицька філія | B21: 14 | H21: 1 | I21: 14 | J21: 13 | P21: =COUNT(J21:O21) -> 1 | Q21: =SUM(J21:O21) -> 13 | R21: 16 | W21: =COUNT(R21:V21) -> 1 | X21: =SUM(R21:V21) -> 16 | Y21: 12 | AD21: 1 | AE21: 12 | AF21: 4 | AG21: =I21+Q21+X21+AE21 -> 55
A22: вечірні класи | H22: =COUNT(B22:G22) -> 0 | I22: =SUM(B22:G22) -> 0 | P22: =COUNT(J22:O22) -> 0 | Q22: =SUM(J22:O22) -> 0 | W22: =COUNT(R22:V22) -> 0 | X22: =SUM(R22:V22) -> 0 | AD22: =COUNT(Y22:AC22) -> 0 | AE22: =SUM(Y22:AC22) -> 0 | AF22: =H22+P22+W22+AD22 -> 0 | AG22: =I22+Q22+X22+AE22 -> 0
A23: Коломийський ліцей №9 | B23: 24 | C23: 24 | D23: 24 | E23: 24 | H23: =COUNT(B23:G23) -> 4 | I23: =SUM(B23:G23) -> 96 | P23: =COUNT(J23:O23) -> 0 | Q23: =SUM(J23:O23) -> 0 | W23: =COUNT(R23:V23) -> 0 | X23: =SUM(R23:V23) -> 0 | AD23: =COUNT(Y23:AC23) -> 0 | AE23: =SUM(Y23:AC23) -> 0 | AF23: =H23+P23+W23+AD23 -> 4 | AG23: =I23+Q23+X23+AE23 -> 96 | AH23: =SUM(AF23:AF25) -> 25 | AI23: =SUM(AG23:AG25) -> 659 | AJ23: 8.5
A24: Філія 10 | F24: 25 | H24: =COUNT(B24:G24) -> 1 | I24: =SUM(B24:G24) -> 25 | J24: 27 | K24: 24 | L24: 28 | M24: 28 | N24: 25 | P24: =COUNT(J24:O24) -> 5 | Q24: =SUM(J24:O24) -> 132 | R24: 28 | S24: 26 | T24: 32 | U24: 21 | W24: =COUNT(R24:V24) -> 4 | X24: =SUM(R24:V24) -> 107 | Y24: 33 | Z24: 34 | AA24: 32 | AD24: =COUNT(Y24:AC24) -> 3 | AE24: =SUM(Y24:AC24) -> 99 | AF24: =H24+P24+W24+AD24 -> 13 | AG24: =I24+Q24+X24+AE24 -> 363
A25: філія 6 | B25: 28 | C25: 28 | H25: =COUNT(B25:G25) -> 2 | I25: =SUM(B25:G25) -> 56 | J25: 24 | K25: 26 | P25: =COUNT(J25:O25) -> 2 | Q25: =SUM(J25:O25) -> 50 | R25: 22 | S25: 22 | W25: =COUNT(R25:V25) -> 2 | X25: =SUM(R25:V25) -> 44 | Y25: 27 | Z25: 23 | AD25: =COUNT(Y25:AC25) -> 2 | AE25: =SUM(Y25:AC25) -> 50 | AF25: =H25+P25+W25+AD25 -> 8 | AG25: =I25+Q25+X25+AE25 -> 200
A26: Саджавський ліцей | B26: 29 | H26: =COUNT(B26:G26) -> 1 | I26: =SUM(B26:G26) -> 29 | J26: 26 | P26: =COUNT(J26:O26) -> 1 | Q26: =SUM(J26:O26) -> 26 | R26: 17 | S26: 22 | W26: =COUNT(R26:V26) -> 2 | X26: =SUM(R26:V26) -> 39 | Y26: 24 | AD26: =COUNT(Y26:AC26) -> 1 | AE26: =SUM(Y26:AC26) -> 24 | AF26: =H26+P26+W26+AD26 -> 5 | AG26: =I26+Q26+X26+AE26 -> 118 | AH26: =AF26 -> 5 | AI26: =AG26 -> 118 | AJ26: 0.5
A27: Всього: | H27: =SUM(H8:H26) -> 32 | I27: =SUM(I8:I26) -> 685 | P27: =SUM(P8:P26) -> 32 | Q27: =SUM(Q8:Q26) -> 701 | W27: =SUM(W8:W26) -> 33 | X27: =SUM(X8:X26) -> 789 | AD27: =SUM(AD8:AD26) -> 32 | AE27: =SUM(AE8:AE26) -> 778 | AF27: =SUM(AF8:AF26) -> 129 | AG27: =I27+Q27+X27+AE27 -> 2953 | AH27: =SUM(AH8:AH26) -> 129 | AI27: =SUM(AI8:AI26) -> 2953 | AJ27: =SUM(AJ8:AJ26) -> 36
A32: Керуючий справами виконавчого комітету міської ради | AH32: Микола АНДРУСЯК

Sheet  1-4 класи (інклюзія)
AD1: продовження додатка 1
AD2: до рішення виконавчого комітету
AD3: від_09.09.2025 №111
C5: Фактична мережа закладів загальної середньої освіти на 2025/2026 навчальний рік (інклюзія)
B7: 1-А | C7: 1-Б | D7: 1-В | E7: 1-Г | F7: 1-І | G7: к-сть класів | H7: к-сть учнів | I7: 2-А | J7: 2-Б | K7: 2-В | L7: 2-Г | M7: 2-Д | N7: 2-І | O7: к-сть класів | P7: к-сть учнів | Q7: 3-А | R7: 3-Б | S7: 3-В | T7: 3-Г | U7: 3-І | V7: к-сть класів | W7: к-сть учнів | X7: 4-А | Y7: 4-Б | Z7: 4-В | AA7: 4-Г | AB7: 4-І | AC7: к-сть класів | AD7: к-сть учнів | AE7: к-сть 1-4 класів | AF7: к-сть учнів у 1-4 кл. | AG7: к-сть 1-4 класів по опорному закладу | AH7: к-сть учнів у 1-4 кл. по опорному зекладу
A8: Коломийський ліцей №1 імені В.Стефаника | G8: =COUNT(B8:F8) -> 0 | H8: =SUM(B8:F8) -> 0 | O8: =COUNT(I8:N8) -> 0 | P8: =SUM(I8:N8) -> 0 | Q8: 1 | R8: 1 | S8: 2 | V8: =COUNT(Q8:U8) -> 3 | W8: =SUM(Q8:U8) -> 4 | X8: 1 | AC8: =COUNT(X8:AB8) -> 1 | AD8: =SUM(X8:AB8) -> 1 | AE8: =G8+O8+V8+AC8 -> 4 | AF8: =H8+P8+W8+AD8 -> 5 | AG8: =SUM(AE8:AE10) -> 10 | AH8: =SUM(AF8:AF10) -> 11
A9: Корницька філія | B9: 1 | G9: =COUNT(B9:F9) -> 1 | H9: =SUM(B9:F9) -> 1 | I9: 1 | O9: =COUNT(I9:N9) -> 1 | P9: =SUM(I9:N9) -> 1 | V9: =COUNT(Q9:U9) -> 0 | W9: =SUM(Q9:U9) -> 0 | X9: 1 | AC9: =COUNT(X9:AB9) -> 1 | AD9: =SUM(X9:AB9) -> 1 | AE9: =G9+O9+V9+AC9 -> 3 | AF9: =H9+P9+W9+AD9 -> 3
A10: Воскресінцівська філія | G10: =COUNT(B10:F10) -> 0 | H10: =SUM(B10:F10) -> 0 | I10: 1 | O10: 1 | P10: =SUM(I10:N10) -> 1 | Q10: 1 | V10: =COUNT(Q10:U10) -> 1 | W10: =SUM(Q10:U10) -> 1 | X10: 1 | AC10: =COUNT(X10:AB10) -> 1 | AD10: =SUM(X10:AB10) -> 1 | AE10: =G10+O10+V10+AC10 -> 3 | AF10: =H10+P10+W10+AD10 -> 3
A11: Коломийський ліцей №2 | B11: 2 | G11: =COUNT(B11:F11) -> 1 | H11: =SUM(B11:F11) -> 2 | I11: 2 | O11: =COUNT(I11:N11) -> 1 | P11: =SUM(I11:N11) -> 2 | Q11: 1 | R11: 1 | S11: 1 | V11: =COUNT(Q11:U11) -> 3 | W11: =SUM(Q11:U11) -> 3 | AC11: =COUNT(X11:AB11) -> 0 | AD11: =SUM(X11:AB11) -> 0 | AE11: =G11+O11+V11+AC11 -> 5 | AF11: =H11+P11+W11+AD11 -> 7 | AG11: =AE11 -> 5 | AH11: =AF11 -> 7
A12: Коломийський ліцей №4 імені Сергія Лисенка | C12: 2 | E12: 2 | G12: =COUNT(B12:F12) -> 2 | H12: =SUM(B12:F12) -> 4 | K12: 1 | L12: 2 | M12: 1 | O12: =COUNT(I12:N12) -> 3 | P12: =SUM(I12:N12) -> 4 | Q12: 2 | R12: 1 | S12: 2 | T12: 1 | V12: =COUNT(Q12:U12) -> 4 | W12: =SUM(Q12:U12) -> 6 | Y12: 1 | AA12: 1 | AC12: =COUNT(X12:AB12) -> 2 | AD12: =SUM(X12:AB12) -> 2 | AE12: =G12+O12+V12+AC12 -> 11 | AF12: =H12+P12+W12+AD12 -> 16 | AG12: =SUM(AE12:AE14) -> 16 | AH12: =SUM(AF12:AF14) -> 22
A13: філія 3 | B13: 1 | G13: =COUNT(B13:F13) -> 1 | H13: =SUM(B13:F13) -> 1 | O13: =COUNT(I13:N13) -> 0 | P13: =SUM(I13:N13) -> 0 | Q13: 1 | V13: =COUNT(Q13:U13) -> 1 | W13: =SUM(Q13:U13) -> 1 | X13: 1 | AC13: =COUNT(X13:AB13) -> 1 | AD13: =SUM(X13:AB13) -> 1 | AE13: =G13+O13+V13+AC13 -> 3 | AF13: =H13+P13+W13+AD13 -> 3
A14: філія 20 | G14: =COUNT(B14:F14) -> 0 | H14: =SUM(B14:F14) -> 0 | I14: 2 | O14: =COUNT(I14:N14) -> 1 | P14: =SUM(I14:N14) -> 2 | V14: =COUNT(Q14:U14) -> 0 | W14: =SUM(Q14:U14) -> 0 | X14: 1 | AC14: =COUNT(X14:AB14) -> 1 | AD14: =SUM(X14:AB14) -> 1 | AE14: =G14+O14+V14+AC14 -> 2 | AF14: =H14+P14+W14+AD14 -> 3
A15: Коломийський ліцей №5 імені Т.Г.Шевченка | B15: 3 | G15: =COUNT(B15:F15) -> 1 | H15: =SUM(B15:F15) -> 3 | I15: 2 | N15: 1 | O15: =COUNT(I15:N15) -> 2 | P15: =SUM(I15:N15) -> 3 | Q15: 1 | R15: 2 | V15: =COUNT(Q15:U15) -> 2 | W15: =SUM(Q15:U15) -> 3 | X15: 1 | Y15: 2 | AB15: 1 | AC15: =COUNT(X15:AB15) -> 3 | AD15: =SUM(X15:AB15) -> 4 | AE15: =G15+O15+V15+AC15 -> 8 | AF15: =H15+P15+W15+AD15 -> 13 | AG15: =SUM(AE15:AE18) -> 13 | AH15: =SUM(AF15:AF18) -> 21
A16: філія 7 | B16: 2 | G16: =COUNT(B16:F16) -> 1 | H16: =SUM(B16:F16) -> 2 | I16: 1 | O16: =COUNT(I16:N16) -> 1 | P16: =SUM(I16:N16) -> 1 | V16: =COUNT(Q16:U16) -> 0 | W16: =SUM(Q16:U16) -> 0 | X16: 1 | AC16: =COUNT(X16:AB16) -> 1 | AD16: =SUM(X16:AB16) -> 1 | AE16: =G16+O16+V16+AC16 -> 3 | AF16: =H16+P16+W16+AD16 -> 4
A17: Раківчицька філія | G17: =COUNT(B17:F17) -> 0 | H17: =SUM(B17:F17) -> 0 | O17: =COUNT(I17:N17) -> 0 | P17: =SUM(I17:N17) -> 0 | V17: 0 | W17: =SUM(Q17:U17) -> 0 | X17: 2 | AB17: - | AC17: =COUNT(X17:AB17) -> 1 | AD17: =SUM(X17:AB17) -> 2 | AE17: =G17+O17+V17+AC17 -> 1 | AF17: =H17+P17+W17+AD17 -> 2
A18: Шепарівцівська філія | G18: =COUNT(B18:F18) -> 0 | H18: 0 | I18: 2 | O18: 1 | P18: 2 | V18: =COUNT(Q18:U18) -> 0 | W18: =SUM(Q18:U18) -> 0 | AC18: =COUNT(X18:AB18) -> 0 | AD18: =SUM(X18:AB18) -> 0 | AE18: =G18+O18+V18+AC18 -> 1 | AF18: =H18+P18+W18+AD18 -> 2
A19: Коломийський ліцей №8 | B19: 1 | C19: 1 | D19: 1 | G19: =COUNT(B19:F19) -> 3 | H19: =SUM(B19:F19) -> 3 | I19: 1 | J19: 1 | K19: 1 | O19: =COUNT(I19:N19) -> 3 | P19: =SUM(I19:N19) -> 3 | Q19: 2 | R19: 1 | S19: 1 | V19: =COUNT(Q19:U19) -> 3 | W19: =SUM(Q19:U19) -> 4 | X19: 1 | Y19: 1 | Z19: 1 | AC19: =COUNT(X19:AB19) -> 3 | AD19: =SUM(X19:AB19) -> 3 | AE19: =G19+O19+V19+AC19 -> 12 | AF19: =H19+P19+W19+AD19 -> 13 | AG19: =SUM(AE19:AE22) -> 14 | AH19: =SUM(AF19:AF22) -> 15
A20: Іванівецька філія | B20: 1 | G20: =COUNT(B20:F20) -> 1 | H20: =SUM(B20:F20) -> 1 | O20: =COUNT(I20:N20) -> 0 | P20: =SUM(I20:N20) -> 0 | Q20: 1 | V20: =COUNT(Q20:U20) -> 1 | W20: =SUM(Q20:U20) -> 1 | AC20: =COUNT(X20:AB20) -> 0 | AD20: =SUM(X20:AB20) -> 0 | AE20: =G20+O20+V20+AC20 -> 2 | AF20: =H20+P20+W20+AD20 -> 2
A21: Товмачицька філія | G21: =COUNT(B21:F21) -> 0 | H21: =SUM(B21:F21) -> 0 | O21: =COUNT(I21:N21) -> 0 | P21: =SUM(I21:N21) -> 0 | V21: =COUNT(Q21:U21) -> 0 | W21: =SUM(Q21:U21) -> 0 | AC21: =COUNT(X21:AB21) -> 0 | AD21: =SUM(X21:AB21) -> 0 | AE21: =G21+O21+V21+AC21 -> 0 | AF21: =H21+P21+W21+AD21 -> 0
A22: вечірні класи | G22: =COUNT(B22:F22) -> 0 | H22: =SUM(B22:F22) -> 0 | O22: =COUNT(I22:N22) -> 0 | P22: =SUM(I22:N22) -> 0 | V22: =COUNT(Q22:U22) -> 0 | W22: =SUM(Q22:U22) -> 0 | AC22: =COUNT(X22:AB22) -> 0 | AD22: =SUM(X22:AB22) -> 0 | AE22: =G22+O22+V22+AC22 -> 0 | AF22: =H22+P22+W22+AD22 -> 0
A23: Коломийський ліцей №9 | G23: =COUNT(B23:F23) -> 0 | H23: =SUM(B23:F23) -> 0 | O23: =COUNT(I23:N23) -> 0 | P23: =SUM(I23:N23) -> 0 | V23: =COUNT(Q23:U23) -> 0 | W23: =SUM(Q23:U23) -> 0 | AC23: =COUNT(X23:AB23) -> 0 | AD23: =SUM(X23:AB23) -> 0 | AE23: =G23+O23+V23+AC23 -> 0 | AF23: =H23+P23+W23+AD23 -> 0 | AG23: =SUM(AE23:AE25) -> 12 | AH23: =SUM(AF23:AF25) -> 14
A24: Філія 10 | G24: =COUNT(B24:F24) -> 0 | H24: =SUM(B24:F24) -> 0 | L24: 2 | M24: 1 | O24: =COUNT(I24:N24) -> 2 | P24: =SUM(I24:N24) -> 3 | Q24: 1 | R24: 1 | S24: 1 | T24: 1 | V24: =COUNT(Q24:U24) -> 4 | W24: =SUM(Q24:U24) -> 4 | X24: 1 | Z24: 1 | AC24: =COUNT(X24:AB24) -> 2 | AD24: =SUM(X24:AB24) -> 2 | AE24: =G24+O24+V24+AC24 -> 8 | AF24: =H24+P24+W24+AD24 -> 9
A25: філія 6 | G25: =COUNT(B25:F25) -> 0 | H25: =SUM(B25:F25) -> 0 | J25: 2 | O25: =COUNT(I25:N25) -> 1 | P25: =SUM(I25:N25) -> 2 | Q25: 1 | V25: =COUNT(Q25:U25) -> 1 | W25: =SUM(Q25:U25) -> 1 | X25: 1 | Y25: 1 | AC25: =COUNT(X25:AB25) -> 2 | AD25: =SUM(X25:AB25) -> 2 | AE25: =G25+O25+V25+AC25 -> 4 | AF25: =H25+P25+W25+AD25 -> 5
A26: Саджавський ліцей | G26: =COUNT(B26:F26) -> 0 | H26: =SUM(B26:F26) -> 0 | I26: 1 | O26: =COUNT(I26:N26) -> 1 | P26: =SUM(I26:N26) -> 1 | V26: =COUNT(Q26:U26) -> 0 | W26: =SUM(Q26:U26) -> 0 | X26: 1 | AC26: =COUNT(X26:AB26) -> 1 | AD26: =SUM(X26:AB26) -> 1 | AE26: =G26+O26+V26+AC26 -> 2 | AF26: =H26+P26+W26+AD26 -> 2 | AG26: =AE26 -> 2 | AH26: =AF26 -> 2
A27: Всього: | G27: =SUM(G8:G26) -> 11 | H27: =SUM(H8:H26) -> 17 | O27: =SUM(O8:O26) -> 18 | P27: =SUM(P8:P26) -> 25 | V27: =SUM(V8:V26) -> 23 | W27: =SUM(W8:W26) -> 28 | AC27: =SUM(AC8:AC26) -> 20 | AD27: =SUM(AD8:AD26) -> 22 | AE27: =G27+O27+V27+AC27 -> 72 | AF27: =H27+P27+W27+AD27 -> 92 | AG27: =SUM(AG8:AG26) -> 72 | AH27: =SUM(AH8:AH26) -> 92
A32: Керуючий справами виконавчого комітету міської ради | AE32: Микола АНДРУСЯК

Sheet   1-4 класи (педагогічний патро
A1: 0 | AD1: продовження додатка 1
AD2: до рішення виконавчого комітету
AD3: від 09.09.2025 №111
C5: Фактична мережа закладів загальної середньої освіти на 2025/2026 навчальний рік (педагогічний патронаж)
B7: 1-А | C7: 1-Б | D7: 1-В | E7: 1-Г | F7: 1-І | G7: к-сть класів | H7: к-сть учнів | I7: 2-А | J7: 2-Б | K7: 2-В | L7: 2-Г | M7: 2-Д | N7: 2-І | O7: к-сть класів | P7: к-сть учнів | Q7: 3-А | R7: 3-Б | S7: 3-В | T7: 3-Г | U7: 3-І | V7: к-сть класів | W7: к-сть учнів | X7: 4-А | Y7: 4-Б | Z7: 4-В | AA7: 4-Г | AB7: 4-І | AC7: к-сть класів | AD7: к-сть учнів | AE7: к-сть 1-4 класів | AF7: к-сть учнів у 1-4 кл. | AG7: к-сть 1-4 класів по опорному закладу | AH7: к-сть учнів у 1-4 кл. по опорному зекладу
A8: Коломийський ліцей №1 імені В.Стефаника | D8: 1 | G8: =COUNT(B8:F8) -> 1 | H8: =SUM(B8:F8) -> 1 | O8: =COUNT(I8:N8) -> 0 | P8: =SUM(I8:N8) -> 0 | Q8: 1 | V8: =COUNT(Q8:U8) -> 1 | W8: =SUM(Q8:U8) -> 1 | AC8: =COUNT(X8:AB8) -> 0 | AD8: =SUM(X8:AB8) -> 0 | AE8: =G8+O8+V8+AC8 -> 2 | AF8: =H8+P8+W8+AD8 -> 2 | AG8: =SUM(AE8:AE10) -> 3 | AH8: =SUM(AF8:AF10) -> 3
A9: Корницька філія | G9: =COUNT(B9:F9) -> 0 | H9: =SUM(B9:F9) -> 0 | O9: =COUNT(I9:N9) -> 0 | P9: =SUM(I9:N9) -> 0 | V9: =COUNT(Q9:U9) -> 0 | W9: =SUM(Q9:U9) -> 0 | AC9: =COUNT(X9:AB9) -> 0 | AD9: =SUM(X9:AB9) -> 0 | AE9: =G9+O9+V9+AC9 -> 0 | AF9: =H9+P9+W9+AD9 -> 0
A10: Воскресінцівська філія | G10: =COUNT(B10:F10) -> 0 | H10: =SUM(B10:F10) -> 0 | O10: =COUNT(I10:N10) -> 0 | P10: =SUM(I10:N10) -> 0 | V10: =COUNT(Q10:U10) -> 0 | W10: =SUM(Q10:U10) -> 0 | X10: 1 | AC10: =COUNT(X10:AB10) -> 1 | AD10: =SUM(X10:AB10) -> 1 | AE10: =G10+O10+V10+AC10 -> 1 | AF10: =H10+P10+W10+AD10 -> 1
A11: Коломийський ліцей №2 | G11: =COUNT(B11:F11) -> 0 | H11: =SUM(B11:F11) -> 0 | O11: =COUNT(I11:N11) -> 0 | P11: =SUM(I11:N11) -> 0 | S11: 1 | V11: =COUNT(Q11:U11) -> 1 | W11: =SUM(Q11:U11) -> 1 | AC11: =COUNT(X11:AB11) -> 0 | AD11: =SUM(X11:AB11) -> 0 | AE11: =G11+O11+V11+AC11 -> 1 | AF11: =H11+P11+W11+AD11 -> 1 | AG11: =AE11 -> 1 | AH11: =AF11 -> 1
A12: Коломийський ліцей №4 імені Сергія Лисенка | G12: =COUNT(B12:F12) -> 0 | H12: =SUM(B12:F12) -> 0 | O12: =COUNT(I12:N12) -> 0 | P12: =SUM(I12:N12) -> 0 | S12: 2 | V12: =COUNT(Q12:U12) -> 1 | W12: =SUM(Q12:U12) -> 2 | AC12: =COUNT(X12:AB12) -> 0 | AD12: =SUM(X12:AB12) -> 0 | AE12: =G12+O12+V12+AC12 -> 1 | AF12: =H12+P12+W12+AD12 -> 2 | AG12: =SUM(AE12:AE14) -> 1 | AH12: =SUM(AF12:AF14) -> 2
A13: філія 3 | G13: =COUNT(B13:F13) -> 0 | H13: =SUM(B13:F13) -> 0 | O13: =COUNT(I13:N13) -> 0 | P13: =SUM(I13:N13) -> 0 | V13: =COUNT(Q13:U13) -> 0 | W13: =SUM(Q13:U13) -> 0 | AC13: =COUNT(X13:AB13) -> 0 | AD13: =SUM(X13:AB13) -> 0 | AE13: =G13+O13+V13+AC13 -> 0 | AF13: =H13+P13+W13+AD13 -> 0
A14: філія 20 | G14: =COUNT(B14:F14) -> 0 | H14: =SUM(B14:F14) -> 0 | O14: =COUNT(I14:N14) -> 0 | P14: =SUM(I14:N14) -> 0 | V14: =COUNT(Q14:U14) -> 0 | W14: =SUM(Q14:U14) -> 0 | AC14: =COUNT(X14:AB14) -> 0 | AD14: =SUM(X14:AB14) -> 0 | AE14: =G14+O14+V14+AC14 -> 0 | AF14: =H14+P14+W14+AD14 -> 0
A15: Коломийський ліцей №5 імені Т.Г.Шевченка | G15: =COUNT(B15:F15) -> 0 | H15: =SUM(B15:F15) -> 0 | O15: =COUNT(I15:N15) -> 0 | P15: =SUM(I15:N15) -> 0 | V15: =COUNT(Q15:U15) -> 0 | W15: =SUM(Q15:U15) -> 0 | AC15: =COUNT(X15:AB15) -> 0 | AD15: =SUM(X15:AB15) -> 0 | AE15: =G15+O15+V15+AC15 -> 0 | AF15: =H15+P15+W15+AD15 -> 0 | AG15: =SUM(AE15:AE18) -> 0 | AH15: =SUM(AF15:AF18) -> 0
A16: філія 7 | G16: 0 | H16: =SUM(B16:F16) -> 0 | O16: 0 | P16: =SUM(I16:N16) -> 0 | V16: 0 | W16: =SUM(Q16:U16) -> 0 | AC16: 0 | AD16: =SUM(X16:AB16) -> 0 | AE16: 0 | AF16: =H16+P16+W16+AD16 -> 0
A17: Раківчицька філія | G17: =COUNT(B17:F17) -> 0 | H17: =SUM(B17:F17) -> 0 | O17: =COUNT(I17:N17) -> 0 | P17: =SUM(I17:N17) -> 0 | V17: 0 | W17: =SUM(Q17:U17) -> 0 | AC17: =COUNT(X17:AB17) -> 0 | AD17: =SUM(X17:AB17) -> 0 | AE17: =G17+O17+V17+AC17 -> 0 | AF17: =H17+P17+W17+AD17 -> 0
A18: Шепарівцівська філія | G18: =COUNT(B18:F18) -> 0 | H18: =SUM(B18:F18) -> 0 | O18: =COUNT(I18:N18) -> 0 | P18: =SUM(I18:N18) -> 0 | V18: =COUNT(Q18:U18) -> 0 | W18: =SUM(Q18:U18) -> 0 | AC18: =COUNT(X18:AB18) -> 0 | AD18: =SUM(X18:AB18) -> 0 | AE18: =G18+O18+V18+AC18 -> 0 | AF18: =H18+P18+W18+AD18 -> 0
A19: Коломийський ліцей №8 | G19: =COUNT(B19:F19) -> 0 | H19: =SUM(B19:F19) -> 0 | O19: =COUNT(I19:N19) -> 0 | P19: =SUM(I19:N19) -> 0 | V19: =COUNT(Q19:U19) -> 0 | W19: =SUM(Q19:U19) -> 0 | AC19: =COUNT(X19:AB19) -> 0 | AD19: =SUM(X19:AB19) -> 0 | AE19: =G19+O19+V19+AC19 -> 0 | AF19: =H19+P19+W19+AD19 -> 0 | AG19: =SUM(AE19:AE22) -> 0 | AH19: =SUM(AF19:AF22) -> 0
A20: Іванівська філія | G20: =COUNT(B20:F20) -> 0 | H20: =SUM(B20:F20) -> 0 | O20: =COUNT(I20:N20) -> 0 | P20: =SUM(I20:N20) -> 0 | V20: =COUNT(Q20:U20) -> 0 | W20: =SUM(Q20:U20) -> 0 | AC20: =COUNT(X20:AB20) -> 0 | AD20: =SUM(X20:AB20) -> 0 | AE20: =G20+O20+V20+AC20 -> 0 | AF20: =H20+P20+W20+AD20 -> 0
A21: Товмачицька філія | G21: =COUNT(B21:F21) -> 0 | H21: =SUM(B21:F21) -> 0 | O21: =COUNT(I21:N21) -> 0 | P21: =SUM(I21:N21) -> 0 | V21: =COUNT(Q21:U21) -> 0 | W21: =SUM(Q21:U21) -> 0 | AC21: =COUNT(X21:AB21) -> 0 | AD21: =SUM(X21:AB21) -> 0 | AE21: =G21+O21+V21+AC21 -> 0 | AF21: =H21+P21+W21+AD21 -> 0
A22: вечірні класи | G22: =COUNT(B22:F22) -> 0 | H22: =SUM(B22:F22) -> 0 | O22: =COUNT(I22:N22) -> 0 | P22: =SUM(I22:N22) -> 0 | V22: =COUNT(Q22:U22) -> 0 | W22: =SUM(Q22:U22) -> 0 | AC22: =COUNT(X22:AB22) -> 0 | AD22: =SUM(X22:AB22) -> 0 | AE22: =G22+O22+V22+AC22 -> 0 | AF22: =H22+P22+W22+AD22 -> 0
A23: Коломийський ліцей №9 | G23: =COUNT(B23:F23) -> 0 | H23: =SUM(B23:F23) -> 0 | O23: =COUNT(I23:N23) -> 0 | P23: =SUM(I23:N23) -> 0 | V23: =COUNT(Q23:U23) -> 0 | W23: =SUM(Q23:U23) -> 0 | AC23: =COUNT(X23:AB23) -> 0 | AD23: =SUM(X23:AB23) -> 0 | AE23: =G23+O23+V23+AC23 -> 0 | AF23: =H23+P23+W23+AD23 -> 0 | AG23: =SUM(AE23:AE25) -> 1 | AH23: =SUM(AF23:AF25) -> 1
A24: Філія 10 | G24: =COUNT(B24:F24) -> 0 | H24: =SUM(B24:F24) -> 0 | O24: =COUNT(I24:N24) -> 0 | P24: =SUM(I24:N24) -> 0 | V24: =COUNT(Q24:U24) -> 0 | W24: =SUM(Q24:U24) -> 0 | AC24: =COUNT(X24:AB24) -> 0 | AD24: =SUM(X24:AB24) -> 0 | AE24: =G24+O24+V24+AC24 -> 0 | AF24: =H24+P24+W24+AD24 -> 0
A25: філія 6 | G25: =COUNT(B25:F25) -> 0 | H25: =SUM(B25:F25) -> 0 | O25: =COUNT(I25:N25) -> 0 | P25: =SUM(I25:N25) -> 0 | V25: =COUNT(Q25:U25) -> 0 | W25: =SUM(Q25:U25) -> 0 | Y25: 1 | AC25: =COUNT(X25:AB25) -> 1 | AD25: =SUM(X25:AB25) -> 1 | AE25: =G25+O25+V25+AC25 -> 1 | AF25: =H25+P25+W25+AD25 -> 1
A26: Саджавський ліцей | G26: =COUNT(B26:F26) -> 0 | H26: =SUM(B26:F26) -> 0 | O26: =COUNT(I26:N26) -> 0 | P26: =SUM(I26:N26) -> 0 | V26: =COUNT(Q26:U26) -> 0 | W26: =SUM(Q26:U26) -> 0 | AC26: =COUNT(X26:AB26) -> 0 | AD26: =SUM(X26:AB26) -> 0 | AE26: =G26+O26+V26+AC26 -> 0 | AF26: =H26+P26+W26+AD26 -> 0 | AG26: =AE26 -> 0 | AH26: =AF26 -> 0
A27: Всього: | G27: =SUM(G8:G26) -> 1 | H27: =SUM(H8:H26) -> 1 | O27: =SUM(O8:O26) -> 0 | P27: =SUM(P8:P26) -> 0 | V27: =SUM(V8:V26) -> 3 | W27: =SUM(W8:W26) -> 4 | AC27: =SUM(AC8:AC26) -> 2 | AD27: =SUM(AD8:AD26) -> 2 | AE27: =SUM(AE8:AE26) -> 6 | AF27: =SUM(AF8:AF26) -> 7 | AG27: =SUM(AG8:AG26) -> 6 | AH27: =SUM(AH8:AH26) -> 7
A32: Керуючий справами виконавчого комітету міської ради | AE32: Микола АНДРУСЯК

Sheet 5-9 класи
AO1: продовження додатка 1
AO2: до рішення виконавчого комітету
AO3: від 09.09.2025 №111
B5: Фактична мережа закладів загальної середньої освіти на 2025/2026 навчальний рік
A7: Заклади загальної середньої освіти | B7: 5-А | C7: 5-Б | D7: 5-В | E7: 5-Г | F7: 5-І | G7: к-сть класів | H7: к-сть учнів | I7: 6-А | J7: 6-Б | K7: 6-В | L7: 6-Г | M7: 6-Д | N7: 6-Е | O7: 6-I | P7: к-сть класів | Q7: к-сть учнів | R7: 7-А | S7: 7-Б | T7: 7-В | U7: 7-Г | V7: 7-Д | W7: 7-I | X7: к-сть класів | Y7: к-сть учнів | Z7: 8-А | AA7: 8-Б | AB7: 8-В | AC7: 8-Г | AD7: 8-Д | AE7: 8-Е | AF7: 8-І | AG7: к-сть класів | AH7: к-сть учнів | AI7: 9-А | AJ7: 9-Б | AK7: 9-В | AL7: 9-Г | AM7: 9-Д | AN7: 9-I | AO7: к-сть класів | AP7: к-сть учнів | AQ7: к-сть 5-9 класів | AR7: к-сть учнів у 5-9 кл. | AS7: к-сть 5-9 класів по опорному закладу | AT7: к-сть учнів у 5-9 кл. по опорному закладу
A8: Коломийський ліцей №1 імені В.Стефаника | B8: 19 | C8: 28 | D8: 28 | F8: 28 | G8: =COUNT(B8:F8) -> 4 | H8: =SUM(B8:F8) -> 103 | I8: 34 | J8: 35 | K8: 38 | O8: 21 | P8: =COUNT(I8:O8) -> 4 | Q8: =SUM(I8:O8) -> 128 | R8: 36 | S8: 35 | T8: 28 | W8: 30 | X8: =COUNT(R8:W8) -> 4 | Y8: =SUM(R8:W8) -> 129 | Z8: 28 | AA8: 30 | AB8: 32 | AC8: 30 | AF8: 23 | AG8: =COUNT(Z8:AF8) -> 5 | AH8: =SUM(Z8:AF8) -> 143 | AI8: 41 | AJ8: 34 | AN8: 29 | AO8: =COUNT(AI8:AN8) -> 3 | AP8: =SUM(AI8:AN8) -> 104 | AQ8: =AO8+AG8+X8+P8+G8 -> 20 | AR8: =AP8+AH8+Y8+H8+Q8 -> 607 | AS8: =SUM(AQ8:AQ10) -> 30 | AT8: =SUM(AR8:AR10) -> 801
A9: Корницька філія | B9: 23 | G9: =COUNT(B9:F9) -> 1 | H9: =SUM(B9:F9) -> 23 | I9: 26 | P9: =COUNT(I9:O9) -> 1 | Q9: =SUM(I9:O9) -> 26 | R9: 23 | X9: =COUNT(R9:W9) -> 1 | Y9: =SUM(R9:W9) -> 23 | Z9: 23 | AG9: =COUNT(Z9:AF9) -> 1 | AH9: =SUM(Z9:AF9) -> 23 | AI9: 21 | AO9: =COUNT(AI9:AN9) -> 1 | AP9: =SUM(AI9:AN9) -> 21 | AQ9: =AO9+AG9+X9+P9+G9 -> 5 | AR9: =AP9+AH9+Y9+H9+Q9 -> 116
A10: Воскресінцівська філія | B10: 18 | G10: =COUNT(B10:F10) -> 1 | H10: =SUM(B10:F10) -> 18 | I10: 13 | P10: =COUNT(I10:O10) -> 1 | Q10: =SUM(I10:O10) -> 13 | R10: 19 | X10: =COUNT(R10:W10) -> 1 | Y10: =SUM(R10:W10) -> 19 | Z10: 17 | AG10: =COUNT(Z10:AF10) -> 1 | AH10: =SUM(Z10:AF10) -> 17 | AI10: 11 | AO10: =COUNT(AI10:AN10) -> 1 | AP10: =SUM(AI10:AN10) -> 11 | AQ10: =AO10+AG10+X10+P10+G10 -> 5 | AR10: =AP10+AH10+Y10+H10+Q10 -> 78
A11: Коломийський ліцей №2 | B11: 20 | C11: 19 | D11: 23 | G11: =COUNT(B11:F11) -> 3 | H11: =SUM(B11:F11) -> 62 | I11: 27 | J11: 31 | P11: =COUNT(I11:O11) -> 2 | Q11: =SUM(I11:O11) -> 58 | R11: 25 | S11: 33 | T11: 23 | X11: =COUNT(R11:W11) -> 3 | Y11: =SUM(R11:W11) -> 81 | Z11: 32 | AA11: 35 | AG11: =COUNT(Z11:AF11) -> 2 | AH11: =SUM(Z11:AF11) -> 67 | AI11: 32 | AJ11: 24 | AO11: =COUNT(AI11:AN11) -> 2 | AP11: =SUM(AI11:AN11) -> 56 | AQ11: =AO11+AG11+X11+P11+G11 -> 12 | AR11: =AP11+AH11+Y11+H11+Q11 -> 324 | AS11: =AQ11 -> 12 | AT11: =AR11 -> 324
A12: Коломийський ліцей №4 імені Сергія Лисенка | B12: 34 | C12: 30 | D12: 34 | E12: 29 | G12: =COUNT(B12:F12) -> 4 | H12: =SUM(B12:F12) -> 127 | I12: 32 | J12: 37 | K12: 33 | L12: 32 | P12: =COUNT(I12:O12) -> 4 | Q12: =SUM(I12:O12) -> 134 | R12: 32 | S12: 30 | T12: 32 | U12: 31 | V12: 35 | X12: =COUNT(R12:W12) -> 5 | Y12: =SUM(R12:W12) -> 160 | Z12: 29 | AA12: 29 | AB12: 29 | AC12: 30 | AD12: 25 | AG12: =COUNT(Z12:AF12) -> 5 | AH12: =SUM(Z12:AF12) -> 142 | AI12: 23 | AJ12: 28 | AK12: 29 | AL12: 33 | AM12: 26 | AO12: =COUNT(AI12:AN12) -> 5 | AP12: =SUM(AI12:AN12) -> 139 | AQ12: =AO12+AG12+X12+P12+G12 -> 23 | AR12: =AP12+AH12+Y12+H12+Q12 -> 702 | AS12: =SUM(AQ12:AQ13) -> 28 | AT12: =SUM(AR12:AR13) -> 831
A13: філія 3 | B13: 16 | G13: =COUNT(B13:F13) -> 1 | H13: =SUM(B13:F13) -> 16 | I13: 28 | P13: =COUNT(I13:O13) -> 1 | Q13: =SUM(I13:O13) -> 28 | R13: 33 | X13: =COUNT(R13:W13) -> 1 | Y13: =SUM(R13:W13) -> 33 | Z13: 26 | AG13: =COUNT(Z13:AF13) -> 1 | AH13: =SUM(Z13:AF13) -> 26 | AI13: 26 | AO13: =COUNT(AI13:AN13) -> 1 | AP13: =SUM(AI13:AN13) -> 26 | AQ13: =AO13+AG13+X13+P13+G13 -> 5 | AR13: =AP13+AH13+Y13+H13+Q13 -> 129
A14: Коломийський ліцей №5 імені Т.Г.Шевченка | B14: 31 | C14: 27 | F14: 26 | G14: =COUNT(B14:F14) -> 3 | H14: =SUM(B14:F14) -> 84 | I14: 22 | J14: 20 | K14: 25 | P14: =COUNT(I14:O14) -> 3 | Q14: =SUM(I14:O14) -> 67 | R14: 28 | S14: 27 | W14: 26 | X14: =COUNT(R14:W14) -> 3 | Y14: =SUM(R14:W14) -> 81 | Z14: 23 | AA14: 29 | AB14: 22 | AG14: =COUNT(Z14:AF14) -> 3 | AH14: =SUM(Z14:AF14) -> 74 | AI14: 27 | AJ14: 21 | AK14: 23 | AO14: =COUNT(AI14:AN14) -> 3 | AP14: =SUM(AI14:AN14) -> 71 | AQ14: =AO14+AG14+X14+P14+G14 -> 15 | AR14: =AP14+AH14+Y14+H14+Q14 -> 377 | AS14: =SUM(AQ14:AQ17) -> 30 | AT14: =SUM(AR14:AR17) -> 616
A15: філія 7 | B15: 25 | C15: - | D15: - | E15: - | F15: - | G15: =COUNT(B15:F15) -> 1 | H15: =SUM(B15:F15) -> 25 | I15: 33 | P15: =COUNT(I15:O15) -> 1 | Q15: =SUM(I15:O15) -> 33 | R15: 26 | X15: =COUNT(R15:W15) -> 1 | Y15: =SUM(R15:W15) -> 26 | Z15: 25 | AA15: - | AB15: - | AC15: - | AD15: - | AE15: - | AF15: - | AG15: =COUNT(Z15:AF15) -> 1 | AH15: =SUM(Z15:AF15) -> 25 | AI15: 33 | AO15: =COUNT(AI15:AN15) -> 1 | AP15: =SUM(AI15:AN15) -> 33 | AQ15: =AO15+AG15+X15+P15+G15 -> 5 | AR15: =AP15+AH15+Y15+H15+Q15 -> 142
A16: Раківчицька філія | B16: 9 | C16: - | D16: - | E16: - | F16: - | G16: =COUNT(B16:F16) -> 1 | H16: =SUM(B16:F16) -> 9 | I16: 9 | P16: =COUNT(I16:O16) -> 1 | Q16: =SUM(I16:O16) -> 9 | R16: 13 | X16: =COUNT(R16:W16) -> 1 | Y16: =SUM(R16:W16) -> 13 | Z16: 8 | AA16: - | AB16: - | AC16: - | AD16: - | AE16: - | AF16: - | AG16: =COUNT(Z16:AF16) -> 1 | AH16: =SUM(Z16:AF16) -> 8 | AI16: 7 | AO16: =COUNT(AI16:AN16) -> 1 | AP16: =SUM(AI16:AN16) -> 7 | AQ16: =AO16+AG16+X16+P16+G16 -> 5 | AR16: =AP16+AH16+Y16+H16+Q16 -> 46
A17: Шепарівцівська філія | B17: 9 | C17: - | D17: - | E17: - | F17: - | G17: =COUNT(B17:F17) -> 1 | H17: =SUM(B17:F17) -> 9 | I17: 13 | P17: =COUNT(I17:O17) -> 1 | Q17: =SUM(I17:O17) -> 13 | R17: 10 | X17: =COUNT(R17:W17) -> 1 | Y17: =SUM(R17:W17) -> 10 | Z17: 11 | AG17: =COUNT(Z17:AF17) -> 1 | AH17: =SUM(Z17:AF17) -> 11 | AI17: 8 | AO17: =COUNT(AI17:AN17) -> 1 | AP17: =SUM(AI17:AN17) -> 8 | AQ17: =AO17+AG17+X17+P17+G17 -> 5 | AR17: =AP17+AH17+Y17+H17+Q17 -> 51
A18: Коломийський ліцей №8 | B18: 32 | C18: 33 | D18: 33 | G18: =COUNT(B18:F18) -> 3 | H18: =SUM(B18:F18) -> 98 | I18: 27 | J18: 27 | K18: 27 | P18: =COUNT(I18:O18) -> 3 | Q18: =SUM(I18:O18) -> 81 | R18: 30 | S18: 30 | T18: 30 | X18: =COUNT(R18:W18) -> 3 | Y18: =SUM(R18:W18) -> 90 | Z18: 32 | AA18: 30 | AB18: 32 | AG18: =COUNT(Z18:AF18) -> 3 | AH18: =SUM(Z18:AF18) -> 94 | AI18: 31 | AJ18: 28 | AK18: 26 | AO18: =COUNT(AI18:AN18) -> 3 | AP18: =SUM(AI18:AN18) -> 85 | AQ18: =AO18+AG18+X18+P18+G18 -> 15 | AR18: =AP18+AH18+Y18+H18+Q18 -> 448 | AS18: =AQ18+AQ20+AQ19 -> 25 | AT18: =AR18+AR20+AR19 -> 634
A19: Іванівецька філія | B19: 19 | G19: =COUNT(B19:F19) -> 1 | H19: =SUM(B19:F19) -> 19 | I19: 15 | P19: =COUNT(I19:O19) -> 1 | Q19: =SUM(I19:O19) -> 15 | R19: 12 | X19: =COUNT(R19:W19) -> 1 | Y19: =SUM(R19:W19) -> 12 | Z19: 18 | AG19: =COUNT(Z19:AF19) -> 1 | AH19: =SUM(Z19:AF19) -> 18 | AI19: 21 | AO19: =COUNT(AI19:AN19) -> 1 | AP19: =SUM(AI19:AN19) -> 21 | AQ19: =AO19+AG19+X19+P19+G19 -> 5 | AR19: =AP19+AH19+Y19+H19+Q19 -> 85
A20: Товмачицька філія | B20: 25 | G20: =COUNT(B20:F20) -> 1 | H20: =SUM(B20:F20) -> 25 | I20: 13 | P20: =COUNT(I20:O20) -> 1 | Q20: =SUM(I20:O20) -> 13 | R20: 19 | X20: =COUNT(R20:W20) -> 1 | Y20: =SUM(R20:W20) -> 19 | Z20: 17 | AG20: =COUNT(Z20:AF20) -> 1 | AH20: =SUM(Z20:AF20) -> 17 | AI20: 27 | AO20: =COUNT(AI20:AN20) -> 1 | AP20: =SUM(AI20:AN20) -> 27 | AQ20: =AO20+AG20+X20+P20+G20 -> 5 | AR20: =AP20+AH20+Y20+H20+Q20 -> 101
A21: вечірні класи | G21: =COUNT(B21:F21) -> 0 | H21: =SUM(B21:F21) -> 0 | I21: 16 | P21: =COUNT(I21:O21) -> 1 | Q21: =SUM(I21:O21) -> 16 | X21: =COUNT(R21:W21) -> 0 | Y21: =SUM(R21:W21) -> 0 | AG21: =COUNT(Z21:AF21) -> 0 | AH21: =SUM(Z21:AF21) -> 0 | AO21: =COUNT(AI21:AN21) -> 0 | AP21: =SUM(AI21:AN21) -> 0 | AQ21: =AO21+AG21+X21+P21+G21 -> 1 | AR21: =AP21+AH21+Y21+H21+Q21 -> 16 | AS21: =AQ21 -> 1 | AT21: =AR21 -> 16
A22: Коломийський ліцей №9 | B22: 27 | C22: 33 | D22: 32 | E22: 27 | G22: =COUNT(B22:F22) -> 4 | H22: =SUM(B22:F22) -> 119 | I22: 25 | J22: 20 | K22: 21 | L22: 20 | M22: 20 | N22: 24 | P22: =COUNT(I22:O22) -> 6 | Q22: =SUM(I22:O22) -> 130 | R22: 28 | S22: 30 | T22: 33 | U22: 24 | X22: =COUNT(R22:W22) -> 4 | Y22: =SUM(R22:W22) -> 115 | Z22: 26 | AA22: 22 | AB22: 23 | AC22: 21 | AD22: 29 | AE22: 23 | AG22: =COUNT(Z22:AF22) -> 6 | AH22: =SUM(Z22:AF22) -> 144 | AI22: 27 | AJ22: 29 | AK22: 25 | AM22: 25 | AN22: 24 | AO22: =COUNT(AI22:AN22) -> 5 | AP22: =SUM(AI22:AN22) -> 130 | AQ22: =AO22+AG22+X22+P22+G22 -> 25 | AR22: =AP22+AH22+Y22+H22+Q22 -> 638 | AS22: =SUM(AQ22:AQ23) -> 38 | AT22: =SUM(AR22:AR23) -> 950
A23: філія 6 | B23: 30 | C23: 24 | D23: 25 | G23: =COUNT(B23:F23) -> 3 | H23: =SUM(B23:F23) -> 79 | I23: 27 | J23: 27 | P23: =COUNT(I23:O23) -> 2 | Q23: =SUM(I23:O23) -> 54 | R23: 23 | S23: 22 | T23: 21 | X23: =COUNT(R23:W23) -> 3 | Y23: =SUM(R23:W23) -> 66 | Z23: 24 | AA23: 22 | AG23: =COUNT(Z23:AF23) -> 2 | AH23: =SUM(Z23:AF23) -> 46 | AI23: 23 | AJ23: 24 | AK23: 20 | AO23: =COUNT(AI23:AN23) -> 3 | AP23: =SUM(AI23:AN23) -> 67 | AQ23: =AO23+AG23+X23+P23+G23 -> 13 | AR23: =AP23+AH23+Y23+H23+Q23 -> 312
A24: Коломийський ліцей "Коломийська гімназія імені Михайла Грушевського" | B24: 31 | G24: =COUNT(B24:F24) -> 1 | H24: =SUM(B24:F24) -> 31 | I24: 30 | J24: 32 | P24: =COUNT(I24:O24) -> 2 | Q24: =SUM(I24:O24) -> 62 | R24: 30 | S24: 31 | X24: =COUNT(R24:W24) -> 2 | Y24: =SUM(R24:W24) -> 61 | Z24: 26 | AA24: 28 | AG24: =COUNT(Z24:AF24) -> 2 | AH24: =SUM(Z24:AF24) -> 54 | AI24: 35 | AJ24: 37 | AO24: =COUNT(AI24:AN24) -> 2 | AP24: =SUM(AI24:AN24) -> 72 | AQ24: =AO24+AG24+X24+P24+G24 -> 9 | AR24: =AP24+AH24+Y24+H24+Q24 -> 280 | AS24: =AQ24 -> 9 | AT24: =AR24 -> 280
A25: Саджавський ліцей | B25: 35 | G25: =COUNT(B25:F25) -> 1 | H25: =SUM(B25:F25) -> 35 | I25: 19 | J25: 19 | P25: =COUNT(I25:O25) -> 2 | Q25: =SUM(I25:O25) -> 38 | R25: 39 | X25: =COUNT(R25:W25) -> 1 | Y25: =SUM(R25:W25) -> 39 | Z25: 21 | AA25: 21 | AG25: =COUNT(Z25:AF25) -> 2 | AH25: =SUM(Z25:AF25) -> 42 | AI25: 24 | AJ25: 25 | AO25: =COUNT(AI25:AN25) -> 2 | AP25: =SUM(AI25:AN25) -> 49 | AQ25: =AO25+AG25+X25+P25+G25 -> 8 | AR25: =AP25+AH25+Y25+H25+Q25 -> 203 | AS25: =AQ25 -> 8 | AT25: =AR25 -> 203
A26: Всього: | G26: =SUM(G8:G25) -> 34 | H26: =SUM(H8:H25) -> 882 | P26: =SUM(P8:P25) -> 37 | Q26: =SUM(Q8:Q25) -> 918 | X26: =SUM(X8:X25) -> 36 | Y26: =SUM(Y8:Y25) -> 977 | AG26: =SUM(AG8:AG25) -> 38 | AH26: =SUM(AH8:AH25) -> 951 | AO26: =SUM(AO8:AO25) -> 36 | AP26: =SUM(AP8:AP25) -> 927 | AQ26: =AO26+AG26+X26+P26+G26 -> 181 | AR26: =AP26+AH26+Y26+H26+Q26 -> 4655 | AS26: =SUM(AS8:AS25) -> 181 | AT26: =SUM(AT8:AT25) -> 4655
A27: Всього без вечірних класів | G27: =G26-G21 -> 34 | H27: =H26-H21 -> 882 | P27: =P26-P21 -> 36 | Q27: =Q26-Q21 -> 902 | X27: =X26-X21 -> 36 | Y27: =Y26-Y21 -> 977 | AG27: =AG26-AG21 -> 38 | AH27: =AH26-AH21 -> 951 | AI27: =AI26-AI21 -> 0 | AO27: =AO26-AO21 -> 36 | AP27: =AP26-AP21 -> 927 | AQ27: =AQ26-AQ21 -> 180 | AR27: =AR26-AR21 -> 4639 | AS27: =AS26-AS21 -> 180 | AT27: =AT26-AT21 -> 4639
A32: Керуючий справами виконавчого комітету міської ради | AQ32: Микола АНДРУСЯК

Sheet 5-9 класи (інклюзія)
AK1: продовження додатка 1
AK2: до рішення виконавчого комітету
AK3: від 09.09.2025 №111
B5: Фактична мережа закладів загальної середньої освіти на 2025/2026 навчальний рік (інклюзія)
A7: Заклади загальної середньої освіти | B7: 5-А | C7: 5-Б | D7: 5-В | E7: 5-Г | F7: 5-І | G7: к-сть класів | H7: к-сть учнів | I7: 6-А | J7: 6-Б | K7: 6-В | L7: 6-Г | M7: 6-Д | N7: 6-Е | O7: к-сть класів | P7: к-сть учнів | Q7: 7-А | R7: 7-Б | S7: 7-В | T7: 7-Г | U7: 7-Д | V7: к-сть класів | W7: к-сть учнів | X7: 8-А | Y7: 8-Б | Z7: 8-В | AA7: 8-Г | AB7: 8-Д | AC7: 8-Е | AD7: к-сть класів | AE7: к-сть учнів | AF7: 9-А | AG7: 9-Б | AH7: 9-В | AI7: 9-Г | AJ7: 9-Д | AK7: к-сть класів | AL7: к-сть учнів | AM7: к-сть 5-9 класів | AN7: к-сть учнів у 5-9 кл. | AO7: к-сть 5-9 класів по опорному закладу | AP7: к-сть учнів у 5-9 кл. по опорному закладу
A8: Коломийський ліцей №1 імені В.Стефаника | G8: =COUNT(B8:F8) -> 0 | H8: =SUM(B8:F8) -> 0 | N8: 1 | O8: =COUNT(I8:N8) -> 1 | P8: =SUM(I8:N8) -> 1 | S8: 1 | V8: =COUNT(Q8:U8) -> 1 | W8: =SUM(Q8:U8) -> 1 | AD8: =COUNT(X8:AC8) -> 0 | AE8: =SUM(X8:AC8) -> 0 | AK8: =COUNT(AF8:AJ8) -> 0 | AL8: =SUM(AF8:AJ8) -> 0 | AM8: =AK8+AD8+V8+O8+G8 -> 2 | AN8: =AL8+AE8+W8+H8+P8 -> 2 | AO8: =SUM(AM8:AM10) -> 8 | AP8: =SUM(AN8:AN10) -> 11
A9: Корницька філія | B9: 2 | G9: =COUNT(B9:F9) -> 1 | H9: =SUM(B9:F9) -> 2 | I9: 1 | O9: =COUNT(I9:N9) -> 1 | P9: =SUM(I9:N9) -> 1 | V9: =COUNT(Q9:U9) -> 0 | W9: =SUM(Q9:U9) -> 0 | X9: 2 | AD9: =COUNT(X9:AC9) -> 1 | AE9: =SUM(X9:AC9) -> 2 | AK9: =COUNT(AF9:AJ9) -> 0 | AL9: =SUM(AF9:AJ9) -> 0 | AM9: =AK9+AD9+V9+O9+G9 -> 3 | AN9: =AL9+AE9+W9+H9+P9 -> 5
A10: Воскресінцівська філія | G10: =COUNT(B10:F10) -> 0 | H10: =SUM(B10:F10) -> 0 | I10: 2 | O10: =COUNT(I10:N10) -> 1 | P10: =SUM(I10:N10) -> 2 | Q10: 1 | V10: =COUNT(Q10:U10) -> 1 | W10: =SUM(Q10:U10) -> 1 | X10: 1 | AD10: =COUNT(X10:AC10) -> 1 | AE10: =SUM(X10:AC10) -> 1 | AK10: =COUNT(AF10:AJ10) -> 0 | AL10: =SUM(AF10:AJ10) -> 0 | AM10: =AK10+AD10+V10+O10+G10 -> 3 | AN10: =AL10+AE10+W10+H10+P10 -> 4
A11: Коломийський ліцей №2 | B11: 2 | D11: 1 | G11: =COUNT(B11:F11) -> 2 | H11: =SUM(B11:F11) -> 3 | I11: 1 | O11: =COUNT(I11:N11) -> 1 | P11: =SUM(I11:N11) -> 1 | Q11: 2 | V11: =COUNT(Q11:U11) -> 1 | W11: =SUM(Q11:U11) -> 2 | AD11: =COUNT(X11:AC11) -> 0 | AE11: =SUM(X11:AC11) -> 0 | AK11: =COUNT(AF11:AJ11) -> 0 | AL11: =SUM(AF11:AJ11) -> 0 | AM11: =AK11+AD11+V11+O11+G11 -> 4 | AN11: =AL11+AE11+W11+H11+P11 -> 6 | AO11: =AM11 -> 4 | AP11: =AN11 -> 6
A12: Коломийський ліцей №4 імені Сергія Лисенка | C12: 1 | G12: =COUNT(B12:F12) -> 1 | H12: =SUM(B12:F12) -> 1 | K12: 2 | O12: =COUNT(I12:N12) -> 1 | P12: =SUM(I12:N12) -> 2 | R12: 3 | T12: 1 | U12: 1 | V12: =COUNT(Q12:U12) -> 3 | W12: =SUM(Q12:U12) -> 5 | Z12: 2 | AD12: =COUNT(X12:AC12) -> 1 | AE12: =SUM(X12:AC12) -> 2 | AJ12: 1 | AK12: =COUNT(AF12:AJ12) -> 1 | AL12: =SUM(AF12:AJ12) -> 1 | AM12: =AK12+AD12+V12+O12+G12 -> 7 | AN12: =AL12+AE12+W12+H12+P12 -> 11 | AO12: =SUM(AM12:AM13) -> 10 | AP12: =SUM(AN12:AN13) -> 15
A13: філія 3 | G13: =COUNT(B13:F13) -> 0 | H13: =SUM(B13:F13) -> 0 | O13: =COUNT(I13:N13) -> 0 | P13: =SUM(I13:N13) -> 0 | Q13: 1 | V13: =COUNT(Q13:U13) -> 1 | W13: =SUM(Q13:U13) -> 1 | X13: 1 | AD13: =COUNT(X13:AC13) -> 1 | AE13: =SUM(X13:AC13) -> 1 | AF13: 2 | AK13: =COUNT(AF13:AJ13) -> 1 | AL13: =SUM(AF13:AJ13) -> 2 | AM13: =AK13+AD13+V13+O13+G13 -> 3 | AN13: =AL13+AE13+W13+H13+P13 -> 4
A14: Коломийський ліцей №5 імені Т.Г.Шевченка | B14: 2 | G14: =COUNT(B14:F14) -> 1 | H14: =SUM(B14:F14) -> 2 | J14: 2 | K14: 3 | O14: =COUNT(I14:N14) -> 2 | P14: =SUM(I14:N14) -> 5 | Q14: 1 | R14: 2 | V14: =COUNT(Q14:U14) -> 2 | W14: =SUM(Q14:U14) -> 3 | X14: 1 | Y14: 2 | AD14: =COUNT(X14:AC14) -> 2 | AE14: =SUM(X14:AC14) -> 3 | AF14: 1 | AK14: =COUNT(AF14:AJ14) -> 1 | AL14: =SUM(AF14:AJ14) -> 1 | AM14: =AK14+AD14+V14+O14+G14 -> 8 | AN14: =AL14+AE14+W14+H14+P14 -> 14 | AO14: =SUM(AM14:AM17) -> 10 | AP14: =SUM(AN14:AN17) -> 17
A15: філія 7 | C15: 1 | G15: =COUNT(B15:F15) -> 1 | H15: =SUM(B15:F15) -> 1 | O15: =COUNT(I15:N15) -> 0 | P15: =SUM(I15:N15) -> 0 | V15: =COUNT(Q15:U15) -> 0 | W15: =SUM(Q15:U15) -> 0 | AD15: =COUNT(X15:AC15) -> 0 | AE15: =SUM(X15:AC15) -> 0 | AF15: 2 | AK15: =COUNT(AF15:AJ15) -> 1 | AL15: =SUM(AF15:AJ15) -> 2 | AM15: =AK15+AD15+V15+O15+G15 -> 2 | AN15: =AL15+AE15+W15+H15+P15 -> 3
A16: Раківчицька філія | G16: =COUNT(B16:F16) -> 0 | H16: =SUM(B16:F16) -> 0 | O16: =COUNT(I16:N16) -> 0 | P16: =SUM(I16:N16) -> 0 | V16: =COUNT(Q16:U16) -> 0 | W16: =SUM(Q16:U16) -> 0 | AD16: =COUNT(X16:AC16) -> 0 | AE16: =SUM(X16:AC16) -> 0 | AK16: =COUNT(AF16:AJ16) -> 0 | AL16: =SUM(AF16:AJ16) -> 0 | AM16: =AK16+AD16+V16+O16+G16 -> 0 | AN16: =AL16+AE16+W16+H16+P16 -> 0
A17: Шепарівцівська філія | G17: =COUNT(B17:F17) -> 0 | H17: =SUM(B17:F17) -> 0 | O17: =COUNT(I17:N17) -> 0 | P17: =SUM(I17:N17) -> 0 | V17: =COUNT(Q17:U17) -> 0 | W17: =SUM(Q17:U17) -> 0 | AD17: =COUNT(X17:AC17) -> 0 | AE17: =SUM(X17:AC17) -> 0 | AK17: =COUNT(AF17:AJ17) -> 0 | AL17: =SUM(AF17:AJ17) -> 0 | AM17: =AK17+AD17+V17+O17+G17 -> 0 | AN17: =AL17+AE17+W17+H17+P17 -> 0
A18: Коломийський ліцей №8 | B18: 1 | C18: 1 | G18: =COUNT(B18:F18) -> 2 | H18: =SUM(B18:F18) -> 2 | O18: =COUNT(I18:N18) -> 0 | P18: =SUM(I18:N18) -> 0 | Q18: 1 | S18: 1 | V18: =COUNT(Q18:U18) -> 2 | W18: =SUM(Q18:U18) -> 2 | AD18: =COUNT(X18:AC18) -> 0 | AE18: =SUM(X18:AC18) -> 0 | AF18: 1 | AK18: =COUNT(AF18:AJ18) -> 1 | AL18: =SUM(AF18:AJ18) -> 1 | AM18: =AK18+AD18+V18+O18+G18 -> 5 | AN18: =AL18+AE18+W18+H18+P18 -> 5 | AO18: =SUM(AM18:AM20) -> 7 | AP18: =AN18+AN20+AN19 -> 9
A19: Іванівецька філія | B19: 1 | G19: =COUNT(B19:F19) -> 1 | H19: =SUM(B19:F19) -> 1 | O19: =COUNT(I19:N19) -> 0 | P19: =SUM(I19:N19) -> 0 | V19: =COUNT(Q19:U19) -> 0 | W19: =SUM(Q19:U19) -> 0 | AD19: =COUNT(X19:AC19) -> 0 | AE19: =SUM(X19:AC19) -> 0 | AK19: =COUNT(AF19:AJ19) -> 0 | AL19: =SUM(AF19:AJ19) -> 0 | AM19: =AK19+AD19+V19+O19+G19 -> 1 | AN19: =AL19+AE19+W19+H19+P19 -> 1
A20: Товмачицька філія | G20: =COUNT(B20:F20) -> 0 | H20: =SUM(B20:F20) -> 0 | O20: =COUNT(I20:N20) -> 0 | P20: =SUM(I20:N20) -> 0 | V20: =COUNT(Q20:U20) -> 0 | W20: =SUM(Q20:U20) -> 0 | AD20: =COUNT(X20:AC20) -> 0 | AE20: =SUM(X20:AC20) -> 0 | AF20: 3 | AK20: =COUNT(AF20:AJ20) -> 1 | AL20: =SUM(AF20:AJ20) -> 3 | AM20: =AK20+AD20+V20+O20+G20 -> 1 | AN20: =AL20+AE20+W20+H20+P20 -> 3
A21: вечірні класи | G21: =COUNT(B21:F21) -> 0 | H21: =SUM(B21:F21) -> 0 | O21: =COUNT(I21:N21) -> 0 | P21: =SUM(I21:N21) -> 0 | V21: =COUNT(Q21:U21) -> 0 | W21: =SUM(Q21:U21) -> 0 | AD21: =COUNT(X21:AC21) -> 0 | AE21: =SUM(X21:AC21) -> 0 | AK21: =COUNT(AF21:AJ21) -> 0 | AL21: =SUM(AF21:AJ21) -> 0 | AM21: =AK21+AD21+V21+O21+G21 -> 0 | AN21: =AL21+AE21+W21+H21+P21 -> 0 | AO21: =AM21 -> 0 | AP21: =AN21 -> 0
A22: Коломийський ліцей №9 | E22: 1 | G22: =COUNT(B22:F22) -> 1 | H22: =SUM(B22:F22) -> 1 | K22: 1 | O22: =COUNT(I22:N22) -> 1 | P22: =SUM(I22:N22) -> 1 | V22: =COUNT(Q22:U22) -> 0 | W22: =SUM(Q22:U22) -> 0 | Z22: 1 | AB22: 1 | AD22: =COUNT(X22:AC22) -> 2 | AE22: =SUM(X22:AC22) -> 2 | AH22: 1 | AJ22: 1 | AK22: =COUNT(AF22:AJ22) -> 2 | AL22: =SUM(AF22:AJ22) -> 2 | AM22: =AK22+AD22+V22+O22+G22 -> 6 | AN22: =AL22+AE22+W22+H22+P22 -> 6 | AO22: =SUM(AM22:AM23) -> 11 | AP22: =SUM(AN22:AN23) -> 12
A23: філія 6 | D23: 1 | G23: =COUNT(B23:F23) -> 1 | H23: =SUM(B23:F23) -> 1 | I23: 1 | J23: 1 | O23: =COUNT(I23:N23) -> 2 | P23: =SUM(I23:N23) -> 2 | Q23: 2 | V23: =COUNT(Q23:U23) -> 1 | W23: =SUM(Q23:U23) -> 2 | AD23: =COUNT(X23:AC23) -> 0 | AE23: =SUM(X23:AC23) -> 0 | AH23: 1 | AK23: =COUNT(AF23:AJ23) -> 1 | AL23: =SUM(AF23:AJ23) -> 1 | AM23: =AK23+AD23+V23+O23+G23 -> 5 | AN23: =AL23+AE23+W23+H23+P23 -> 6
A24: Коломийський ліцей "Коломийська гімназія імені Михайла Грушевського" | G24: =COUNT(B24:F24) -> 0 | H24: =SUM(B24:F24) -> 0 | O24: =COUNT(I24:N24) -> 0 | P24: =SUM(I24:N24) -> 0 | V24: =COUNT(Q24:U24) -> 0 | W24: =SUM(Q24:U24) -> 0 | AD24: =COUNT(X24:AC24) -> 0 | AE24: =SUM(X24:AC24) -> 0 | AK24: =COUNT(AF24:AJ24) -> 0 | AL24: =SUM(AF24:AJ24) -> 0 | AM24: =AK24+AD24+V24+O24+G24 -> 0 | AN24: =AL24+AE24+W24+H24+P24 -> 0 | AO24: =AM24 -> 0 | AP24: =AN24 -> 0
A25: Саджавський ліцей | G25: =COUNT(B25:F25) -> 0 | H25: =SUM(B25:F25) -> 0 | I25: 1 | O25: =COUNT(I25:N25) -> 1 | P25: =SUM(I25:N25) -> 1 | Q25: 1 | V25: =COUNT(Q25:U25) -> 1 | W25: =SUM(Q25:U25) -> 1 | AD25: =COUNT(X25:AC25) -> 0 | AE25: =SUM(X25:AC25) -> 0 | AK25: =COUNT(AF25:AJ25) -> 0 | AL25: =SUM(AF25:AJ25) -> 0 | AM25: =AK25+AD25+V25+O25+G25 -> 2 | AN25: =AL25+AE25+W25+H25+P25 -> 2 | AO25: =AM25 -> 2 | AP25: =AN25 -> 2
A26: Всього: | G26: =SUM(G8:G25) -> 11 | H26: =SUM(H8:H25) -> 14 | O26: =SUM(O8:O25) -> 11 | P26: =SUM(P8:P25) -> 16 | V26: =SUM(V8:V25) -> 13 | W26: =SUM(W8:W25) -> 18 | AD26: =SUM(AD8:AD25) -> 8 | AE26: =SUM(AE8:AE25) -> 11 | AK26: =SUM(AK8:AK25) -> 9 | AL26: =SUM(AL8:AL25) -> 13 | AM26: =SUM(AM8:AM25) -> 52 | AN26: =SUM(AN8:AN25) -> 72 | AO26: =SUM(AO8:AO25) -> 52 | AP26: =SUM(AP8:AP25) -> 72
A27: Всього без вечірних класів | G27: =G26-G21 -> 11 | H27: =H26-H21 -> 14 | O27: =O26-O21 -> 11 | P27: =P26-P21 -> 16 | V27: =V26-V21 -> 13 | W27: =W26-W21 -> 18 | AD27: =AD26-AD21 -> 8 | AE27: =AE26-AE21 -> 11 | AK27: =AK26-AK21 -> 9 | AL27: =AL26-AL21 -> 13 | AM27: =AM26-AM21 -> 52 | AN27: =AN26-AN21 -> 72 | AO27: =AO26-AO21 -> 52 | AP27: =AP26-AP21 -> 72
A30: Керуючий справами виконавчого комітету міської ради | AL30: Микола АНДРУСЯК

Sheet  5-9 класи (пед патронаж)
AK1: продовження додатка 1
AK2: до рішення виконавчого комітету
AK3: від 09.09.2025 №111
B5: Фактична мережа закладів загальної середньої освіти на 2025/2026 навчальний рік (педагогічний патронаж)
A7: Заклади загальної середньої освіти | B7: 5-А | C7: 5-Б | D7: 5-В | E7: 5-Г | F7: 5-І | G7: к-сть класів | H7: к-сть учнів | I7: 6-А | J7: 6-Б | K7: 6-В | L7: 6-Г | M7: 6-Д | N7: 6-Е | O7: к-сть класів | P7: к-сть учнів | Q7: 7-А | R7: 7-Б | S7: 7-В | T7: 7-Г | U7: 7-Д | V7: к-сть класів | W7: к-сть учнів | X7: 8-А | Y7: 8-Б | Z7: 8-В | AA7: 8-Г | AB7: 8-Д | AC7: 8-Е | AD7: к-сть класів | AE7: к-сть учнів | AF7: 9-А | AG7: 9-Б | AH7: 9-В | AI7: 9-Г | AJ7: 9-Д | AK7: к-сть класів | AL7: к-сть учнів | AM7: к-сть 5-9 класів | AN7: к-сть учнів у 5-9 кл. | AO7: к-сть 5-9 класів по опорному закладу | AP7: к-сть учнів у 5-9 кл. по опорному закладу
A8: Коломийський ліцей №1 імені В.Стефаника | G8: =COUNT(B8:F8) -> 0 | H8: =SUM(B8:F8) -> 0 | O8: =COUNT(I8:N8) -> 0 | P8: =SUM(I8:N8) -> 0 | V8: =COUNT(Q8:U8) -> 0 | W8: =SUM(Q8:U8) -> 0 | AD8: =COUNT(X8:AC8) -> 0 | AE8: =SUM(X8:AC8) -> 0 | AK8: =COUNT(AF8:AJ8) -> 0 | AL8: =SUM(AF8:AJ8) -> 0 | AM8: =AK8+AD8+V8+O8+G8 -> 0 | AN8: =AL8+AE8+W8+H8+P8 -> 0 | AO8: =SUM(AM8:AM10) -> 3 | AP8: =SUM(AN8:AN10) -> 3
A9: Корницька філія | G9: =COUNT(B9:F9) -> 0 | H9: =SUM(B9:F9) -> 0 | I9: 1 | O9: =COUNT(I9:N9) -> 1 | P9: =SUM(I9:N9) -> 1 | Q9: 1 | V9: =COUNT(Q9:U9) -> 1 | W9: =SUM(Q9:U9) -> 1 | AD9: =COUNT(X9:AC9) -> 0 | AE9: =SUM(X9:AC9) -> 0 | AK9: =COUNT(AF9:AJ9) -> 0 | AL9: =SUM(AF9:AJ9) -> 0 | AM9: =AK9+AD9+V9+O9+G9 -> 2 | AN9: =AL9+AE9+W9+H9+P9 -> 2
A10: Воскресінцівська філія | G10: =COUNT(B10:F10) -> 0 | H10: =SUM(B10:F10) -> 0 | O10: =COUNT(I10:N10) -> 0 | P10: =SUM(I10:N10) -> 0 | Q10: 1 | V10: =COUNT(Q10:U10) -> 1 | W10: =SUM(Q10:U10) -> 1 | AD10: =COUNT(X10:AC10) -> 0 | AE10: =SUM(X10:AC10) -> 0 | AK10: =COUNT(AF10:AJ10) -> 0 | AL10: =SUM(AF10:AJ10) -> 0 | AM10: =AK10+AD10+V10+O10+G10 -> 1 | AN10: =AL10+AE10+W10+H10+P10 -> 1
A11: Коломийський ліцей №2 | C11: 1 | G11: =COUNT(B11:F11) -> 1 | H11: =SUM(B11:F11) -> 1 | I11: 1 | O11: =COUNT(I11:N11) -> 1 | P11: =SUM(I11:N11) -> 1 | Q11: 2 | V11: =COUNT(Q11:U11) -> 1 | W11: =SUM(Q11:U11) -> 2 | AD11: =COUNT(X11:AC11) -> 0 | AE11: =SUM(X11:AC11) -> 0 | AG11: 1 | AK11: =COUNT(AF11:AJ11) -> 1 | AL11: =SUM(AF11:AJ11) -> 1 | AM11: =AK11+AD11+V11+O11+G11 -> 4 | AN11: =AL11+AE11+W11+H11+P11 -> 5 | AO11: =AM11 -> 4 | AP11: =AN11 -> 5
A12: Коломийський ліцей №4 імені Сергія Лисенка | G12: =COUNT(B12:F12) -> 0 | H12: =SUM(B12:F12) -> 0 | O12: =COUNT(I12:N12) -> 0 | P12: =SUM(I12:N12) -> 0 | V12: =COUNT(Q12:U12) -> 0 | W12: =SUM(Q12:U12) -> 0 | AD12: =COUNT(X12:AC12) -> 0 | AE12: =SUM(X12:AC12) -> 0 | AK12: =COUNT(AF12:AJ12) -> 0 | AL12: =SUM(AF12:AJ12) -> 0 | AM12: =AK12+AD12+V12+O12+G12 -> 0 | AN12: =AL12+AE12+W12+H12+P12 -> 0 | AO12: =SUM(AM12:AM13) -> 0 | AP12: =SUM(AN12:AN13) -> 0
A13: філія 3 | G13: =COUNT(B13:F13) -> 0 | H13: =SUM(B13:F13) -> 0 | O13: =COUNT(I13:N13) -> 0 | P13: =SUM(I13:N13) -> 0 | V13: =COUNT(Q13:U13) -> 0 | W13: =SUM(Q13:U13) -> 0 | AD13: =COUNT(X13:AC13) -> 0 | AE13: =SUM(X13:AC13) -> 0 | AK13: =COUNT(AF13:AJ13) -> 0 | AL13: =SUM(AF13:AJ13) -> 0 | AM13: =AK13+AD13+V13+O13+G13 -> 0 | AN13: =AL13+AE13+W13+H13+P13 -> 0
A14: Коломийський ліцей №5 імені Т.Г.Шевченка | G14: =COUNT(B14:F14) -> 0 | H14: =SUM(B14:F14) -> 0 | O14: =COUNT(I14:N14) -> 0 | P14: =SUM(I14:N14) -> 0 | V14: =COUNT(Q14:U14) -> 0 | W14: =SUM(Q14:U14) -> 0 | AD14: =COUNT(X14:AC14) -> 0 | AE14: =SUM(X14:AC14) -> 0 | AK14: =COUNT(AF14:AJ14) -> 0 | AL14: =SUM(AF14:AJ14) -> 0 | AM14: =AK14+AD14+V14+O14+G14 -> 0 | AN14: =AL14+AE14+W14+H14+P14 -> 0 | AO14: 0 | AP14: =SUM(AN14:AN17) -> 0
A15: філія 7 | G15: =COUNT(B15:F15) -> 0 | H15: =SUM(B15:F15) -> 0 | O15: =COUNT(I15:N15) -> 0 | P15: =SUM(I15:N15) -> 0 | V15: =COUNT(Q15:U15) -> 0 | W15: =SUM(Q15:U15) -> 0 | AD15: =COUNT(X15:AC15) -> 0 | AE15: =SUM(X15:AC15) -> 0 | AK15: =COUNT(AF15:AJ15) -> 0 | AL15: =SUM(AF15:AJ15) -> 0 | AM15: =AK15+AD15+V15+O15+G15 -> 0 | AN15: =AL15+AE15+W15+H15+P15 -> 0
A16: Раківчицька філія | G16: =COUNT(B16:F16) -> 0 | H16: =SUM(B16:F16) -> 0 | O16: =COUNT(I16:N16) -> 0 | P16: =SUM(I16:N16) -> 0 | V16: =COUNT(Q16:U16) -> 0 | W16: =SUM(Q16:U16) -> 0 | AD16: =COUNT(X16:AC16) -> 0 | AE16: =SUM(X16:AC16) -> 0 | AK16: =COUNT(AF16:AJ16) -> 0 | AL16: =SUM(AF16:AJ16) -> 0 | AM16: =AK16+AD16+V16+O16+G16 -> 0 | AN16: =AL16+AE16+W16+H16+P16 -> 0
A17: Шепарівцівська філія | G17: =COUNT(B17:F17) -> 0 | H17: =SUM(B17:F17) -> 0 | O17: =COUNT(I17:N17) -> 0 | P17: =SUM(I17:N17) -> 0 | V17: =COUNT(Q17:U17) -> 0 | W17: =SUM(Q17:U17) -> 0 | AD17: =COUNT(X17:AC17) -> 0 | AE17: =SUM(X17:AC17) -> 0 | AK17: =COUNT(AF17:AJ17) -> 0 | AL17: =SUM(AF17:AJ17) -> 0 | AM17: =AK17+AD17+V17+O17+G17 -> 0 | AN17: =AL17+AE17+W17+H17+P17 -> 0
A18: Коломийський ліцей №8 | G18: =COUNT(B18:F18) -> 0 | H18: =SUM(B18:F18) -> 0 | O18: =COUNT(I18:N18) -> 0 | P18: =SUM(I18:N18) -> 0 | V18: =COUNT(Q18:U18) -> 0 | W18: =SUM(Q18:U18) -> 0 | Y18: 1 | AD18: =COUNT(X18:AC18) -> 1 | AE18: =SUM(X18:AC18) -> 1 | AG18: 1 | AK18: =COUNT(AF18:AJ18) -> 1 | AL18: =SUM(AF18:AJ18) -> 1 | AM18: =AK18+AD18+V18+O18+G18 -> 2 | AN18: =AL18+AE18+W18+H18+P18 -> 2 | AO18: 3 | AP18: =AN18+AN20+AN19 -> 3
A19: Іванівська філія | G19: =COUNT(B19:F19) -> 0 | H19: =SUM(B19:F19) -> 0 | O19: =COUNT(I19:N19) -> 0 | P19: =SUM(I19:N19) -> 0 | V19: =COUNT(Q19:U19) -> 0 | W19: =SUM(Q19:U19) -> 0 | X19: 1 | AD19: =COUNT(X19:AC19) -> 1 | AE19: =SUM(X19:AC19) -> 1 | AK19: =COUNT(AF19:AJ19) -> 0 | AL19: =SUM(AF19:AJ19) -> 0 | AM19: =AK19+AD19+V19+O19+G19 -> 1 | AN19: =AL19+AE19+W19+H19+P19 -> 1
A20: Товмачицька філія | G20: =COUNT(B20:F20) -> 0 | H20: =SUM(B20:F20) -> 0 | O20: =COUNT(I20:N20) -> 0 | P20: =SUM(I20:N20) -> 0 | V20: =COUNT(Q20:U20) -> 0 | W20: =SUM(Q20:U20) -> 0 | AD20: =COUNT(X20:AC20) -> 0 | AE20: =SUM(X20:AC20) -> 0 | AK20: =COUNT(AF20:AJ20) -> 0 | AL20: =SUM(AF20:AJ20) -> 0 | AM20: =AK20+AD20+V20+O20+G20 -> 0 | AN20: =AL20+AE20+W20+H20+P20 -> 0
A21: вечірні класи | G21: =COUNT(B21:F21) -> 0 | H21: =SUM(B21:F21) -> 0 | O21: =COUNT(I21:N21) -> 0 | P21: =SUM(I21:N21) -> 0 | V21: =COUNT(Q21:U21) -> 0 | W21: =SUM(Q21:U21) -> 0 | AD21: =COUNT(X21:AC21) -> 0 | AE21: =SUM(X21:AC21) -> 0 | AK21: =COUNT(AF21:AJ21) -> 0 | AL21: =SUM(AF21:AJ21) -> 0 | AM21: =AK21+AD21+V21+O21+G21 -> 0 | AN21: =AL21+AE21+W21+H21+P21 -> 0 | AO21: =AM21 -> 0 | AP21: =AN21 -> 0
A22: Коломийський ліцей №9 | G22: =COUNT(B22:F22) -> 0 | H22: =SUM(B22:F22) -> 0 | O22: =COUNT(I22:N22) -> 0 | P22: =SUM(I22:N22) -> 0 | V22: =COUNT(Q22:U22) -> 0 | W22: =SUM(Q22:U22) -> 0 | AD22: =COUNT(X22:AC22) -> 0 | AE22: =SUM(X22:AC22) -> 0 | AK22: =COUNT(AF22:AJ22) -> 0 | AL22: =SUM(AF22:AJ22) -> 0 | AM22: =AK22+AD22+V22+O22+G22 -> 0 | AN22: =AL22+AE22+W22+H22+P22 -> 0 | AO22: =SUM(AM22:AM23) -> 0 | AP22: =SUM(AN22:AN23) -> 0
A23: філія 6 | G23: =COUNT(B23:F23) -> 0 | H23: =SUM(B23:F23) -> 0 | O23: =COUNT(I23:N23) -> 0 | P23: =SUM(I23:N23) -> 0 | V23: =COUNT(Q23:U23) -> 0 | W23: =SUM(Q23:U23) -> 0 | AD23: =COUNT(X23:AC23) -> 0 | AE23: =SUM(X23:AC23) -> 0 | AK23: =COUNT(AF23:AJ23) -> 0 | AL23: =SUM(AF23:AJ23) -> 0 | AM23: =AK23+AD23+V23+O23+G23 -> 0 | AN23: =AL23+AE23+W23+H23+P23 -> 0
A24: Коломийський ліцей "Коломийська гімназія імені Михайла Грушевського" | G24: =COUNT(B24:F24) -> 0 | H24: =SUM(B24:F24) -> 0 | O24: =COUNT(I24:N24) -> 0 | P24: =SUM(I24:N24) -> 0 | V24: =COUNT(Q24:U24) -> 0 | W24: =SUM(Q24:U24) -> 0 | AD24: =COUNT(X24:AC24) -> 0 | AE24: =SUM(X24:AC24) -> 0 | AK24: =COUNT(AF24:AJ24) -> 0 | AL24: =SUM(AF24:AJ24) -> 0 | AM24: =AK24+AD24+V24+O24+G24 -> 0 | AN24: =AL24+AE24+W24+H24+P24 -> 0 | AO24: =AM24 -> 0 | AP24: =AN24 -> 0
A25: Саджавський ліцей | G25: =COUNT(B25:F25) -> 0 | H25: =SUM(B25:F25) -> 0 | O25: =COUNT(I25:N25) -> 0 | P25: =SUM(I25:N25) -> 0 | V25: =COUNT(Q25:U25) -> 0 | W25: =SUM(Q25:U25) -> 0 | AD25: =COUNT(X25:AC25) -> 0 | AE25: =SUM(X25:AC25) -> 0 | AK25: =COUNT(AF25:AJ25) -> 0 | AL25: =SUM(AF25:AJ25) -> 0 | AM25: =AK25+AD25+V25+O25+G25 -> 0 | AN25: =AL25+AE25+W25+H25+P25 -> 0 | AO25: =AM25 -> 0 | AP25: =AN25 -> 0
A26: Всього: | G26: =SUM(G8:G25) -> 1 | H26: =SUM(H8:H25) -> 1 | O26: =SUM(O8:O25) -> 2 | P26: =SUM(P8:P25) -> 2 | V26: =SUM(V8:V25) -> 3 | W26: =SUM(W8:W25) -> 4 | AD26: =SUM(AD8:AD25) -> 2 | AE26: =SUM(AE8:AE25) -> 2 | AK26: =SUM(AK8:AK25) -> 2 | AL26: =SUM(AL8:AL25) -> 2 | AM26: =SUM(AM8:AM25) -> 10 | AN26: =SUM(AN8:AN25) -> 11 | AO26: =SUM(AO8:AO25) -> 10 | AP26: =SUM(AP8:AP25) -> 11
A27: Всього без вечірних класів | G27: =SUM(G9:G26) -> 2 | H27: =SUM(H9:H26) -> 2 | O27: =O26-O21 -> 2 | P27: =P26-P21 -> 2 | V27: =V26-V21 -> 3 | W27: =W26-W21 -> 4 | AD27: =AD26-AD21 -> 2 | AE27: =AE26-AE21 -> 2 | AK27: =AK26-AK21 -> 2 | AL27: =AL26-AL21 -> 2 | AM27: =AM26-AM21 -> 10 | AN27: =AN26-AN21 -> 11 | AO27: =AO26-AO21 -> 10 | AP27: =AP26-AP21 -> 11
A30: Керуючий справами виконавчого комітету міської ради | AL30: Микола АНДРУСЯК

Sheet 10-11 класи
V1: продовження додатка 1
V2: до рішення виконавчого комітету
V3: від 09.09.2025 №111
B7: Фактична мережа закладів загальної середньої освіти на 2025/2026 навчальний рік | W7: Наповнюваність
A9: Заклади загальної середньої освіти | B9: 10-А | C9: 10-Б | D9: 10-В | E9: 10-Г | F9: 10-Е | G9: к-сть класів | H9: к-сть учнів | I9: 11-А | J9: 11-Б | K9: 11-В | L9: 11-Г | M9: к-сть класів | N9: к-сть учнів | O9: 12 | P9: к-сть класів | Q9: к-сть учнів | R9: к-сть 10-12 класів | S9: к-сть учнів 10-12 класах | T9: к-сть 1-12 класів | U9: к-сть учнів у 1-12кл. | W9: І-ІV | X9: V-IX | Y9: X-XI | Z9: I-XI
A10: Коломийський ліцей №1 імені В.Стефаника | B10: 28 | C10: 29 | D10: 28 | E10: 28 | G10: =COUNT(B10:E10) -> 4 | H10: =SUM(B10:E10) -> 113 | I10: 28 | J10: 28 | K10: 34 | L10: 28 | M10: =COUNT(I10:L10) -> 4 | N10: =SUM(I10:L10) -> 118 | P10: =COUNT(O10) -> 0 | Q10: =SUM(O10) -> 0 | R10: =P10+M10+G10 -> 8 | S10: =H10+N10+Q10 -> 231 | T10: =R10+'5-9 класи'!AS8+'1-4 класи'!AH8 -> 63 | U10: =S10+'5-9 класи'!AT8+'1-4 класи'!AI8 -> 1607 | W10: ='1-4 класи'!AI8/'1-4 класи'!AH8 -> 23 | X10: ='1-4 класи'!AI11/'1-4 класи'!AH11 -> 23.444444 | Y10: =S10/R10 -> 28.875 | Z10: =U10/T10 -> 25.507937
A11: Коломийський ліцей №2 | B11: 33 | G11: =COUNT(B11:E11) -> 1 | H11: =SUM(B11:E11) -> 33 | I11: 38 | M11: =COUNT(I11:L11) -> 1 | N11: =SUM(I11:L11) -> 38 | P11: =COUNT(O11) -> 0 | Q11: =SUM(O11) -> 0 | R11: =P11+M11+G11 -> 2 | S11: =H11+N11+Q11 -> 71 | T11: =R11+'5-9 класи'!AS11+'1-4 класи'!AH11 -> 23 | U11: =S11+'5-9 класи'!AT11+'1-4 класи'!AI11 -> 606 | W11: ='1-4 класи'!AI11/'1-4 класи'!AH11 -> 23.444444 | X11: ='5-9 класи'!AT11/'5-9 класи'!AS11 -> 27 | Y11: =S11/R11 -> 35.5 | Z11: =U11/T11 -> 26.347826
A12: Коломийський ліцей №4 імені Сергія Лисенка | B12: 33 | C12: 34 | D12: 29 | G12: =COUNT(B12:E12) -> 3 | H12: =SUM(B12:E12) -> 96 | I12: 34 | J12: 35 | K12: 32 | M12: =COUNT(I12:L12) -> 3 | N12: =SUM(I12:L12) -> 101 | P12: =COUNT(O12) -> 0 | Q12: =SUM(O12) -> 0 | R12: =P12+M12+G12 -> 6 | S12: =H12+N12+Q12 -> 197 | T12: =R12+'5-9 класи'!AS12+'1-4 класи'!AH12 -> 57 | U12: =S12+'5-9 класи'!AT12+'1-4 класи'!AI12 -> 1584 | W12: ='1-4 класи'!AI12/'1-4 класи'!AH12 -> 24.173913 | X12: ='5-9 класи'!AT12/'5-9 класи'!AS12 -> 29.678571 | Y12: =S12/R12 -> 32.833333 | Z12: =U12/T12 -> 27.789474
A13: Коломийський ліцей №5 імені Т.Г.Шевченка | B13: 48 | G13: =COUNT(B13:E13) -> 1 | H13: =SUM(B13:E13) -> 48 | I13: 30 | J13: 27 | M13: =COUNT(I13:L13) -> 2 | N13: =SUM(I13:L13) -> 57 | P13: =COUNT(O13) -> 0 | Q13: =SUM(O13) -> 0 | R13: =P13+M13+G13 -> 3 | S13: =H13+N13+Q13 -> 105 | T13: ='1-4 класи'!AH15+'5-9 класи'!AS14+R13 -> 55 | U13: ='1-4 класи'!AI15+'5-9 класи'!AT14+S13 -> 1146 | W13: ='1-4 класи'!AI15/'1-4 класи'!AH15 -> 19.318182 | X13: ='5-9 класи'!AT14/'5-9 класи'!AS14 -> 20.533333 | Y13: =S13/R13 -> 35 | Z13: =U13/T13 -> 20.836364
A14: Коломийський ліцей №8 | B14: 29 | C14: 23 | D14: 28 | G14: =COUNT(B14:E14) -> 3 | H14: =SUM(B14:E14) -> 80 | I14: 28 | J14: 22 | K14: 29 | M14: =COUNT(I14:L14) -> 3 | N14: =SUM(I14:L14) -> 79 | P14: =COUNT(O14) -> 0 | Q14: =SUM(O14) -> 0 | R14: 6 | S14: =H14+N14+Q14 -> 159 | T14: 51 | U14: =S14+'5-9 класи'!AT18+'1-4 класи'!AI19 -> 1202 | W14: ='1-4 класи'!AI19/'1-4 класи'!AH19 -> 20.45 | X14: ='5-9 класи'!AT18/'5-9 класи'!AS18 -> 25.36 | Y14: =S14/R14 -> 26.5 | Z14: =U14/T14 -> 23.568627
A15: вечірні класи | B15: 27 | G15: =COUNT(B15:E15) -> 1 | H15: =SUM(B15:E15) -> 27 | I15: 21 | M15: =COUNT(I15:L15) -> 1 | N15: =SUM(I15:L15) -> 21 | O15: 14 | P15: 1 | Q15: 14 | R15: =P15+M15+G15 -> 3 | S15: =H15+N15+Q15 -> 62 | T15: =R15+'5-9 класи'!AQ21+'1-4 класи'!AF22 -> 4 | U15: =S15+'5-9 класи'!AR21+'1-4 класи'!AG22 -> 78 | X15: 16 | Y15: =S15/R15 -> 20.666667 | Z15: =U15/T15 -> 19.5
A16: Коломийський ліцей №9 | B16: 30 | C16: 28 | D16: 25 | F16: 17 | G16: =COUNT(B16:F16) -> 4 | H16: =SUM(B16:F16) -> 100 | I16: 23 | J16: 23 | K16: 28 | M16: =COUNT(I16:L16) -> 3 | N16: =SUM(I16:L16) -> 74 | P16: =COUNT(O16) -> 0 | Q16: =SUM(O16) -> 0 | R16: =P16+M16+G16 -> 7 | S16: =H16+N16+Q16 -> 174 | T16: =R16+'5-9 класи'!AS22+'1-4 класи'!AH23 -> 70 | U16: =S16+'5-9 класи'!AT22+'1-4 класи'!AI23 -> 1783 | W16: ='1-4 класи'!AI23/'1-4 класи'!AH23 -> 26.36 | X16: ='5-9 класи'!AT22/'5-9 класи'!AS22 -> 25 | Y16: =S16/R16 -> 24.857143 | Z16: =U16/T16 -> 25.471429
A17: Коломийський ліцей "Коломийська гімназія імені Михайла Грушевського" | B17: 20 | C17: 21 | G17: =COUNT(B17:E17) -> 2 | H17: =SUM(B17:E17) -> 41 | I17: 27 | J17: 27 | M17: =COUNT(I17:L17) -> 2 | N17: =SUM(I17:L17) -> 54 | P17: =COUNT(O17) -> 0 | R17: =P17+M17+G17 -> 4 | S17: =Q17+N17+H17 -> 95 | T17: 13 | U17: =S17+'5-9 класи'!AT24 -> 375 | W17: 0 | X17: ='5-9 класи'!AT24/'5-9 класи'!AS24 -> 31.111111 | Y17: =S17/R17 -> 23.75 | Z17: =U17/T17 -> 28.846154
A18: Саджавський ліцей | B18: 25 | C18: 29 | G18: =COUNT(B18:E18) -> 2 | H18: =SUM(B18:E18) -> 54 | I18: 37 | M18: =COUNT(I18:L18) -> 1 | N18: =SUM(I18:L18) -> 37 | R18: =Q17+M18+G18 -> 3 | S18: =H18+N18+Q18 -> 91 | T18: =R18+'5-9 класи'!AS25+'1-4 класи'!AH26 -> 16 | U18: =S18+'5-9 класи'!AT25+'1-4 класи'!AI26 -> 412 | W18: ='1-4 класи'!AI26/'1-4 класи'!AH26 -> 23.6 | X18: 25.4 | Y18: =S18/R18 -> 30.333333 | Z18: =U18/T18 -> 25.75
A19: Всього: | G19: =SUM(G10:G18) -> 21 | H19: =SUM(H10:H18) -> 592 | M19: =SUM(M10:M18) -> 20 | N19: =SUM(N10:N18) -> 579 | P19: =SUM(P10:P18) -> 1 | Q19: =SUM(Q10:Q18) -> 14 | R19: =SUM(R10:R18) -> 42 | S19: =SUM(S10:S18) -> 1185 | T19: =SUM(T10:T18) -> 352 | U19: =SUM(U10:U18) -> 8793 | W19: ='1-4 класи'!AI27/'1-4 класи'!AH27 -> 22.891473 | X19: ='5-9 класи'!AT25/'5-9 класи'!AS25 -> 25.375 | Y19: =S19/R19 -> 28.214286 | Z19: =U19/T19 -> 24.980114
A20: всього без вечірних класів | R20: =R19-R15 -> 39 | S20: =S19-S15 -> 1123 | T20: =T19-T15 -> 348 | U20: =U19-U15 -> 8715 | W20: 22.9 | X20: ='5-9 класи'!AT27/'5-9 класи'!AS27 -> 25.772222 | Y20: =S20/R20 -> 28.794872 | Z20: =U20/T20 -> 25.043103
A25: Керуючий справами виконавчого комітету міської ради | W25: Микола АНДРУСЯК

Sheet 10-11 класи (інклюзія)
P1: продовження додатка 1
P2: до рішення виконавчого комітету
P3: від 09.09.2025 №111
B5: Фактична мережа закладів загальної середньої освіти на 2025/2026 навчальний рік (інклюзія)
A6: Заклади загальної середньої освіти | B6: 10-А | C6: 10-Б | D6: 10-В | E6: 10-Г | F6: к-сть класів | G6: к-сть учнів | H6: 11-А | I6: 11-Б | J6: 11-В | K6: 11-Г | L6: к-сть класів | M6: к-сть учнів | N6: 12 | O6: к-сть класів | P6: к-сть учнів | Q6: к-сть 10-12 класів | R6: к-сть учнів 10-12 класах | S6: к-сть 1-12 класів | T6: к-сть учнів у 1-12кл.
