Workbook

Sheet Лист1

Sheet 1-4 класи 
AJ3: Додаток 1
AJ4: до рішення виконавчого комітету
AJ5: від__________№_________
N7: Планова мережа закладів загальної середньої освіти на 2024/2025 навчальний рік
B9: 1-А | C9: 1-Б | D9: 1-В | E9: 1-Г | F9: 1-І | G9: к-сть класів | H9: к-сть учнів | I9: к-ть учнів ГПД | J9: 2-А | K9: 2-Б | L9: 2-В | M9: 2-Г | N9: 2-І | O9: к-сть класів | P9: к-сть учнів | Q9: к-ть учнів ГПД | R9: 3-А | S9: 3-Б | T9: 3-В | U9: 3-Г | V9: 3-І | W9: к-сть класів | X9: к-сть учнів | Y9: к-ть учнів ГПД | Z9: 4-А | AA9: 4-Б | AB9: 4-В | AC9: 4-Г | AD9: 4-І | AE9: к-сть класів | AF9: к-сть учнів | AG9: к-ть учнів ГПД | AH9: к-сть 1-4 класів | AI9: к-сть учнів у 1-4 кл. | AJ9: к-сть 1-4 класів по опорному закладу | AK9: к-сть учнів у 1-4 кл. по опорному зекладу | AL9: ГПД (всього дітей) | AM9: ГПД (всього груп) | AN9: ГПД (всього ставок)
A10: Коломийський ліцей №1 імені В.Стефаника | B10: 25 | C10: 24 | D10: 24 | E10: 24 | F10: 24 | G10: =COUNT(B10:F10) -> 5 | H10: =SUM(B10:F10) -> 121 | J10: 30 | K10: 29 | L10: 31 | N10: 22 | O10: =COUNT(J10:N10) -> 4 | P10: =SUM(J10:N10) -> 112 | R10: 28 | S10: 32 | T10: 33 | U10: 33 | V10: 28 | W10: =COUNT(R10:V10) -> 5 | X10: 155 | Z10: 20 | AA10: 30 | AB10: 28 | AD10: 28 | AE10: =COUNT(Z10:AD10) -> 4 | AF10: =SUM(Z10:AD10) -> 106 | AH10: =G10+O10+W10+AE10 -> 18 | AI10: =H10+P10+X10+AF10 -> 494 | AJ10: =SUM(AH10:AH12) -> 26 | AK10: =SUM(AI10:AI12) -> 623 | AN10: 5
A11: Корницька філія | B11: 12 | G11: =COUNT(B11:F11) -> 1 | H11: =SUM(B11:F11) -> 12 | J11: 20 | O11: =COUNT(J11:N11) -> 1 | P11: =SUM(J11:N11) -> 20 | R11: 13 | W11: =COUNT(R11:V11) -> 1 | X11: 13 | Z11: 22 | AE11: =COUNT(Z11:AD11) -> 1 | AF11: =SUM(Z11:AD11) -> 22 | AH11: =G11+O11+W11+AE11 -> 4 | AI11: =H11+P11+X11+AF11 -> 67
A12: Воскресинцівська філія | B12: 15 | G12: =COUNT(B12:F12) -> 1 | H12: =SUM(B12:F12) -> 15 | J12: 16 | O12: =COUNT(J12:N12) -> 1 | P12: =SUM(J12:N12) -> 16 | R12: 15 | W12: =COUNT(R12:V12) -> 1 | X12: 14 | Z12: 17 | AE12: =COUNT(Z12:AD12) -> 1 | AF12: =SUM(Z12:AD12) -> 17 | AH12: =G12+O12+W12+AE12 -> 4 | AI12: =H12+P12+X12+AF12 -> 62
A13: Коломийський ліцей №2 | B13: 24 | C13: 24 | G13: =COUNT(B13:F13) -> 2 | H13: =SUM(B13:F13) -> 48 | J13: 26 | K13: 25 | L13: 25 | O13: =COUNT(J13:N13) -> 3 | P13: =SUM(J13:N13) -> 76 | R13: 23 | S13: 25 | W13: =COUNT(R13:V13) -> 2 | X13: 48 | Z13: 24 | AA13: 20 | AB13: 28 | AE13: =COUNT(Z13:AD13) -> 3 | AF13: =SUM(Z13:AD13) -> 72 | AH13: =G13+O13+W13+AE13 -> 10 | AI13: =H13+P13+X13+AF13 -> 244 | AJ13: =AH13 -> 10 | AK13: =AI13 -> 244 | AN13: 2
A14: Коломийський ліцей №4 імені Сергія Лисенка | B14: 24 | C14: 24 | D14: 24 | E14: 24 | F14: 24 | G14: =COUNT(B14:F14) -> 5 | H14: =SUM(B14:F14) -> 120 | J14: 29 | K14: 29 | L14: 28 | M14: 30 | O14: =COUNT(J14:N14) -> 4 | P14: =SUM(J14:N14) -> 116 | R14: 30 | S14: 27 | T14: 30 | U14: 29 | W14: =COUNT(R14:V14) -> 4 | X14: 116 | Z14: 30 | AA14: 30 | AB14: 30 | AC14: 30 | AE14: =COUNT(Z14:AD14) -> 4 | AF14: =SUM(Z14:AD14) -> 120 | AH14: =G14+O14+W14+AE14 -> 17 | AI14: =H14+P14+X14+AF14 -> 472 | AJ14: =SUM(AH14:AH16) -> 25 | AK14: =SUM(AI14:AI16) -> 628 | AN14: 6
A15: Філія 3 | B15: 16 | G15: =COUNT(B15:F15) -> 1 | H15: =SUM(B15:F15) -> 16 | J15: 18 | O15: =COUNT(J15:N15) -> 1 | P15: =SUM(J15:N15) -> 18 | R15: 21 | W15: =COUNT(R15:V15) -> 1 | X15: 21 | Z15: 16 | AE15: =COUNT(Z15:AD15) -> 1 | AF15: =SUM(Z15:AD15) -> 16 | AH15: =G15+O15+W15+AE15 -> 4 | AI15: =H15+P15+X15+AF15 -> 71
A16: Філія 20 | B16: 17 | G16: =COUNT(B16:F16) -> 1 | H16: =SUM(B16:F16) -> 17 | J16: 28 | O16: =COUNT(J16:N16) -> 1 | P16: =SUM(J16:N16) -> 28 | R16: 18 | W16: =COUNT(R16:V16) -> 1 | X16: 18 | Z16: 22 | AE16: =COUNT(Z16:AD16) -> 1 | AF16: =SUM(Z16:AD16) -> 22 | AH16: =G16+O16+W16+AE16 -> 4 | AI16: =H16+P16+X16+AF16 -> 85
A17: Коломийський ліцей №5 імені Т.Г.Шевченка | B17: 24 | C17: 24 | G17: =COUNT(B17:F17) -> 2 | H17: =SUM(B17:F17) -> 48 | J17: 29 | K17: 23 | N17: 29 | O17: =COUNT(J17:N17) -> 3 | P17: =SUM(J17:N17) -> 81 | R17: 22 | S17: 21 | V17: 25 | W17: =COUNT(R17:V17) -> 3 | X17: 68 | Z17: 27 | AA17: 25 | AB17: 29 | AE17: =COUNT(Z17:AD17) -> 3 | AF17: =SUM(Z17:AD17) -> 81 | AH17: =G17+O17+W17+AE17 -> 11 | AI17: =H17+P17+X17+AF17 -> 278 | AJ17: =SUM(AH17:AH20) -> 22 | AK17: =SUM(AI17:AI20) -> 461 | AN17: 5
A18: Філія 7 | B18: 24 | G18: =COUNT(B18:F18) -> 1 | H18: =SUM(B18:F18) -> 24 | J18: 31 | O18: =COUNT(J18:N18) -> 1 | P18: =SUM(J18:N18) -> 31 | R18: 29 | W18: =COUNT(R18:V18) -> 1 | X18: 29 | Z18: 27 | AE18: =COUNT(Z18:AD18) -> 1 | AF18: =SUM(Z18:AD18) -> 27 | AH18: =G18+O18+W18+AE18 -> 4 | AI18: =H18+P18+X18+AF18 -> 111
A19: Раківчицька філія | B19: 8 | G19: =COUNT(B19:F19) -> 1 | H19: =SUM(B19:F19) -> 8 | O19: =COUNT(J19:N19) -> 0 | P19: =SUM(J19:N19) -> 0 | R19: 16 | W19: =COUNT(R19:V19) -> 1 | X19: 16 | Z19: 12 | AE19: =COUNT(Z19:AD19) -> 1 | AF19: =SUM(Z19:AD19) -> 12 | AH19: =G19+O19+W19+AE19 -> 3 | AI19: =H19+P19+X19+AF19 -> 36
A20: Шепарівцівська філія | B20: 8 | G20: =COUNT(B20:F20) -> 1 | H20: =SUM(B20:F20) -> 8 | J20: 10 | O20: =COUNT(J20:N20) -> 1 | P20: =SUM(J20:N20) -> 10 | R20: 9 | W20: =COUNT(R20:V20) -> 1 | X20: 9 | Z20: 9 | AE20: =COUNT(Z20:AD20) -> 1 | AF20: =SUM(Z20:AD20) -> 9 | AH20: =G20+O20+W20+AE20 -> 4 | AI20: =H20+P20+X20+AF20 -> 36
A21: Коломийський ліцей №8 | B21: 24 | C21: 24 | D21: 24 | G21: =COUNT(B21:F21) -> 3 | H21: =SUM(B21:F21) -> 72 | J21: 23 | K21: 21 | L21: 22 | O21: =COUNT(J21:N21) -> 3 | P21: =SUM(J21:N21) -> 66 | R21: 24 | S21: 18 | T21: 29 | W21: =COUNT(R21:V21) -> 3 | X21: 71 | Z21: 29 | AA21: 24 | AB21: 30 | AE21: =COUNT(Z21:AD21) -> 3 | AF21: =SUM(Z21:AD21) -> 83 | AH21: =G21+O21+W21+AE21 -> 12 | AI21: =H21+P21+X21+AF21 -> 292 | AJ21: =SUM(AH21:AH24) -> 20 | AK21: =SUM(AI21:AI24) -> 423 | AN21: 4
A22: Товмачицька філія | B22: 14 | G22: =COUNT(B22:F22) -> 1 | H22: =SUM(B22:F22) -> 14 | J22: 16 | O22: =COUNT(J22:N22) -> 1 | P22: =SUM(J22:N22) -> 16 | R22: 13 | W22: =COUNT(R22:V22) -> 1 | X22: 13 | Z22: 26 | AE22: =COUNT(Z22:AD22) -> 1 | AF22: =SUM(Z22:AD22) -> 26 | AH22: =G22+O22+W22+AE22 -> 4 | AI22: =H22+P22+X22+AF22 -> 69
A23: вечірні класи | G23: =COUNT(B23:F23) -> 0 | H23: =SUM(B23:F23) -> 0 | O23: =COUNT(J23:N23) -> 0 | P23: =SUM(J23:N23) -> 0 | W23: =COUNT(R23:V23) -> 0 | X23: 0 | AE23: =COUNT(Z23:AD23) -> 0 | AF23: =SUM(Z23:AD23) -> 0 | AH23: =G23+O23+W23+AE23 -> 0 | AI23: =H23+P23+X23+AF23 -> 0
A24: Іванівецька філія | B24: 18 | G24: =COUNT(B24:F24) -> 1 | H24: =SUM(B24:F24) -> 18 | J24: 14 | O24: =COUNT(J24:N24) -> 1 | P24: =SUM(J24:N24) -> 14 | R24: 11 | W24: =COUNT(R24:V24) -> 1 | X24: 11 | Z24: 19 | AE24: =COUNT(Z24:AD24) -> 1 | AF24: =SUM(Z24:AD24) -> 19 | AH24: =G24+O24+W24+AE24 -> 4 | AI24: =H24+P24+X24+AF24 -> 62
A25: Коломийський ліцей №9 | G25: =COUNT(B25:F25) -> 0 | H25: =SUM(B25:F25) -> 0 | O25: =COUNT(J25:N25) -> 0 | P25: =SUM(J25:N25) -> 0 | W25: =COUNT(R25:V25) -> 0 | X25: 0 | Z25: 24 | AA25: 28 | AB25: 28 | AC25: 17 | AE25: =COUNT(Z25:AD25) -> 4 | AF25: =SUM(Z25:AD25) -> 97 | AH25: =G25+O25+W25+AE25 -> 4 | AI25: =H25+P25+X25+AF25 -> 97 | AJ25: =SUM(AH25:AH27) -> 26 | AK25: =SUM(AI25:AI27) -> 659 | AN25: 7.5
A26: Філія 10 | B26: 24 | C26: 24 | D26: 24 | E26: 24 | F26: 24 | G26: =COUNT(B26:F26) -> 5 | H26: =SUM(B26:F26) -> 120 | J26: 25 | K26: 25 | L26: 28 | M26: 23 | O26: =COUNT(J26:N26) -> 4 | P26: =SUM(J26:N26) -> 101 | R26: 31 | S26: 32 | T26: 27 | W26: =COUNT(R26:V26) -> 3 | X26: 90 | Z26: 28 | AE26: =COUNT(Z26:AD26) -> 1 | AF26: =SUM(Z26:AD26) -> 28 | AH26: =G26+O26+W26+AE26 -> 13 | AI26: =H26+P26+X26+AF26 -> 339
A27: Філія 6 | B27: 24 | C27: 24 | G27: =COUNT(B27:F27) -> 2 | H27: =SUM(B27:F27) -> 48 | J27: 22 | K27: 22 | O27: =COUNT(J27:N27) -> 2 | P27: =SUM(J27:N27) -> 44 | R27: 27 | S27: 23 | W27: =COUNT(R27:V27) -> 2 | X27: 50 | Z27: 29 | AA27: 26 | AB27: 26 | AE27: =COUNT(Z27:AD27) -> 3 | AF27: =SUM(Z27:AD27) -> 81 | AH27: =G27+O27+W27+AE27 -> 9 | AI27: =H27+P27+X27+AF27 -> 223
A28: Саджавський ліцей | B28: 26 | G28: =COUNT(B28:F28) -> 1 | H28: =SUM(B28:F28) -> 26 | J28: 19 | K28: 23 | O28: =COUNT(J28:N28) -> 2 | P28: =SUM(J28:N28) -> 42 | R28: 24 | W28: =COUNT(R28:V28) -> 1 | X28: 24 | Z28: 18 | AA28: 17 | AE28: =COUNT(Z28:AD28) -> 2 | AF28: =SUM(Z28:AD28) -> 35 | AH28: =G28+O28+W28+AE28 -> 6 | AI28: =H28+P28+X28+AF28 -> 127 | AJ28: =AH28 -> 6 | AK28: =AI28 -> 127 | AN28: 0.5
A29: Всього: | G29: =SUM(G10:G28) -> 34 | H29: =SUM(H10:H28) -> 735 | O29: =SUM(O10:O28) -> 33 | P29: =SUM(P10:P28) -> 791 | W29: =SUM(W10:W28) -> 32 | X29: =SUM(X10:X28) -> 766 | AE29: =SUM(AE10:AE28) -> 36 | AF29: =SUM(AF10:AF28) -> 873 | AH29: =SUM(AH10:AH28) -> 135 | AI29: =SUM(AI10:AI28) -> 3165 | AJ29: =SUM(AJ10:AJ28) -> 135 | AK29: =SUM(AK10:AK28) -> 3165 | AN29: 30
A36: Керуючий справами виконавчого комітету міської ради | AK36: Микола АНДРУСЯК

Sheet 5-9 класи 
AP2: Продовження додатка 1
AP3: до рішення виконавчого комітету
AP4: від___________№___________
H6: Планова мережа закладів загальної середньої освіти на 2024/2025 навчальний рік
A8: Заклади загальної середньої освіти | B8: 5-А | C8: 5-Б | D8: 5-В | E8: 5-Г | F8: 5-І | G8: 5-Д | H8: к-сть класів | I8: к-сть учнів | J8: 6-А | K8: 6-Б | L8: 6-В | M8: 6-Г | N8: 6-Д | O8: 6-Е | P8: 6-I | Q8: к-сть класів | R8: к-сть учнів | S8: 7-А | T8: 7-Б | U8: 7-В | V8: 7-Г | W8: 7-Д | X8: 7-I | Y8: к-сть класів | Z8: к-сть учнів | AA8: 8-А | AB8: 8-Б | AC8: 8-В | AD8: 8-Г | AE8: 8-Д | AF8: 8-І | AG8: к-сть класів | AH8: к-сть учнів | AI8: 9-А | AJ8: 9-Б | AK8: 9-В | AL8: 9-Г | AM8: 9-Д | AN8: к-сть класів | AO8: к-сть учнів | AP8: к-сть 5-9 класів | AQ8: к-сть учнів у 5-9 кл. | AR8: к-сть 5-9 класів по опорному закладу | AS8: к-сть учнів у 5-9 кл. по опорному закладу
A9: Коломийський ліцей №1 імені В.Стефаника | B9: 32 | C9: 21 | D9: 31 | E9: 22 | F9: 28 | H9: =COUNT(B9:G9) -> 5 | I9: =SUM(B9:G9) -> 134 | J9: 33 | K9: 33 | L9: 33 | M9: 30 | P9: 31 | Q9: =COUNT(J9:P9) -> 5 | R9: =SUM(J9:P9) -> 160 | S9: 28 | T9: 31 | U9: 31 | V9: 31 | X9: 23 | Y9: =COUNT(S9:X9) -> 5 | Z9: =SUM(S9:X9) -> 144 | AA9: 18 | AB9: 28 | AC9: 33 | AF9: 28 | AG9: =COUNT(AA9:AF9) -> 4 | AH9: =SUM(AA9:AF9) -> 107 | AI9: 29 | AJ9: 28 | AK9: 30 | AL9: 28 | AM9: 23 | AN9: =COUNT(AI9:AM9) -> 5 | AO9: =SUM(AI9:AM9) -> 138 | AP9: =AN9+AG9+Y9+Q9+H9 -> 24 | AQ9: =AO9+AH9+Z9+I9+R9 -> 683 | AR9: =SUM(AP9:AP11) -> 34 | AS9: =SUM(AQ9:AQ11) -> 873
A10: Корницька філія | B10: 25 | H10: =COUNT(B10:G10) -> 1 | I10: =SUM(B10:G10) -> 25 | J10: 24 | Q10: =COUNT(J10:P10) -> 1 | R10: =SUM(J10:P10) -> 24 | S10: 21 | Y10: =COUNT(S10:X10) -> 1 | Z10: =SUM(S10:X10) -> 21 | AA10: 20 | AG10: =COUNT(AA10:AF10) -> 1 | AH10: =SUM(AA10:AF10) -> 20 | AI10: 20 | AN10: =COUNT(AI10:AM10) -> 1 | AO10: =SUM(AI10:AM10) -> 20 | AP10: =AN10+AG10+Y10+Q10+H10 -> 5 | AQ10: =AO10+AH10+Z10+I10+R10 -> 110
A11: Воскресинцівська філія | B11: 16 | H11: =COUNT(B11:G11) -> 1 | I11: =SUM(B11:G11) -> 16 | J11: 20 | Q11: =COUNT(J11:P11) -> 1 | R11: =SUM(J11:P11) -> 20 | S11: 17 | Y11: =COUNT(S11:X11) -> 1 | Z11: =SUM(S11:X11) -> 17 | AA11: 10 | AG11: =COUNT(AA11:AF11) -> 1 | AH11: =SUM(AA11:AF11) -> 10 | AI11: 17 | AN11: =COUNT(AI11:AM11) -> 1 | AO11: =SUM(AI11:AM11) -> 17 | AP11: =AN11+AG11+Y11+Q11+H11 -> 5 | AQ11: =AO11+AH11+Z11+I11+R11 -> 80
A12: Коломийський ліцей №2 | B12: 29 | C12: 31 | H12: =COUNT(B12:G12) -> 2 | I12: =SUM(B12:G12) -> 60 | J12: 26 | K12: 34 | L12: 26 | Q12: =COUNT(J12:P12) -> 3 | R12: =SUM(J12:P12) -> 86 | S12: 34 | T12: 34 | Y12: =COUNT(S12:X12) -> 2 | Z12: =SUM(S12:X12) -> 68 | AA12: 31 | AB12: 22 | AG12: =COUNT(AA12:AF12) -> 2 | AH12: =SUM(AA12:AF12) -> 53 | AI12: 29 | AJ12: 28 | AN12: =COUNT(AI12:AM12) -> 2 | AO12: =SUM(AI12:AM12) -> 57 | AP12: =AN12+AG12+Y12+Q12+H12 -> 11 | AQ12: =AO12+AH12+Z12+I12+R12 -> 324 | AR12: =AP12 -> 11 | AS12: =AQ12 -> 324
A13: Коломийський ліцей №4 імені Сергія Лисенка | B13: 30 | C13: 30 | D13: 31 | E13: 30 | H13: =COUNT(B13:G13) -> 4 | I13: =SUM(B13:G13) -> 121 | J13: 32 | K13: 32 | L13: 34 | M13: 32 | N13: 34 | Q13: =COUNT(J13:P13) -> 5 | R13: =SUM(J13:P13) -> 164 | S13: 30 | T13: 28 | U13: 28 | V13: 30 | W13: 27 | Y13: =COUNT(S13:X13) -> 5 | Z13: =SUM(S13:X13) -> 143 | AA13: 25 | AB13: 27 | AC13: 26 | AD13: 30 | AE13: 26 | AG13: =COUNT(AA13:AF13) -> 5 | AH13: =SUM(AA13:AF13) -> 134 | AI13: 22 | AJ13: 30 | AK13: 31 | AL13: 30 | AN13: =COUNT(AI13:AM13) -> 4 | AO13: =SUM(AI13:AM13) -> 113 | AP13: =AN13+AG13+Y13+Q13+H13 -> 23 | AQ13: =AO13+AH13+Z13+I13+R13 -> 675 | AR13: =SUM(AP13:AP14) -> 28 | AS13: =SUM(AQ13:AQ14) -> 823
A14: Філія 3 | B14: 27 | H14: =COUNT(B14:G14) -> 1 | I14: =SUM(B14:G14) -> 27 | J14: 32 | Q14: =COUNT(J14:P14) -> 1 | R14: =SUM(J14:P14) -> 32 | S14: 27 | Y14: =COUNT(S14:X14) -> 1 | Z14: =SUM(S14:X14) -> 27 | AA14: 28 | AG14: =COUNT(AA14:AF14) -> 1 | AH14: =SUM(AA14:AF14) -> 28 | AI14: 34 | AN14: =COUNT(AI14:AM14) -> 1 | AO14: =SUM(AI14:AM14) -> 34 | AP14: =AN14+AG14+Y14+Q14+H14 -> 5 | AQ14: =AO14+AH14+Z14+I14+R14 -> 148
A15: Коломийський ліцей №5 імені Т.Г.Шевченка | B15: 20 | C15: 26 | D15: 28 | H15: =COUNT(B15:G15) -> 3 | I15: =SUM(B15:G15) -> 74 | J15: 28 | K15: 29 | P15: 29 | Q15: =COUNT(J15:P15) -> 3 | R15: =SUM(J15:P15) -> 86 | S15: 23 | T15: 31 | U15: 24 | Y15: =COUNT(S15:X15) -> 3 | Z15: =SUM(S15:X15) -> 78 | AA15: 24 | AB15: 22 | AC15: 25 | AG15: =COUNT(AA15:AF15) -> 3 | AH15: =SUM(AA15:AF15) -> 71 | AI15: 25 | AJ15: 25 | AK15: 23 | AN15: =COUNT(AI15:AM15) -> 3 | AO15: =SUM(AI15:AM15) -> 73 | AP15: =AN15+AG15+Y15+Q15+H15 -> 15 | AQ15: =AO15+AH15+Z15+I15+R15 -> 382 | AR15: =SUM(AP15:AP18) -> 30 | AS15: =SUM(AQ15:AQ18) -> 621
A16: Філія 7 | B16: 38 | H16: =COUNT(B16:G16) -> 1 | I16: =SUM(B16:G16) -> 38 | J16: 26 | Q16: =COUNT(J16:P16) -> 1 | R16: =SUM(J16:P16) -> 26 | S16: 23 | Y16: =COUNT(S16:X16) -> 1 | Z16: =SUM(S16:X16) -> 23 | AA16: 33 | AG16: =COUNT(AA16:AF16) -> 1 | AH16: =SUM(AA16:AF16) -> 33 | AI16: 19 | AN16: =COUNT(AI16:AM16) -> 1 | AO16: =SUM(AI16:AM16) -> 19 | AP16: =AN16+AG16+Y16+Q16+H16 -> 5 | AQ16: =AO16+AH16+Z16+I16+R16 -> 139
A17: Раківчицька філія | B17: 10 | H17: =COUNT(B17:G17) -> 1 | I17: =SUM(B17:G17) -> 10 | J17: 13 | Q17: =COUNT(J17:P17) -> 1 | R17: =SUM(J17:P17) -> 13 | S17: 9 | Y17: =COUNT(S17:X17) -> 1 | Z17: =SUM(S17:X17) -> 9 | AA17: 6 | AG17: =COUNT(AA17:AF17) -> 1 | AH17: =SUM(AA17:AF17) -> 6 | AI17: 13 | AN17: =COUNT(AI17:AM17) -> 1 | AO17: =SUM(AI17:AM17) -> 13 | AP17: =AN17+AG17+Y17+Q17+H17 -> 5 | AQ17: =AO17+AH17+Z17+I17+R17 -> 51
A18: Шепарівцівська філія | B18: 11 | H18: =COUNT(B18:G18) -> 1 | I18: =SUM(B18:G18) -> 11 | J18: 10 | Q18: =COUNT(J18:P18) -> 1 | R18: =SUM(J18:P18) -> 10 | S18: 10 | Y18: =COUNT(S18:X18) -> 1 | Z18: =SUM(S18:X18) -> 10 | AA18: 8 | AG18: =COUNT(AA18:AF18) -> 1 | AH18: =SUM(AA18:AF18) -> 8 | AI18: 10 | AN18: =COUNT(AI18:AM18) -> 1 | AO18: =SUM(AI18:AM18) -> 10 | AP18: =AN18+AG18+Y18+Q18+H18 -> 5 | AQ18: =AO18+AH18+Z18+I18+R18 -> 49
A19: Коломийський ліцей №8 | B19: 28 | C19: 28 | D19: 29 | H19: =COUNT(B19:G19) -> 3 | I19: =SUM(B19:G19) -> 85 | J19: 29 | K19: 28 | L19: 29 | Q19: =COUNT(J19:P19) -> 3 | R19: =SUM(J19:P19) -> 86 | S19: 32 | T19: 30 | U19: 30 | Y19: =COUNT(S19:X19) -> 3 | Z19: =SUM(S19:X19) -> 92 | AA19: 30 | AB19: 28 | AC19: 28 | AG19: =COUNT(AA19:AF19) -> 3 | AH19: =SUM(AA19:AF19) -> 86 | AI19: 33 | AJ19: 31 | AK19: 35 | AN19: =COUNT(AI19:AM19) -> 3 | AO19: =SUM(AI19:AM19) -> 99 | AP19: =AN19+AG19+Y19+Q19+H19 -> 15 | AQ19: =AO19+AH19+Z19+I19+R19 -> 448 | AR19: =SUM(AP19:AP22) -> 26 | AS19: =SUM(AQ19:AQ22) -> 622
A20: Товмачицька філія | B20: 13 | H20: =COUNT(B20:G20) -> 1 | I20: =SUM(B20:G20) -> 13 | J20: 19 | Q20: =COUNT(J20:P20) -> 1 | R20: =SUM(J20:P20) -> 19 | S20: 16 | Y20: =COUNT(S20:X20) -> 1 | Z20: =SUM(S20:X20) -> 16 | AA20: 26 | AG20: =COUNT(AA20:AF20) -> 1 | AH20: =SUM(AA20:AF20) -> 26 | AI20: 11 | AN20: =COUNT(AI20:AM20) -> 1 | AO20: =SUM(AI20:AM20) -> 11 | AP20: =AN20+AG20+Y20+Q20+H20 -> 5 | AQ20: =AO20+AH20+Z20+I20+R20 -> 85
A21: вечірні класи | B21: 14 | H21: =COUNT(B21:G21) -> 1 | I21: =SUM(B21:G21) -> 14 | Q21: =COUNT(J21:P21) -> 0 | R21: =SUM(J21:P21) -> 0 | Y21: =COUNT(S21:X21) -> 0 | Z21: =SUM(S21:X21) -> 0 | AG21: =COUNT(AA21:AF21) -> 0 | AH21: =SUM(AA21:AF21) -> 0 | AN21: =COUNT(AI21:AM21) -> 0 | AO21: =SUM(AI21:AM21) -> 0 | AP21: =AN21+AG21+Y21+Q21+H21 -> 1 | AQ21: =AO21+AH21+Z21+I21+R21 -> 14
A22: Іванівецька філія | B22: 14 | H22: =COUNT(B22:G22) -> 1 | I22: =SUM(B22:G22) -> 14 | J22: 11 | Q22: =COUNT(J22:P22) -> 1 | R22: =SUM(J22:P22) -> 11 | S22: 17 | Y22: =COUNT(S22:X22) -> 1 | Z22: =SUM(S22:X22) -> 17 | AA22: 21 | AG22: =COUNT(AA22:AF22) -> 1 | AH22: =SUM(AA22:AF22) -> 21 | AI22: 12 | AN22: =COUNT(AI22:AM22) -> 1 | AO22: =SUM(AI22:AM22) -> 12 | AP22: =AN22+AG22+Y22+Q22+H22 -> 5 | AQ22: =AO22+AH22+Z22+I22+R22 -> 75
A23: Коломийський ліцей №9 | B23: 27 | C23: 26 | D23: 21 | E23: 24 | F23: 25 | G23: 25 | H23: =COUNT(B23:G23) -> 6 | I23: =SUM(B23:G23) -> 148 | J23: 29 | K23: 31 | L23: 30 | M23: 26 | Q23: =COUNT(J23:P23) -> 4 | R23: =SUM(J23:P23) -> 116 | S23: 23 | T23: 21 | U23: 28 | V23: 22 | W23: 30 | X23: 18 | Y23: =COUNT(S23:X23) -> 6 | Z23: =SUM(S23:X23) -> 142 | AA23: 23 | AB23: 28 | AC23: 28 | AD23: 28 | AE23: 25 | AG23: =COUNT(AA23:AF23) -> 5 | AH23: =SUM(AA23:AF23) -> 132 | AI23: 29 | AJ23: 25 | AK23: 35 | AL23: 26 | AM23: 17 | AN23: =COUNT(AI23:AM23) -> 5 | AO23: =SUM(AI23:AM23) -> 132 | AP23: =AN23+AG23+Y23+Q23+H23 -> 26 | AQ23: =AO23+AH23+Z23+I23+R23 -> 670 | AR23: =SUM(AP23:AP24) -> 38 | AS23: =SUM(AQ23:AQ24) -> 952
A24: Філія 6 | B24: 25 | C24: 28 | H24: =COUNT(B24:G24) -> 2 | I24: =SUM(B24:G24) -> 53 | J24: 22 | K24: 22 | L24: 24 | Q24: =COUNT(J24:P24) -> 3 | R24: =SUM(J24:P24) -> 68 | S24: 23 | T24: 20 | Y24: =COUNT(S24:X24) -> 2 | Z24: =SUM(S24:X24) -> 43 | AA24: 24 | AB24: 25 | AC24: 18 | AG24: =COUNT(AA24:AF24) -> 3 | AH24: =SUM(AA24:AF24) -> 67 | AI24: 25 | AJ24: 26 | AN24: =COUNT(AI24:AM24) -> 2 | AO24: =SUM(AI24:AM24) -> 51 | AP24: =AN24+AG24+Y24+Q24+H24 -> 12 | AQ24: =AO24+AH24+Z24+I24+R24 -> 282
A25: Коломийський ліцей "Коломийська гімназія імені М.Грушевського | B25: 30 | C25: 30 | H25: =COUNT(B25:G25) -> 2 | I25: =SUM(B25:G25) -> 60 | J25: 26 | K25: 24 | Q25: =COUNT(J25:P25) -> 2 | R25: =SUM(J25:P25) -> 50 | S25: 25 | T25: 28 | Y25: =COUNT(S25:X25) -> 2 | Z25: =SUM(S25:X25) -> 53 | AA25: 36 | AB25: 36 | AG25: =COUNT(AA25:AF25) -> 2 | AH25: =SUM(AA25:AF25) -> 72 | AI25: 29 | AJ25: 28 | AN25: =COUNT(AI25:AM25) -> 2 | AO25: =SUM(AI25:AM25) -> 57 | AP25: =AN25+AG25+Y25+Q25+H25 -> 10 | AQ25: =AO25+AH25+Z25+I25+R25 -> 292 | AR25: =AP25 -> 10 | AS25: =AQ25 -> 292
A26: Саджавський ліцей | B26: 19 | C26: 19 | H26: =COUNT(B26:G26) -> 2 | I26: =SUM(B26:G26) -> 38 | J26: 39 | Q26: =COUNT(J26:P26) -> 1 | R26: =SUM(J26:P26) -> 39 | S26: 21 | T26: 22 | Y26: =COUNT(S26:X26) -> 2 | Z26: =SUM(S26:X26) -> 43 | AA26: 24 | AB26: 25 | AG26: =COUNT(AA26:AF26) -> 2 | AH26: =SUM(AA26:AF26) -> 49 | AI26: 28 | AJ26: 31 | AN26: =COUNT(AI26:AM26) -> 2 | AO26: =SUM(AI26:AM26) -> 59 | AP26: =AN26+AG26+Y26+Q26+H26 -> 9 | AQ26: =AO26+AH26+Z26+I26+R26 -> 228 | AR26: =AP26 -> 9 | AS26: =AQ26 -> 228
A27: Всього: | H27: =SUM(H9:H26) -> 38 | I27: =SUM(I9:I26) -> 941 | Q27: =SUM(Q9:Q26) -> 37 | R27: =SUM(R9:R26) -> 1010 | Y27: =SUM(Y9:Y26) -> 38 | Z27: =SUM(Z9:Z26) -> 946 | AG27: =SUM(AG9:AG26) -> 37 | AH27: =SUM(AH9:AH26) -> 923 | AN27: =SUM(AN9:AN26) -> 36 | AO27: =SUM(AO9:AO26) -> 915 | AP27: =SUM(AP9:AP26) -> 186 | AQ27: =SUM(AQ9:AQ26) -> 4735 | AR27: =SUM(AR9:AR26) -> 186 | AS27: =SUM(AS9:AS26) -> 4735
A36: Керуючий справами виконавчого комітету міської ради | AK36: Микола АНДРУСЯК

Sheet 10-12 класи 
W2: Продовження додатка 1
W3: до рішення виконавчого комітету
W4: від _________№__________
C5: Планова мережа закладів загальної середньої освіти на 2024/2025 навчальний рік
W6: Наповнюваність
A7: Заклади загальної середньої освіти | B7: 10-А | C7: 10-Б | D7: 10-В | E7: 10-Г | F7: к-сть класів | G7: к-сть учнів | H7: 11-А | I7: 11-Б | J7: 11-В | K7: 11-Г | L7: к-сть класів | M7: к-сть учнів | N7: 12 | O7: к-сть класів | P7: к-сть учнів | Q7: к-сть 10-12 класів | R7: к-сть учнів 10-12 класах | S7: к-сть 1-12 класів | T7: к-сть учнів у 1-12кл. | W7: І-ІV | X7: V-IX | Y7: X-XII | Z7: I-XII
A9: Коломийський ліцей №1 імені В.Стефаника | B9: 29 | C9: 29 | D9: 28 | E9: 28 | F9: =COUNT(B9:E9) -> 4 | G9: =SUM(B9:E9) -> 114 | H9: 26 | I9: 19 | J9: 29 | K9: 31 | L9: =COUNT(H9:K9) -> 4 | M9: =SUM(H9:K9) -> 105 | O9: =COUNT(N9) -> 0 | P9: =SUM(N9) -> 0 | Q9: =O9+L9+F9 -> 8 | R9: =G9+M9+P9 -> 219 | S9: =Q9+'5-9 класи '!AR9+'1-4 класи '!AJ10 -> 68 | T9: =R9+'5-9 класи '!AS9+'1-4 класи '!AK10 -> 1715 | W9: ='1-4 класи '!AK10/'1-4 класи '!AJ10 -> 23.961538 | X9: ='5-9 класи '!AS9/'5-9 класи '!AR9 -> 25.676471 | Y9: =R9/Q9 -> 27.375 | Z9: =T9/S9 -> 25.220588
A10: Коломийський ліцей №2 | B10: 35 | F10: =COUNT(B10:E10) -> 1 | G10: =SUM(B10:E10) -> 35 | H10: 34 | L10: =COUNT(H10:K10) -> 1 | M10: =SUM(H10:K10) -> 34 | O10: =COUNT(N10) -> 0 | P10: =SUM(N10) -> 0 | Q10: =O10+L10+F10 -> 2 | R10: =G10+M10+P10 -> 69 | S10: =Q10+'5-9 класи '!AR12+'1-4 класи '!AJ13 -> 23 | T10: =R10+'5-9 класи '!AS12+'1-4 класи '!AK13 -> 637 | W10: ='1-4 класи '!AK13/'1-4 класи '!AJ13 -> 24.4 | X10: ='5-9 класи '!AS12/'5-9 класи '!AR12 -> 29.454545 | Y10: =R10/Q10 -> 34.5 | Z10: =T10/S10 -> 27.695652
A11: Коломийський ліцей №4 імені Сергія Лисенка | B11: 34 | C11: 31 | D11: 28 | F11: =COUNT(B11:E11) -> 3 | G11: =SUM(B11:E11) -> 93 | H11: 22 | I11: 25 | J11: 28 | L11: =COUNT(H11:K11) -> 3 | M11: =SUM(H11:K11) -> 75 | O11: =COUNT(N11) -> 0 | P11: =SUM(N11) -> 0 | Q11: =O11+L11+F11 -> 6 | R11: =G11+M11+P11 -> 168 | S11: =Q11+'5-9 класи '!AR13+'1-4 класи '!AJ14 -> 59 | T11: =R11+'5-9 класи '!AS13+'1-4 класи '!AK14 -> 1619 | W11: ='1-4 класи '!AK14/'1-4 класи '!AJ14 -> 25.12 | X11: ='5-9 класи '!AS13/'5-9 класи '!AR13 -> 29.392857 | Y11: =R11/Q11 -> 28 | Z11: =T11/S11 -> 27.440678
A12: Коломийський ліцей №5 імені Т.Г.Шевченка | B12: 20 | C12: 20 | F12: =COUNT(B12:E12) -> 2 | G12: =SUM(B12:E12) -> 40 | H12: 30 | L12: =COUNT(H12:K12) -> 1 | M12: =SUM(H12:K12) -> 30 | O12: =COUNT(N12) -> 0 | P12: =SUM(N12) -> 0 | Q12: =O12+L12+F12 -> 3 | R12: =G12+M12+P12 -> 70 | S12: =Q12+'5-9 класи '!AR15+'1-4 класи '!AJ17 -> 55 | T12: =R12+'5-9 класи '!AS15+'1-4 класи '!AK17 -> 1152 | W12: ='1-4 класи '!AK17/'1-4 класи '!AJ17 -> 20.954545 | X12: ='5-9 класи '!AS15/'5-9 класи '!AR15 -> 20.7 | Y12: =R12/Q12 -> 23.333333 | Z12: =T12/S12 -> 20.945455
A13: Коломийський ліцей №8 | B13: 28 | C13: 28 | F13: =COUNT(B13:E13) -> 2 | G13: =SUM(B13:E13) -> 56 | H13: 25 | I13: 21 | J13: 24 | L13: =COUNT(H13:K13) -> 3 | M13: =SUM(H13:K13) -> 70 | O13: =COUNT(N13) -> 0 | P13: =SUM(N13) -> 0 | Q13: =O13+L13+F13 -> 5 | R13: =G13+M13+P13 -> 126 | S13: =Q13+'5-9 класи '!AR19+'1-4 класи '!AJ21 -> 51 | T13: =R13+'5-9 класи '!AS19+'1-4 класи '!AK21 -> 1171 | W13: ='1-4 класи '!AK21/'1-4 класи '!AJ21 -> 21.15 | X13: ='5-9 класи '!AS19/'5-9 класи '!AR19 -> 23.923077 | Y13: =R13/Q13 -> 25.2 | Z13: =T13/S13 -> 22.960784
A14: вечірні класи | B14: 22 | F14: =COUNT(B14:E14) -> 1 | G14: =SUM(B14:E14) -> 22 | H14: 22 | L14: =COUNT(H14:K14) -> 1 | M14: =SUM(H14:K14) -> 22 | N14: 19 | O14: =COUNT(N14) -> 1 | P14: =SUM(N14) -> 19 | Q14: =O14+L14+F14 -> 3 | R14: =G14+M14+P14 -> 63 | S14: 4 | T14: 77 | Y14: =R14/Q14 -> 21 | Z14: =T14/S14 -> 19.25
A15: Коломийський ліцей №9 | B15: 25 | C15: 25 | D15: 25 | F15: =COUNT(B15:E15) -> 3 | G15: =SUM(B15:E15) -> 75 | H15: 19 | I15: 24 | J15: 24 | K15: 24 | L15: =COUNT(H15:K15) -> 4 | M15: =SUM(H15:K15) -> 91 | O15: =COUNT(N15) -> 0 | P15: =SUM(N15) -> 0 | Q15: =O15+L15+F15 -> 7 | R15: =G15+M15+P15 -> 166 | S15: =Q15+'5-9 класи '!AR23+'1-4 класи '!AJ25 -> 71 | T15: =R15+'5-9 класи '!AS23+'1-4 класи '!AK25 -> 1777 | W15: ='1-4 класи '!AK25/'1-4 класи '!AJ25 -> 25.346154 | X15: ='5-9 класи '!AS23/'5-9 класи '!AR23 -> 25.052632 | Y15: =R15/Q15 -> 23.714286 | Z15: =T15/S15 -> 25.028169
A16: Коломийський ліцей "Коломийська гімназія імені М.Грушевського" | B16: 30 | C16: 30 | F16: =COUNT(B16:E16) -> 2 | G16: =SUM(B16:E16) -> 60 | H16: 24 | I16: 22 | L16: =COUNT(H16:K16) -> 2 | M16: =SUM(H16:K16) -> 46 | O16: =COUNT(N16) -> 0 | P16: =SUM(N16) -> 0 | Q16: =O16+L16+F16 -> 4 | R16: =G16+M16+P16 -> 106 | S16: =Q16+'5-9 класи '!AR25 -> 14 | T16: =R16+'5-9 класи '!AS25 -> 398 | X16: ='5-9 класи '!AS25/'5-9 класи '!AR25 -> 29.2 | Y16: =R16/Q16 -> 26.5 | Z16: =T16/S16 -> 28.428571
A17: Саджавський ліцей | B17: 21 | C17: 19 | F17: =COUNT(B17:E17) -> 2 | G17: =SUM(B17:E17) -> 40 | H17: 25 | L17: =COUNT(H17:K17) -> 1 | M17: =SUM(H17:K17) -> 25 | O17: =COUNT(N17) -> 0 | P17: =SUM(N17) -> 0 | Q17: =O17+L17+F17 -> 3 | R17: =G17+M17+P17 -> 65 | S17: =Q17+'5-9 класи '!AR26+'1-4 класи '!AJ28 -> 18 | T17: =R17+'5-9 класи '!AS26+'1-4 класи '!AK28 -> 420 | W17: ='1-4 класи '!AK28/'1-4 класи '!AJ28 -> 21.166667 | X17: ='5-9 класи '!AS26/'5-9 класи '!AR26 -> 25.333333 | Y17: =R17/Q17 -> 21.666667 | Z17: =T17/S17 -> 23.333333
A18: Всього: | F18: =SUM(F9:F17) -> 20 | G18: =SUM(G9:G17) -> 535 | L18: =SUM(L9:L17) -> 20 | M18: =SUM(M9:M17) -> 498 | O18: =SUM(O9:O17) -> 1 | P18: =SUM(P9:P17) -> 19 | Q18: =SUM(Q9:Q17) -> 41 | R18: =SUM(R9:R17) -> 1052 | S18: =SUM(S9:S17) -> 363 | T18: =SUM(T9:T17) -> 8966 | W18: =AVERAGE(W9:W17) -> 23.156986 | X18: =AVERAGE(X9:X17) -> 26.091614 | Y18: =AVERAGE(Y9:Y17) -> 25.69881 | Z18: =AVERAGE(Z9:Z17) -> 24.478137
A25: Керуючий справами виконавчого комітету міської ради | W25: Микола АНДРУСЯК

Sheet ЦПО
W2: Додаток 3
W3: до рішення виконавчого комітету
W4: від ____________№________________
A5: Планова мережа Центру позашкільної освіти на 2024/2025 навчальний рік
B7: Еколого-натуралістичний напрям | G7: Науково-технічний напрям | L7: Художньо-естетичний напрям | Q7: Туристсько-краєзнавчий напрям | V7: Військово-патріотичний напрям | AA7: Разом
B8: Назва гуртка | C8: груп | D8: в них дітей | E8: всього груп | F8: всього дітей | G8: Назва гуртка | H8: груп | I8: в них дітей | J8: всього груп | K8: всього дітей | L8: Назва гуртка | M8: груп | N8: в них дітей | O8: всього груп | P8: всього дітей | Q8: Назва гуртка | R8: груп | S8: в них дітей | T8: всього груп | U8: всього дітей | V8: Назва гуртка | W8: груп | X8: в них дітей | Y8: всього груп | Z8: всього дітей | AA8: Всього груп | AB8: Всього дітей
B9: Екофітодизайн | C9: 2 | D9: 30 | E9: 7 | F9: 105 | G9: Друге життя речей | H9: 2 | I9: 30 | J9: 20 | K9: 276 | L9: Вокальний | M9: 7 | N9: 86 | O9: 49 | P9: 675 | Q9: Пішохідний туризм | R9: 2 | S9: 30 | T9: 16 | U9: 240 | V9: Пластове новацтво | W9: 4 | X9: 60 | Y9: 6 | Z9: 90 | AA9: 98 | AB9: 1386
B10: Юні охоронці природи | C10: 2 | D10: 30 | G10: Цікава майстерня | H10: 3 | I10: 45 | L10: Фортепіанний | M10: 8 | N10: 99 | Q10: Велосипедний туризм | R10: 2 | S10: 30 | V10: Пластове юнацтво | W10: 2 | X10: 30
B11: Біорізноманіття | C11: 1 | D11: 15 | G11: Історико-технічне стендове моделювання | H11: 2 | I11: 30 | L11: Бальні танці | M11: 2 | N11: 32 | Q11: Гірський туризм | R11: 2 | S11: 30
B12: Флористика та фітодизайн інтер’єру | C12: 2 | D12: 30 | G12: Основи робототехніки та комп’ютерного моделювання | H12: 3 | I12: 36 | L12: Народні танці | M12: 5 | N12: 80 | Q12: Спортивний туризм | R12: 1 | S12: 15
G13: Початкове технічне моделювання | H13: 2 | I13: 30 | L13: Гра на духових інструментах | M13: 2 | N13: 24 | Q13: Спортивна підготовка туриста | R13: 2 | S13: 30
G14: Скретч програмування | H14: 3 | I14: 45 | L14: Оркестр народних інструментів | M14: 2 | N14: 24 | Q14: Організатор спортивного туризму | R14: 1 | S14: 15
G15: Мала акдемія наук | H15: 3 | I15: 30 | L15: Театральний | M15: 1 | N15: 15 | Q15: Спортивне орієнтування | R15: 1 | S15: 15
G16: Основи Web-дизайну | H16: 2 | I16: 30 | L16: Вишивка | M16: 2 | N16: 30 | Q16: Юні туристи-краєзнавці | R16: 1 | S16: 15
L17: Прикладне мистецтво | M17: 3 | N17: 45 | Q17: Географічне краєзнавство | R17: 2 | S17: 30
L18: Іграшки | M18: 3 | N18: 45 | Q18: Екологічне краєзнавство | R18: 1 | S18: 15
L19: Рукоділля | M19: 3 | N19: 45 | Q19: Юні екскурсоводи | R19: 1 | S19: 15
L20: Бісероплетіння | M20: 3 | N20: 45
L21: Гердан | M21: 3 | N21: 45
L22: Аплікація | M22: 2 | N22: 30
L23: Конструювання та моделювання одягу | M23: 2 | N23: 30
L24: Сольфеджіо і музлітература | M24: 1
B28: Керуючий справами виконавчого комітету міської ради | V28: Микола АНДРУСЯК

Sheet здо
AD2: Додаток 2
AD3: до рішення виконавчого комітету
AD4: від______№__________
B5: Планова мережа закладів дошкільної освіти
B6: на 2024/2025 навчальний рік
A8: Заклади дошкільної освіти | B8: Кількість | F8: Тривалість робочого часу
F9: 10,5 год | AH9: 9 год
B10: всього груп | C10: всього дітей | D10: з них: спеціальні, санаторні | F10: всього груп | G10: всього дітей | H10: ранній дошкільний вік (2-3 р) | M10: молодший вік (3-4 р) | R10: середній дошкільний вік (4-5 р) | W10: старший дошкільний вік (5-6 р) | AC10: передшкільний вік (3-6 р) | AH10: передшкільний вік (2-6 р)
D11: груп | E11: дітей | H11: І група | I11: ІІ група | J11: ІІІ група | K11: всього груп | L11: всього дітей | M11: І група | N11: ІІ група | O11: ІІІ група | P11: всього груп | Q11: всього дітей | R11: І група | S11: ІІ група | T11: ІІІ група | U11: всього груп | V11: всього дітей | W11: І група | X11: ІІ група | Y11: ІІІ група | Z11: IV група (санаторна) | AA11: всього груп | AB11: всього дітей | AC11: І група | AD11: ІІ група (спеціальна) | AE11: ІІІ група (спеціальна) | AF11: всього груп | AG11: всього дітей | AH11: груп | AI11: дітей
A12: Коломийський ЗДО (ясла-садок) комбінованого типу №2 "Дударик" | B12: 11 | C12: 182 | D12: 3 | E12: 43 | F12: =P12+U12+AA12+K12+AF12 -> 11 | G12: =Q12+V12+AB12+L12+AG12 -> 182 | H12: 14 | I12: 16 | K12: 2 | L12: =SUM(H12,I12) -> 30 | M12: 30 | P12: 1 | Q12: =M12+N12+O12 -> 30 | R12: 19 | S12: 20 | T12: 19 | U12: 3 | V12: =R12+S12+T12 -> 58 | W12: 17 | X12: 16 | Z12: 19 | AA12: 3 | AB12: =W12+X12+Y12+Z12 -> 52 | AD12: 12 | AE12: 12 | AF12: 2 | AG12: =AC12+AD12 -> 12
A13: Коломийський ЗДО (ясла-садок) №3 "Берізка" | B13: 7 | C13: 127 | F13: =P13+U13+AA13+K13 -> 7 | G13: =Q13+V13+AB13+L13+AG13 -> 127 | H13: 11 | K13: 1 | L13: =SUM(H13,I13) -> 11 | M13: 16 | N13: 16 | P13: 2 | Q13: =M13+N13+O13 -> 32 | R13: 20 | S13: 16 | U13: 2 | V13: =R13+S13+T13 -> 36 | W13: 24 | X13: 24 | AA13: 2 | AB13: =W13+X13+Y13+Z13 -> 48 | AG13: =AC13+AD13 -> 0
A14: Коломийський ЗДО (ясла-садок) №5 "Барвінок" | B14: 6 | C14: 89 | F14: =P14+U14+AA14+K14 -> 6 | G14: =Q14+V14+AB14+L14+AG14 -> 89 | H14: 12 | K14: 1 | L14: =SUM(H14,I14) -> 12 | M14: 12 | N14: 15 | P14: 2 | Q14: =M14+N14+O14 -> 27 | R14: 15 | S14: 15 | U14: 2 | V14: =R14+S14+T14 -> 30 | W14: 20 | AA14: 1 | AB14: =W14+X14+Y14+Z14 -> 20 | AG14: =AC14+AD14 -> 0
A15: Коломийський ЗДО (ясла-садок)№7 "Росинка" | B15: 7 | C15: 115 | F15: =P15+U15+AA15+K15 -> 7 | G15: =Q15+V15+AB15+L15+AG15 -> 115 | H15: 13 | I15: 11 | K15: 2 | L15: =SUM(H15,I15) -> 24 | M15: 23 | P15: 1 | Q15: =M15+N15+O15 -> 23 | R15: 13 | S15: 17 | U15: 2 | V15: =R15+S15+T15 -> 30 | W15: 22 | X15: 16 | AA15: 2 | AB15: =W15+X15+Y15+Z15 -> 38 | AG15: =AC15+AD15 -> 0
A16: Коломийський ЗДО (ясла-садок)№9 "Веселка" | B16: 4 | C16: 96 | F16: =P16+U16+AA16+K16 -> 4 | G16: =Q16+V16+AB16+L16+AG16 -> 96 | H16: 24 | K16: 1 | L16: =SUM(H16,I16) -> 24 | M16: 25 | P16: 1 | Q16: =M16+N16+O16 -> 25 | R16: 21 | U16: 1 | V16: =R16+S16+T16 -> 21 | W16: 26 | AA16: 1 | AB16: =W16+X16+Y16+Z16 -> 26 | AG16: =AC16+AD16 -> 0
A17: Коломийський ЗДО (ясла-садок) №11 "Сонечко" | B17: 6 | C17: 118 | F17: =P17+U17+AA17+K17 -> 6 | G17: =Q17+V17+AB17+L17+AG17 -> 118 | H17: 19 | K17: 1 | L17: =SUM(H17,I17) -> 19 | M17: 20 | P17: 1 | Q17: =M17+N17+O17 -> 20 | R17: 19 | S17: 22 | U17: 2 | V17: =R17+S17+T17 -> 41 | W17: 18 | X17: 20 | AA17: 2 | AB17: =W17+X17+Y17+Z17 -> 38 | AG17: =AC17+AD17 -> 0
A18: Коломийський ЗДО (ясла-садок) №14 "Світанок" | B18: 6 | C18: 117 | F18: =P18+U18+AA18+K18 -> 6 | G18: =Q18+V18+AB18+L18+AG18 -> 117 | H18: 11 | I18: 11 | K18: 2 | L18: =SUM(H18,I18) -> 22 | M18: 20 | N18: 19 | P18: 2 | Q18: =M18+N18+O18 -> 39 | R18: 25 | U18: 1 | V18: =R18+S18+T18 -> 25 | W18: 31 | AA18: 1 | AB18: =W18+X18+Y18+Z18 -> 31 | AG18: =AC18+AD18 -> 0
A19: Коломийський ЗДО (ясла-садок) №16 "Орлятко" | B19: 8 | C19: 142 | F19: =P19+U19+AA19+K19 -> 8 | G19: =Q19+V19+AB19+L19+AG19 -> 142 | H19: 18 | K19: 1 | L19: =SUM(H19,I19) -> 18 | M19: 16 | N19: 13 | P19: 2 | Q19: =M19+N19+O19 -> 29 | R19: 18 | S19: 18 | U19: 2 | V19: =R19+S19+T19 -> 36 | W19: 20 | X19: 20 | Y19: 19 | AA19: 3 | AB19: =W19+X19+Y19+Z19 -> 59 | AG19: =AC19+AD19 -> 0
A20: Коломийський ЗДО (ясла-садок) №17 "Калинка" | B20: 6 | C20: 100 | F20: =P20+U20+AA20+K20 -> 6 | G20: =Q20+V20+AB20+L20+AG20 -> 100 | H20: 10 | K20: 1 | L20: =SUM(H20,I20) -> 10 | M20: 16 | P20: 1 | Q20: =M20+N20+O20 -> 16 | R20: 19 | S20: 18 | U20: 2 | V20: =R20+S20+T20 -> 37 | W20: 18 | X20: 19 | AA20: 2 | AB20: =W20+X20+Y20+Z20 -> 37 | AG20: =AC20+AD20 -> 0
A21: Коломийський ЗДО (ясла-садок) №18 "Ластівка" | B21: 2 | C21: 42 | F21: =P21+U21+AA21+K21 -> 2 | G21: =Q21+V21+AB21+L21+AG21 -> 42 | L21: =SUM(H21,I21) -> 0 | M21: 21 | P21: 1 | Q21: =M21+N21+O21 -> 21 | V21: =R21+S21+T21 -> 0 | W21: 21 | AA21: 1 | AB21: =W21+X21+Y21+Z21 -> 21 | AG21: =AC21+AD21 -> 0
A22: Коломийський ЗДО (ясла-садок) №19 "Ромашка" | B22: 11 | C22: 199 | F22: =P22+U22+AA22+K22 -> 11 | G22: =Q22+V22+AB22+L22+AG22 -> 199 | H22: 14 | I22: 15 | J22: 15 | K22: 3 | L22: =SUM(H22:J22) -> 44 | M22: 20 | N22: 20 | O22: 19 | P22: 3 | Q22: =M22+N22+O22 -> 59 | R22: 23 | S22: 20 | T22: 21 | U22: 3 | V22: =R22+S22+T22 -> 64 | W22: 16 | X22: 16 | AA22: 2 | AB22: =W22+X22+Y22+Z22 -> 32 | AG22: =AC22+AD22 -> 0
A23: Коломийський ЗДО (ясла-садок) №21 "Пролісок" | B23: 8 | C23: 141 | F23: =P23+U23+AA23+K23 -> 8 | G23: =Q23+V23+AB23+L23+AG23 -> 141 | H23: 16 | K23: 1 | L23: =SUM(H23,I23) -> 16 | M23: 16 | N23: 16 | P23: 2 | Q23: =M23+N23+O23 -> 32 | R23: 19 | S23: 15 | U23: 2 | V23: =R23+S23+T23 -> 34 | W23: 24 | X23: 24 | Y23: 11 | AA23: 3 | AB23: =W23+X23+Y23+Z23 -> 59 | AG23: =AC23+AD23 -> 0
A24: Саджавський ЗДО (ясла-садок) "Дударик" | B24: 4 | C24: 94 | F24: =P24+U24+AA24+K24 -> 4 | G24: =Q24+V24+AB24+L24+AG24 -> 94 | H24: 16 | K24: 1 | L24: =SUM(H24,I24) -> 16 | M24: 28 | P24: 1 | Q24: =M24+N24+O24 -> 28 | R24: 25 | U24: 1 | V24: =R24+S24+T24 -> 25 | W24: 25 | AA24: 1 | AB24: =W24+X24+Y24+Z24 -> 25 | AG24: =AC24+AD24 -> 0
A25: Корницький заклад дошкільної освіти (ясла-садок) "Калинка" | B25: 3 | C25: 57 | F25: =P25+U25+AA25+K25 -> 3 | G25: =Q25+V25+AB25+L25+AG25 -> 57 | H25: 17 | K25: 1 | L25: =SUM(H25,I25) -> 17 | Q25: =M25+N25+O25 -> 0 | R25: 19 | U25: 1 | V25: =R25+S25+T25 -> 19 | W25: 21 | AA25: 1 | AB25: =W25+X25+Y25+Z25 -> 21 | AG25: =AC25+AD25 -> 0
A26: Дошкільний підрозділ "Світанок" Воскресинцівської філії Коломийського ліцею №1 імені Василя Стефаника | B26: 1 | C26: 28 | F26: 1 | G26: 28 | L26: =SUM(H26,I26) -> 0 | Q26: =M26+N26+O26 -> 0 | V26: =R26+S26+T26 -> 0 | AB26: =W26+X26+Y26+Z26 -> 0 | AC26: 28 | AF26: 1 | AG26: =AC26+AD26 -> 28
A27: Дошкільний підрозділ Коломийської філії №20 Коломийського ліцею №4 імені Сергія Лисенка | B27: 6 | C27: 106 | F27: =P27+U27+AA27+K27 -> 6 | G27: =Q27+V27+AB27+L27+AG27 -> 106 | H27: 15 | K27: 1 | L27: =SUM(H27,I27) -> 15 | M27: 13 | N27: 16 | P27: 2 | Q27: =M27+N27+O27 -> 29 | R27: 22 | U27: 1 | V27: =R27+S27+T27 -> 22 | W27: 20 | X27: 20 | AA27: 2 | AB27: =W27+X27+Y27+Z27 -> 40 | AG27: =AC27+AD27 -> 0
A28: Дошкільний підрозділ Іванівецької філії Коломийського ліцею №8 | B28: 2 | C28: 35 | F28: =P28+U28+AA28+K28 -> 2 | G28: =Q28+V28+AB28+L28+AG28 -> 35 | L28: =SUM(H28,I28) -> 0 | M28: 19 | P28: 1 | Q28: =M28+N28+O28 -> 19 | R28: 16 | U28: 1 | V28: =R28+S28+T28 -> 16 | AB28: =W28+X28+Y28+Z28 -> 0 | AG28: =AC28+AD28 -> 0
A29: Дошкільний підрозділ "Теремок" Товмачицької філії Коломийського ліцею №8 | B29: 1 | C29: 26 | F29: =P29+U29+AA29+K29+AH29 -> 1 | G29: =Q29+V29+AB29+L29+AG29+AI29 -> 26 | L29: =SUM(H29,I29) -> 0 | Q29: =M29+N29+O29 -> 0 | V29: =R29+S29+T29 -> 0 | AB29: =W29+X29+Y29+Z29 -> 0 | AG29: =AC29+AD29 -> 0 | AH29: 1 | AI29: 26
A30: Дошкільний підрозділ "Дзвіночок" Раківчицької філії Коломийського ліцею №5 імені Т. Г. Шевченка | B30: 1 | C30: 20 | F30: =P30+U30+AA30+K30+AF30 -> 1 | G30: =Q30+V30+AB30+L30+AG30 -> 20 | L30: =SUM(H30,I30) -> 0 | Q30: =M30+N30+O30 -> 0 | V30: =R30+S30+T30 -> 0 | AC30: 20 | AF30: 1 | AG30: =AC30+AD30 -> 20
A31: Дошкільний підрозділ "Лісовичок" Шепарівцівської філії Коломийського ліцею №5 імені Т. Г. Шевченка | B31: 1 | C31: 20 | F31: =P31+U31+AA31+K31+AF31 -> 1 | G31: =Q31+V31+AB31+L31+AG31 -> 20 | L31: =SUM(H31,I31) -> 0 | Q31: =M31+N31+O31 -> 0 | V31: =R31+S31+T31 -> 0 | AC31: 20 | AF31: 1 | AG31: =AC31+AD31 -> 20
A32: Всього | B32: =SUM(B12:B31) -> 101 | C32: =SUM(C12:C31) -> 1854 | D32: =SUM(D12:D31) -> 3 | E32: =SUM(E12:E31) -> 43 | F32: =SUM(F12:F31) -> 101 | G32: =SUM(G12:G31) -> 1854 | H32: =SUM(H12:H31) -> 210 | I32: =SUM(I12:I31) -> 53 | ... K32: =SUM(K12:K31) -> 19 | L32: =H32+I32+J32 -> 278 | M32: =SUM(M12:M31) -> 295 | N32: =SUM(N12:N31) -> 115 | O32: =SUM(O12:O31) -> 19 | P32: =SUM(P12:P31) -> 23 | Q32: =M32+N32+O32 -> 429 | R32: =SUM(R12:R31) -> 293 | S32: =SUM(S12:S31) -> 161 | T32: =SUM(T12:T31) -> 40 | U32: =SUM(U12:U31) -> 26 | V32: =R32+S32+T32 -> 494 | W32: =SUM(W12:W31) -> 323 | X32: =SUM(X12:X31) -> 175 | Y32: =SUM(Y12:Y31) -> 30 | Z32: =SUM(Z12:Z31) -> 19 | AA32: =SUM(AA12:AA31) -> 27 | AB32: =SUM(AB12:AB31) -> 547 | AC32: =SUM(AC12:AC31) -> 68 | AD32: =SUM(AD12:AD31) -> 12 | AF32: =SUM(AF12:AF31) -> 5 | AG32: =SUM(AG12:AG31) -> 80 | AH32: =SUM(AH12:AH31) -> 1 | AI32: =SUM(AI12:AI31) -> 26
A40: Керуючий справами виконавчого комітету міської ради | AD40: Микола АНДРУСЯК
