Workbook

Sheet 1-4
BA5: Додаток 1
BA6: до рішення виконавчого комітету
BA7: від 19.09.2023 р. № 239
B9: Фактична мережа закладів загальної середньої освіти
B10: на 2023/2024 навчальний рік
A12: Заклади загальної середньої освіти | B12: 1-А | C12: 1-ф | D12: 1-ф | E12: 1-ф | F12: 1-ф | G12: 1-ф | H12: 1-ф | I12: 1-Б | J12: 1-В | K12: 1-Г | L12: 1-І | M12: к-сть класів | N12: к-сть учнів | O12: к-ть учнів ГПД | P12: 2-А | Q12: 2-ф | R12: 2-ф | S12: 2-ф | T12: 2-ф | U12: 2-ф | V12: 2-Б | W12: 2-В | X12: 2-Г | Y12: 2-І | Z12: к-сть класів | AA12: к-сть учнів | AB12: к-ть учнів ГПД | AC12: 3-А | AD12: 3-ф | AE12: 3-ф | AF12: 3-ф | AG12: 3-ф | AH12: 3-Б | AI12: 3-В | AJ12: 3-Г | AK12: 3-І | AL12: 3-Е | AM12: к-сть класів | AN12: к-сть учнів | AO12: к-ть учнів ГПД | AP12: 4-А | AQ12: 4-ф | AR12: 4-ф | AS12: 4-ф | AT12: 4-Б | AU12: 4-Б ф | AV12: 4-В | AW12: 4-Г | AX12: 4-I | AY12: 4-E | AZ12: к-сть класів | BA12: к-сть учнів | BB12: к-ть учнів ГПД | BC12: к-сть 1-4 класів | BD12: к-сть учнів у 1-4 кл. | BE12: ГПД (всього дітей) | BF12: ГПД (всього груп) | BG12: ГПД (всього ставок)
A14: Коломийський ліцей №1 імені В.Стефаника | B14: 29 | C14: 20 | D14: 16 | I14: 28 | J14: 30 | L14: 23 | M14: 6 | N14: =SUM(B14:L14) -> 146 | O14: 45 | P14: 28 | Q14: 13 | R14: 15 | V14: 31 | W14: 33 | X14: 33 | Y14: 30 | Z14: 7 | AA14: =SUM(P14:Y14) -> 183 | AB14: 45 | AC14: 20 | AD14: 24 | AE14: 16 | AH14: 30 | AI14: 28 | AK14: 29 | AM14: 6 | AN14: =SUM(AC14:AL14) -> 147 | AO14: 45 | AP14: 32 | AQ14: 26 | AR14: 16 | AT14: 20 | AV14: 30 | AW14: 21 | AX14: 28 | AZ14: 7 | BA14: =SUM(AP14:AY14) -> 173 | BB14: 45 | BC14: =AZ14+AM14+Z14+M14 -> 26 | BD14: 649 | BE14: =BB14+AO14+AB14+O14 -> 180 | BF14: 6 | BG14: 5
A15: Коломийський ліцей №2 | B15: 25 | I15: 25 | J15: 25 | M15: 3 | N15: =SUM(B15:L15) -> 75 | O15: 30 | P15: 23 | V15: 25 | Z15: 2 | AA15: =SUM(P15:Y15) -> 48 | AB15: 30 | AC15: 24 | AH15: 20 | AI15: 28 | AM15: 3 | AN15: =SUM(AC15:AL15) -> 72 | AO15: 30 | AP15: 29 | AT15: 31 | AZ15: 3 | BA15: =SUM(AP15:AY15) -> 60 | BB15: 30 | BC15: 10 | BD15: 255 | BE15: 120 | BF15: 4 | BG15: 2
A16: Коломийський ліцей №4 імені Сергія Лисенка | B16: 30 | C16: 21 | D16: 27 | I16: 30 | J16: 26 | K16: 30 | M16: 6 | N16: 164 | O16: 90 | P16: 30 | Q16: 21 | R16: 18 | V16: 28 | W16: 29 | X16: 31 | Z16: 6 | AA16: =SUM(P16:Y16) -> 157 | AB16: 80 | AC16: 30 | AD16: 16 | AE16: 20 | AH16: 30 | AI16: 30 | AJ16: 26 | AM16: 6 | AN16: =SUM(AC16:AL16) -> 152 | AO16: 50 | AP16: 30 | AQ16: 27 | AR16: 23 | AT16: 30 | AV16: 31 | AW16: 29 | AZ16: 6 | BA16: =SUM(AP16:AY16) -> 170 | BB16: 50 | BC16: 24 | BD16: 643 | BE16: 270 | BF16: 9 | BG16: 6
A17: Коломийський ліцей №5 імені Т.Г.Шевченка | B17: 29 | C17: 29 | E17: 10 | I17: 24 | L17: 29 | M17: 5 | N17: =SUM(B17:L17) -> 121 | O17: 50 | P17: 22 | Q17: 28 | R17: 16 | S17: 9 | V17: 21 | Y17: 25 | Z17: 6 | AA17: =SUM(P17:Y17) -> 121 | AB17: 40 | AC17: 27 | AD17: 30 | AE17: 12 | AF17: 9 | AH17: 23 | AI17: 29 | AM17: 6 | AN17: =SUM(AC17:AL17) -> 130 | AO17: 40 | AP17: 20 | AQ17: 22 | AR17: 10 | AS17: 10 | AT17: 26 | AU17: 19 | AV17: 28 | AZ17: 7 | BA17: =SUM(AP17:AY17) -> 135 | BB17: 50 | BC17: 24 | BD17: 507 | BE17: 180 | BF17: 7.5 | BG17: 5
A18: Коломийський ліцей №8 | B18: 23 | C18: 15 | D18: 16 | I18: 23 | J18: 23 | M18: 5 | N18: =SUM(B18:L18) -> 100 | O18: 55 | P18: 23 | Q18: 12 | R18: 13 | V18: 18 | W18: 28 | Z18: 5 | AA18: =SUM(P18:Y18) -> 94 | AB18: 55 | AC18: 29 | AD18: 19 | AE18: 26 | AH18: 23 | AI18: 30 | AM18: 5 | AN18: =SUM(AC18:AL18) -> 127 | AO18: 50 | AP18: 24 | AQ18: 15 | AR18: 12 | AT18: 28 | AV18: 29 | AZ18: 5 | BA18: =SUM(AP18:AY18) -> 108 | BB18: 50 | BC18: 20 | BD18: 429 | BE18: 210 | BF18: 7 | BG18: 4
A19: Коломийський ліцей №9 | C19: 25 | D19: 23 | E19: 29 | F19: 24 | G19: 21 | H19: 22 | M19: 6 | N19: =SUM(B19:L19) -> 144 | O19: 60 | Q19: 32 | R19: 31 | S19: 31 | T19: 27 | U19: 26 | Z19: 5 | AA19: =SUM(P19:Y19) -> 147 | AB19: 90 | AC19: 29 | AD19: 29 | AE19: 29 | AF19: 26 | AG19: 27 | AH19: 35 | AI19: 31 | AM19: 7 | AN19: =SUM(AC19:AL19) -> 206 | AO19: 90 | AP19: 28 | AQ19: 26 | AR19: 26 | AS19: 29 | AT19: 26 | AV19: 22 | AW19: 20 | AY19: 23 | AZ19: 8 | BA19: =SUM(AP19:AY19) -> 200 | BB19: 120 | BC19: 26 | BD19: 697 | BE19: 360 | BF19: 12 | BG19: 7.5
A20: Коломийський ліцей імені М.Грушевського | N20: =SUM(B20:L20) -> 0 | AA20: =SUM(P20:Y20) -> 0 | AN20: =SUM(AC20:AL20) -> 0 | BA20: =SUM(AP20:AY20) -> 0
A21: Саджавський ліцей | B21: 18 | I21: 23 | M21: 2 | N21: =SUM(B21:L21) -> 41 | P21: 24 | Z21: 1 | AA21: =SUM(P21:Y21) -> 24 | AB21: 6 | AC21: 18 | AH21: 18 | AM21: 2 | AN21: =SUM(AC21:AL21) -> 36 | AO21: 12 | AP21: 19 | AT21: 19 | AZ21: 2 | BA21: =SUM(AP21:AY21) -> 38 | BB21: 12 | BC21: 7 | BD21: 139 | BE21: 30 | BF21: 1 | BG21: 0.5
A22: з них вечірні класи | N22: =SUM(B22:L22) -> 0
A23: Всього: | B23: =SUM(B14:B21) -> 154 | C23: =SUM(C14:C21) -> 110 | D23: =SUM(D14:D21) -> 82 | E23: =SUM(E14:E21) -> 39 | F23: =SUM(F14:F21) -> 24 | G23: =SUM(G14:G21) -> 21 | H23: =SUM(H14:H21) -> 22 | I23: =SUM(I14:I21) -> 153 | ... BG23: =SUM(BG14:BG21) -> 30
A25: З них інклюзивне навчання у:
A26: Коломийський ліцей №1 імені В.Стефаника | B26: 1 | D26: 1 | I26: 1 | J26: 2 | M26: 4 | N26: =SUM(B26:L26) -> 5 | P26: 1 | Q26: 1 | R26: 1 | Z26: 3 | AA26: =SUM(P26:Y26) -> 3 | AD26: 2 | AM26: 1 | AN26: 2 | AQ26: 1 | AR26: 2 | AZ26: 2 | BA26: =SUM(AO26:AY26) -> 3 | BC26: =AZ26+Z26+M26+AM26 -> 10 | BD26: =BA26+AA26+N26+AN26 -> 13
A27: Коломийський ліцей №2
A28: Коломийський ліцей №4 імені Сергія Лисенка | B28: 2 | C28: 2 | I28: 1 | K28: 1 | M28: 4 | N28: 6 | Q28: 1 | R28: 1 | V28: 1 | Z28: 3 | AA28: 3 | AH28: 1 | AJ28: 1 | AM28: 2 | AN28: 2 | AV28: 1 | AZ28: 1 | BA28: 1 | BC28: 10 | BD28: 12
A29: Коломийський ліцей №5 імені Т.Г.Шевченка | B29: 1 | I29: 2 | M29: 2 | N29: 3 | Q29: 1 | R29: 2 | V29: 2 | Y29: 1 | Z29: 4 | AA29: 6 | AD29: 1 | AH29: 1 | AI29: 1 | AM29: 3 | AN29: 3 | AP29: 1 | AT29: 1 | AV29: 2 | AZ29: 3 | BA29: 4 | BC29: 11 | BD29: 15
A30: Коломийський ліцей №8 | B30: 1 | C30: 1 | I30: 1 | J30: 1 | M30: 4 | N30: 4 | P30: 1 | V30: 1 | Z30: 2 | AA30: 2 | AC30: 1 | AH30: 1 | AI30: 1 | AM30: 3 | AN30: 3 | AP30: 1 | AV30: 1 | AZ30: 2 | BA30: 2 | BC30: 11 | BD30: 11
A31: Коломийський ліцей №9 | C31: 1 | D31: 1 | E31: 1 | F31: 1 | G31: 1 | M31: 5 | N31: 5 | Q31: 1 | S31: 1 | T31: 1 | U31: 1 | Z31: 4 | AA31: 4 | AD31: 2 | AG31: 1 | AM31: 2 | AN31: 3 | AR31: 1 | AS31: 1 | AZ31: 2 | BA31: 2 | BC31: 13 | BD31: 14
A32: Коломийський ліцей імені М.Грушевського
A33: Саджавський ліцей | Q33: 1 | Z33: 1 | AA33: 1 | AP33: 1 | AZ33: 1 | BA33: 1 | BC33: 2 | BD33: 2
A34: Всього: | B34: =SUM(B26:B33) -> 5 | C34: =SUM(C26:C33) -> 4 | D34: =SUM(D26:D33) -> 2 | E34: =SUM(E26:E33) -> 1 | F34: =SUM(F26:F33) -> 1 | G34: =SUM(G26:G33) -> 1 | H34: =SUM(H26:H33) -> 0 | I34: =SUM(I26:I33) -> 5 | ... BG34: =SUM(BG26:BG33) -> 0
A42: Керуючий справами виконавчого комітету міської ради | AZ42: Микола АНДРУСЯК

Sheet 5-9
AV5: Продовження додатка 1
AV6: до рішення виконавчого комітету
AV7: від 19.09.2023 р. № 239
B9: Фактична мережа закладів загальної середньої освіти
B10: на 2023/2024 навчальний рік
A13: Заклади загальної середньої освіти | B13: 5-А | C13: 5-ф | D13: 5-ф | E13: 5-ф | F13: 5-Б | G13: 5-В | H13: 5-Г | I13: 5-І | J13: 5-Д | K13: к-сть класів | L13: к-сть учнів | M13: 6-А | N13: 6-ф | O13: 6-ф | P13: 6-ф | Q13: 6-Б | R13: 6-В | S13: 6-Г | T13: 6-Д | U13: 6-Е | V13: 6-I | W13: к-сть класів | X13: к-сть учнів | Y13: 7-А | Z13: 7-ф | AA13: 7-ф | AB13: 7-ф | AC13: 7-ф | AD13: 7-Б | AE13: 7-В | AF13: 7-Г | AG13: 7-Д | AH13: 7-I | AI13: к-сть класів | AJ13: к-сть учнів | AK13: 8-А | AL13: 8-ф | AM13: 8-ф | AN13: 8-ф | AO13: 8-Б | AP13: 8-В | AQ13: 8-Г | AR13: 8-Д | AS13: 8-Е | AT13: к-сть класів | AU13: к-сть учнів | AV13: 9-А | AW13: 9-ф | AX13: 9-ф | AY13: 9-ф | AZ13: 9-ф | BA13: 9-Б | BB13: 9-В | BC13: 9-Г | BD13: 9-Д | BE13: к-сть класів | BF13: к-сть учнів | BG13: к-сть 5-9 класів | BH13: к-сть учнів у 5-9 кл.
A14: Коломийський ліцей №1 імені В.Стефаника | B14: 28 | C14: 24 | D14: 20 | F14: 28 | G14: 24 | H14: 20 | I14: 31 | K14: 7 | L14: =SUM(B14:J14) -> 175 | M14: 31 | N14: 21 | O14: 18 | Q14: 29 | R14: 31 | S14: 30 | V14: 25 | W14: 7 | X14: =SUM(M14:V14) -> 185 | Y14: 20 | Z14: 20 | AA14: 10 | AD14: 28 | AE14: 29 | AH14: 28 | AI14: 6 | AJ14: =SUM(Y14:AH14) -> 135 | AK14: 28 | AL14: 18 | AM14: 17 | AO14: 28 | AP14: 28 | AQ14: 29 | AR14: 22 | AT14: 7 | AU14: =SUM(AK14:AS14) -> 170 | AV14: 33 | AW14: 21 | AX14: 19 | BA14: 28 | BB14: 29 | BC14: 29 | BD14: 29 | BE14: 7 | BF14: =SUM(AV14:BD14) -> 188 | BG14: =BE14+AT14+AI14+W14+K14 -> 34 | BH14: =BF14+AU14+AJ14+X14+L14 -> 853
A15: Коломийський ліцей №2 | B15: 26 | F15: 34 | G15: 26 | K15: 3 | L15: 86 | M15: 34 | Q15: 34 | W15: 2 | X15: 68 | Y15: 31 | AD15: 22 | AI15: 2 | AJ15: 53 | AK15: 29 | AO15: 28 | AT15: 2 | AU15: 57 | AV15: 24 | BA15: 26 | BB15: 27 | BE15: 3 | BF15: 77 | BG15: 12 | BH15: 341
A16: Коломийський ліцей №4 імені Сергія Лисенка | B16: 32 | C16: 33 | F16: 32 | G16: 33 | H16: 31 | J16: 34 | K16: 6 | L16: 195 | M16: 29 | N16: 29 | Q16: 29 | R16: 27 | S16: 30 | T16: 26 | W16: 6 | X16: 170 | Y16: 26 | Z16: 29 | AD16: 27 | AE16: 27 | AF16: 30 | AG16: 26 | AI16: 6 | AJ16: 165 | AK16: 23 | AL16: 35 | AO16: 29 | AP16: 31 | AQ16: 30 | AT16: 5 | AU16: 148 | AV16: 28 | AW16: 22 | AX16: 20 | BA16: 30 | BB16: 30 | BC16: 30 | BE16: 6 | BF16: 160 | BG16: 29 | BH16: 838
A17: Коломийський ліцей №5 імені Т.Г.Шевченка | B17: 28 | C17: 26 | D17: 13 | E17: 11 | F17: 29 | I17: 29 | K17: 6 | L17: 136 | M17: 23 | N17: 27 | O17: 9 | P17: 9 | Q17: 31 | R17: 24 | W17: 6 | X17: 123 | Y17: 24 | Z17: 35 | AA17: 6 | AB17: 8 | AD17: 22 | AE17: 25 | AI17: 6 | AJ17: 120 | AK17: 25 | AL17: 19 | AM17: 13 | AN17: 10 | AO17: 25 | AP17: 23 | AT17: 6 | AU17: 115 | AV17: 32 | AW17: 31 | AX17: 16 | AY17: 14 | BA17: 31 | BE17: 5 | BF17: 124 | BG17: 29 | BH17: 618
A18: Коломийський ліцей №8 | B18: 28 | C18: 11 | D18: 19 | F18: 28 | G18: 30 | K18: 5 | L18: 116 | M18: 30 | N18: 17 | O18: 16 | Q18: 30 | R18: 30 | W18: 5 | X18: 123 | Y18: 30 | Z18: 21 | AA18: 26 | AD18: 28 | AE18: 28 | AI18: 5 | AJ18: 133 | AK18: 34 | AL18: 12 | AM18: 11 | AO18: 31 | AP18: 33 | AT18: 5 | AU18: 121 | AV18: 29 | AW18: 18 | AX18: 18 | BA18: 31 | BB18: 29 | BE18: 6 | BF18: 125 | BG18: 26 | BH18: 618
A19: Коломийський ліцей №9 | B19: 29 | C19: 22 | D19: 21 | E19: 23 | F19: 31 | G19: 31 | H19: 29 | K19: 7 | L19: 186 | M19: 22 | N19: 23 | O19: 20 | Q19: 21 | R19: 30 | S19: 20 | T19: 30 | U19: 18 | W19: 8 | X19: 184 | Y19: 23 | Z19: 23 | AA19: 24 | AB19: 20 | AC19: 23 | AD19: 27 | AE19: 31 | AF19: 30 | AI19: 8 | AJ19: 201 | AK19: 29 | AL19: 21 | AM19: 25 | AN19: 26 | AO19: 24 | AP19: 35 | AQ19: 25 | AS19: 18 | AT19: 8 | AU19: 203 | AV19: 23 | AW19: 26 | AX19: 22 | AY19: 23 | AZ19: 20 | BA19: 24 | BB19: 32 | BE19: 7 | BF19: 170 | BG19: 38 | BH19: 944
A20: Коломийський ліцей імені М.Грушевського | B20: 26 | F20: 24 | K20: 2 | L20: 50 | M20: 25 | Q20: 28 | W20: 2 | X20: 53 | Y20: 36 | AD20: 36 | AI20: 2 | AJ20: 72 | AK20: 29 | AO20: 28 | AT20: 2 | AU20: 57 | AV20: 34 | BA20: 32 | BE20: 2 | BF20: 66 | BG20: 10 | BH20: 298
A21: Саджавський ліцей | B21: 39 | K21: 1 | L21: 39 | M21: 21 | Q21: 21 | W21: 2 | X21: 42 | Y21: 24 | AD21: 25 | AI21: 2 | AJ21: 49 | AK21: 29 | AO21: 30 | AT21: 2 | AU21: 59 | AV21: 20 | BA21: 19 | BE21: 2 | BF21: 39 | BG21: 9 | BH21: 228
A22: з них вечірні класи | AY22: 13 | BE22: 1 | BF22: 13 | BG22: 1 | BH22: 13
A23: Всього: | B23: =SUM(B14:B22) -> 236 | C23: =SUM(C14:C22) -> 116 | D23: =SUM(D14:D22) -> 73 | E23: =SUM(E14:E22) -> 34 | F23: =SUM(F14:F22) -> 206 | G23: =SUM(G14:G22) -> 144 | H23: =SUM(H14:H22) -> 80 | I23: =SUM(I14:I22) -> 60 | ... AX23: =SUM(AX14:AX22) -> 95 | AY23: =SUM(AY14:AY21) -> 37 | AZ23: =SUM(AZ14:AZ22) -> 20 | BA23: =SUM(BA14:BA22) -> 221 | BB23: =SUM(BB14:BB22) -> 147 | BC23: =SUM(BC14:BC22) -> 59 | BD23: =SUM(BD14:BD22) -> 29 | BE23: =SUM(BE14:BE21) -> 38 | BF23: =SUM(BF14:BF21) -> 949 | BG23: =SUM(BG14:BG21) -> 187 | BH23: =SUM(BH14:BH21) -> 4738
A25: З них інклюзивне навчання у:
A26: Коломийський ліцей №1 імені В.Стефаника | D26: 1 | H26: 1 | K26: 2 | L26: =SUM(B26:J26) -> 2 | N26: 1 | O26: 1 | W26: 2 | X26: =SUM(M26:V26) -> 2 | BD26: 1 | BE26: 1 | BF26: =SUM(AV26:BD26) -> 1 | BG26: =BE26+W26+K26 -> 5 | BH26: =BF26+X26+L26 -> 5
A27: Коломийський ліцей №4 імені Сергія Лисенка | F27: 2 | H27: 2 | J27: 1 | K27: 3 | L27: 5 | N27: 1 | R27: 1 | W27: 2 | X27: 2 | Z27: 1 | AG27: 1 | AI27: 2 | AJ27: 2 | AL27: 1 | AT27: 1 | AU27: 1 | BG27: 8 | BH27: 10
A28: Коломийський ліцей №5 імені Т.Г.Шевченка | B28: 1 | D28: 1 | F28: 1 | K28: 3 | L28: 3 | M28: 1 | Q28: 2 | W28: 2 | X28: 3 | Z28: 1 | AI28: 1 | AJ28: 1 | AL28: 1 | AP28: 1 | AT28: 2 | AU28: 2 | BA28: 1 | BE28: 1 | BF28: 1 | BG28: 9 | BH28: 10
A29: Коломийський ліцей №8 | B29: 1 | K29: 1 | L29: 1 | AA29: 3 | AE29: 1 | AI29: 4 | AJ29: 2 | BB29: 1 | BE29: 1 | BF29: 1
A30: Коломийський ліцей №9 | C30: 1 | E30: 1 | K30: 2 | L30: 2 | M30: 1 | R30: 1 | T30: 1 | W30: 3 | X30: 3 | Z30: 1 | AB30: 1 | AC30: 1 | AF30: 1 | AI30: 4 | AJ30: 4 | AL30: 1 | AP30: 1 | AT30: 2 | AU30: 2 | BE30: 10 | BF30: 11 | BG30: 10 | BH30: 11
A31: Коломийський ліцей імені М.Грушевського | B31: 26
A32: Саджавський ліцей | B32: 1 | K32: 1 | L32: 1 | BG32: 1 | BH32: 1
A33: Всього: | B33: =SUM(B26:B32) -> 29 | C33: =SUM(C26:C32) -> 1 | D33: =SUM(D26:D32) -> 2 | E33: =SUM(E26:E32) -> 1 | F33: =SUM(F26:F32) -> 3 | G33: =SUM(G26:G32) -> 0 | H33: =SUM(H26:H32) -> 3 | I33: =SUM(I26:I32) -> 0 | ... BH33: =SUM(BH26:BH32) -> 37
A40: Керуючий справами виконавчого комітету міської ради | AV40: Микола АНДРУСЯК

Sheet 10-12
Z2: Продовження додатка 1
Z3: до рішення виконавчого комітету
Z4: від 19.09.2023р.№ 239
B7: Фактична мережа закладів загальної середньої освіти
B8: на 2023/2024 навчальний рік
A11: Заклади загальної середньої освіти | B11: 10-А | C11: 10-ф | D11: 10-ф | E11: 10-Б | F11: 10-В | G11: 10-Г | H11: к-сть класів | I11: к-сть учнів | J11: 11-А | K11: 11-Ф | L11: 11-ф | M11: 11-Б | N11: 11-В | O11: к-сть класів | P11: к-сть учнів | Q11: 12 | R11: к-сть класів | S11: к-сть учнів | T11: к-сть 10-12 класів | U11: к-сть учнів 10-12 класах | V11: к-сть 1-12 класів | W11: к-сть учнів у 1-12кл. | Z11: Наповнюваність
Z12: І-ІV | AA12: V-IX | AB12: X-XII | AC12: I-XII
A13: Коломийський ліцей №1 імені В.Стефаника | B13: 25 | E13: 20 | F13: 29 | G13: 29 | H13: 4 | I13: =SUM(B13:G13) -> 103 | J13: 28 | M13: 28 | N13: 30 | O13: 3 | P13: =J13+M13+N13 -> 86 | T13: =O13+H13 -> 7 | U13: =P13+I13 -> 189 | V13: =T13+'5-9'!BG14+'1-4'!BC14 -> 67 | W13: =U13+'5-9'!BH14+'1-4'!BD14 -> 1691 | Z13: ='1-4'!BD14/'1-4'!BC14 -> 24.961538 | AA13: ='5-9'!BH14/'5-9'!BG14 -> 25.088235 | AB13: =U13/T13 -> 27 | AC13: =W13/V13 -> 25.238806
A14: Коломийський ліцей №2 | B14: 34 | H14: 1 | I14: 34 | T14: 1 | U14: 34 | V14: 23 | W14: =U14+'5-9'!BH15+'1-4'!BD15 -> 630 | Z14: 25.5 | AA14: 28.4 | AB14: 34 | AC14: 27.4
A15: Коломийський ліцей №4 імені Сергія Лисенка | B15: 25 | E15: 26 | F15: 24 | H15: 3 | I15: 75 | J15: 30 | M15: 31 | O15: 2 | P15: 61 | T15: 5 | U15: 136 | V15: 58 | W15: =U15+'5-9'!BH16+'1-4'!BD16 -> 1617 | Z15: 26.8 | AA15: 28.9 | AB15: 27.2 | AC15: 27.9
A16: Коломийський ліцей №5 імені Т.Г.Шевченка | B16: 30 | H16: 1 | I16: 30 | J16: 29 | O16: 1 | P16: 29 | T16: 2 | U16: 59 | V16: 55 | W16: 1184 | Z16: 21.2 | AA16: 21.3 | AB16: 29.5 | AC16: 21.5
A17: Коломийський ліцей №8 | B17: 25 | E17: 22 | F17: 24 | H17: 3 | I17: 71 | J17: 33 | M17: 35 | O17: 2 | P17: 68 | T17: 5 | U17: 139 | V17: 54 | W17: =U17+'5-9'!BH18+'1-4'!BD18 -> 1186 | Z17: 21.3 | AA17: 21.4 | AB17: 29.5 | AC17: 21.6
A18: Коломийський ліцей №9 | B18: 20 | E18: 24 | F18: 28 | G18: 25 | H18: 4 | I18: 97 | J18: 32 | M18: 24 | N18: 29 | O18: 3 | P18: 85 | T18: 7 | U18: 182 | V18: 71 | W18: =U18+'5-9'!BH19+'1-4'!BD19 -> 1823 | Z18: 27.9 | AA18: 20.9 | AB18: 25.8 | AC18: 25.6
A19: Коломийський ліцей імені М.Грушевського | B19: 25 | E19: 22 | H19: 2 | I19: 47 | J19: 30 | M19: 32 | O19: 2 | P19: 62 | T19: 2 | U19: 109 | V19: 14 | W19: =U19+'5-9'!BH20+'1-4'!BD20 -> 407 | AA19: 29.5 | AB19: 27.25 | AC19: 28.8
A20: Саджавський ліцей | B20: 25 | H20: 1 | I20: 25 | J20: 28 | O20: 1 | P20: 28 | T20: 2 | U20: 53 | V20: 18 | W20: =U20+'5-9'!BH21+'1-4'!BD21 -> 420 | Z20: 19.6 | AA20: 25.2 | AB20: 26.5 | AC20: 23.17
A21: з них вечірні класи у Коломийському ліцеї №8 | C21: 26 | K21: 21 | Q21: 1 | R21: 1 | S21: 14 | T21: 3 | U21: 61 | V21: 4 | W21: =U21+'5-9'!BH22+'1-4'!BD22 -> 74
A22: Всього: | B22: =SUM(B13:B20) -> 209 | C22: 26 | D22: =SUM(D13:D20) -> 0 | E22: =SUM(E13:E20) -> 114 | F22: =SUM(F13:F20) -> 105 | G22: =SUM(G13:G20) -> 54 | H22: =SUM(H13:H20) -> 19 | I22: =SUM(I13:I20) -> 482 | J22: =SUM(J13:J20) -> 210 | K22: 21 | L22: =SUM(L13:L20) -> 0 | M22: =SUM(M13:M20) -> 150 | N22: =SUM(N13:N20) -> 59 | O22: =SUM(O13:O20) -> 14 | P22: =SUM(P13:P20) -> 419 | Q22: 1 | R22: 1 | S22: 14 | T22: =SUM(T13:T20) -> 31 | U22: =SUM(U13:U20) -> 901 | V22: =SUM(V13:V20) -> 360 | W22: =SUM(W13:W20) -> 8958 | Z22: 24.22 | AA22: 25.33 | AB22: 29.06 | AC22: 24.8
A23: З них інклюзивне навчання у:
A24: Коломийський ліцей №9 | F24: 1 | H24: 1 | I24: 1 | T24: 1 | U24: 1
A25: Коломийський ліцей №8 | F25: 1 | H25: 1 | I25: 1
A28: Керуючий справами виконавчого комітету | X28: Микола АНДРУСЯК

Sheet ЗДО 
AI2: Додаток 2
AI3: до рішення виконавчого комітету
AI4: від 19.09.2023 р. № 239
C6: Фактична мережа закладів дошкільної освіти
C7: на 2023/2024 навчальний рік
A9: № | B9: Заклади дошкільної освіти | C9: Кількість | G9: Тривалість робочого часу
G10: 10,5 год | AN10: 9 год
C11: всього груп | D11: всього дітей | E11: з них: спеціальні, санаторні та логопедичні | G11: всього груп | H11: всього дітей | I11: ранній вік (2- 3 р) | N11: молодший дошкільний вік (3-4 р) | T11: середній дошкільний вік (4-5 р) | Z11: старший дошкільний вік (5-6 р) | AG11: передшкільний вік (3-6 р) | AN11: передшкільний вік (2-6 р)
E12: груп | F12: дітей | I12: І група | J12: ІІ група | K12: ІІІ група | L12: всього груп | M12: всього дітей | N12: І група | O12: ІІ група | P12: ІІІ група | Q12: IV група (санаторна) | R12: всього груп | S12: всього дітей | T12: І група | U12: ІІ група | V12: ІІІ група | W12: IV група (санаторна) | X12: всього груп | Y12: всього дітей | Z12: І група | AA12: ІІ група | AB12: ІІІ група | AC12: IV група | AD12: IV група (санаторна) | AE12: всього груп | AF12: всього дітей | AG12: І група | AH12: ІІ група (спеціальна) | AI12: III група (спеціальна) | AJ12: IV група (логопедична) | AK12: V група (санаторна) | AL12: всього груп | AM12: всього дітей | AN12: груп | AO12: дітей
A13: 1 | B13: Коломийський ЗДО (ясла-садок) комбінованого типу №2 "Дударик" | C13: 12 | D13: 207 | E13: 5 | F13: 68 | G13: 12 | H13: =M13+S13+Y13+AF13+AM13 -> 207 | I13: 21 | L13: 1 | M13: =I13+J13+K13 -> 21 | N13: 18 | O13: 20 | P13: 19 | R13: 3 | S13: =N13+O13+P13 -> 57 | T13: 18 | U13: 19 | W13: 19 | X13: 3 | Y13: =T13+U13+V13+W13 -> 56 | Z13: 24 | AD13: 20 | AE13: 2 | AF13: =Z13+AA13+AB13+AC13+AD13 -> 44 | AH13: 9 | AI13: 9 | AJ13: 11 | AL13: 3 | AM13: =AG13+AI13+AH13+AJ13+AK13 -> 29
A14: 2 | B14: Коломийський ЗДО (ясла-садок) №3 "Берізка" | C14: 9 | D14: 168 | G14: =L14+R14+X14+AE14 -> 9 | H14: =M14+S14+Y14+AF14+AM14 -> 168 | I14: 15 | J14: 15 | L14: 2 | M14: =I14+J14+K14 -> 30 | N14: 18 | O14: 20 | R14: 2 | S14: =N14+O14+P14 -> 38 | T14: 20 | U14: 21 | X14: 2 | Y14: =T14+U14+V14+W14 -> 41 | Z14: 18 | AA14: 23 | AB14: 18 | AE14: 3 | AF14: =Z14+AA14+AB14+AC14+AD14 -> 59 | AM14: =AG14+AI14+AH14+AJ14+AK14 -> 0
A15: 3 | B15: Коломийський ЗДО (ясла-садок) №5 "Барвінок" | C15: 6 | D15: 99 | G15: =L15+R15+X15+AE15 -> 6 | H15: =M15+S15+Y15+AF15+AM15 -> 99 | I15: 15 | J15: 14 | L15: 2 | M15: =I15+J15+K15 -> 29 | N15: 15 | O15: 12 | R15: 2 | S15: =N15+O15+P15 -> 27 | T15: 18 | X15: 1 | Y15: =T15+U15+V15+W15 -> 18 | Z15: 25 | AE15: 1 | AF15: 25 | AM15: =AG15+AI15+AH15+AJ15+AK15 -> 0
A16: 4 | B16: Коломийський ЗДО (ясла-садок)№7 "Росинка" | C16: 8 | D16: 149 | G16: =L16+R16+X16+AE16 -> 8 | H16: =M16+S16+Y16+AF16+AM16 -> 149 | I16: 22 | L16: 1 | M16: =I16+J16+K16 -> 22 | N16: 14 | O16: 16 | R16: 2 | S16: =N16+O16+P16 -> 30 | T16: 17 | U16: 17 | X16: 2 | Y16: =T16+U16+V16+W16 -> 34 | Z16: 22 | AA16: 19 | AB16: 22 | AE16: 3 | AF16: =Z16+AA16+AB16+AC16+AD16 -> 63 | AM16: =AG16+AI16+AH16+AJ16+AK16 -> 0
A17: 5 | B17: Коломийський ЗДО (ясла-садок)№9 "Веселка" | C17: 4 | D17: 90 | G17: =L17+R17+X17+AE17 -> 4 | H17: =M17+S17+Y17+AF17+AM17 -> 90 | I17: 22 | L17: 1 | M17: =I17+J17+K17 -> 22 | N17: 20 | R17: 1 | S17: =N17+O17+P17 -> 20 | T17: 21 | X17: 1 | Y17: =T17+U17+V17+W17 -> 21 | Z17: 27 | AE17: 1 | AF17: =Z17+AA17+AB17+AC17+AD17 -> 27 | AM17: =AG17+AI17+AH17+AJ17+AK17 -> 0
A18: 6 | B18: Коломийський ЗДО (ясла-садок) №11 "Сонечко" | C18: 6 | D18: 134 | G18: =L18+R18+X18+AE18 -> 6 | H18: =M18+S18+Y18+AF18+AM18 -> 134 | I18: 22 | L18: 1 | M18: =I18+J18+K18 -> 22 | N18: 23 | O18: 19 | R18: 2 | S18: =N18+O18+P18 -> 42 | T18: 23 | U18: 20 | X18: 2 | Y18: =T18+U18+V18+W18 -> 43 | Z18: 27 | AE18: 1 | AF18: =Z18+AA18+AB18+AC18+AD18 -> 27 | AM18: =AG18+AI18+AH18+AJ18+AK18 -> 0
A19: 7 | B19: Коломийський ЗДО (ясла-садок) №14 "Світанок" | C19: 6 | D19: 140 | G19: =L19+R19+X19+AE19 -> 6 | H19: =M19+S19+Y19+AF19+AM19 -> 140 | I19: 18 | J19: 18 | L19: 2 | M19: =I19+J19+K19 -> 36 | N19: 24 | R19: 1 | S19: =N19+O19+P19 -> 24 | T19: 25 | X19: 1 | Y19: =T19+U19+V19+W19 -> 25 | Z19: 27 | AA19: 28 | AE19: 2 | AF19: =Z19+AA19+AB19+AC19+AD19 -> 55 | AM19: =AG19+AI19+AH19+AJ19+AK19 -> 0
A20: 8 | B20: Коломийський ЗДО (ясла-садок) №16 "Орлятко" | C20: 10 | D20: 192 | G20: =L20+R20+X20+AE20 -> 10 | H20: =M20+S20+Y20+AF20+AM20 -> 192 | I20: 19 | J20: 16 | L20: 2 | M20: =I20+J20+K20 -> 35 | N20: 19 | O20: 19 | R20: 2 | S20: =N20+O20+P20 -> 38 | T20: 16 | U20: 22 | V20: 19 | X20: 3 | Y20: =T20+U20+V20+W20 -> 57 | Z20: 19 | AA20: 21 | AB20: 22 | AE20: 3 | AF20: =Z20+AA20+AB20+AC20+AD20 -> 62 | AM20: =AG20+AI20+AH20+AJ20+AK20 -> 0
A21: 9 | B21: Коломийський ЗДО (ясла-садок) №17 "Калинка" | C21: 7 | D21: 121 | G21: =L21+R21+X21+AE21 -> 7 | H21: =M21+S21+Y21+AF21+AM21 -> 121 | I21: 16 | L21: 1 | M21: =I21+J21+K21 -> 16 | N21: 16 | O21: 19 | R21: 2 | S21: =N21+O21+P21 -> 35 | T21: 18 | U21: 18 | X21: 2 | Y21: =T21+U21+V21+W21 -> 36 | Z21: 16 | AA21: 18 | AE21: 2 | AF21: =Z21+AA21+AB21+AC21+AD21 -> 34 | AM21: =AG21+AI21+AH21+AJ21+AK21 -> 0
A22: 10 | B22: Коломийський ЗДО (ясла-садок) №18 "Ластівка" | C22: 3 | D22: 58 | G22: =L22+R22+X22+AE22 -> 3 | H22: =M22+S22+Y22+AF22+AM22 -> 58 | M22: =I22+J22+K22 -> 0 | N22: 18 | R22: 1 | S22: =N22+O22+P22 -> 18 | T22: 18 | X22: 1 | Y22: =T22+U22+V22+W22 -> 18 | Z22: 22 | AE22: 1 | AF22: =Z22+AA22+AB22+AC22+AD22 -> 22 | AM22: =AG22+AI22+AH22+AJ22+AK22 -> 0
A23: 11 | B23: Коломийський ЗДО (ясла-садок) №19 "Ромашка" | C23: 11 | D23: 236 | G23: =L23+R23+X23+AE23 -> 11 | H23: =M23+S23+Y23+AF23+AM23 -> 236 | I23: 21 | J23: 21 | L23: 2 | M23: =I23+J23+K23 -> 42 | N23: 22 | O23: 21 | P23: 20 | R23: 3 | S23: =N23+O23+P23 -> 63 | T23: 22 | U23: 22 | V23: 21 | X23: 3 | Y23: =T23+U23+V23+W23 -> 65 | Z23: 21 | AA23: 21 | AB23: 24 | AE23: 3 | AF23: =Z23+AA23+AB23+AC23+AD23 -> 66 | AM23: =AG23+AI23+AH23+AJ23+AK23 -> 0
A24: 12 | B24: Коломийський ЗДО (ясла-садок) №21 "Пролісок" | C24: 9 | D24: 174 | G24: =L24+R24+X24+AE24 -> 9 | H24: =M24+S24+Y24+AF24+AM24 -> 174 | I24: 16 | J24: 15 | L24: 2 | M24: =I24+J24+K24 -> 31 | N24: 18 | O24: 18 | R24: 2 | S24: =N24+O24+P24 -> 36 | T24: 23 | U24: 24 | X24: 2 | Y24: =T24+U24+V24+W24 -> 47 | Z24: 16 | AA24: 21 | AB24: 23 | AE24: 3 | AF24: =Z24+AA24+AB24+AC24+AD24 -> 60 | AM24: =AG24+AI24+AH24+AJ24+AK24 -> 0
A25: 13 | B25: Корницький заклад дошкільної освіти (ясла-садок) "Калинка" | C25: 3 | D25: 63 | G25: =L25+R25+X25+AE25 -> 3 | H25: 63 | I25: 22 | L25: 1 | M25: =I25+J25+K25 -> 22 | S25: =N25+O25+P25 -> 0 | T25: 25 | X25: 1 | Y25: =T25+U25+V25+W25 -> 25 | Z25: 16 | AE25: 1 | AF25: =Z25+AA25+AB25+AC25+AD25 -> 16 | AM25: =AG25+AI25+AH25+AJ25+AK25 -> 0
A26: 14 | B26: Саджавський ЗДО (ясла-садок) "Дударик" | C26: 4 | D26: 86 | G26: =L26+R26+X26+AE26 -> 4 | H26: =M26+S26+Y26+AF26+AM26 -> 86 | I26: 19 | L26: 1 | M26: =I26+J26+K26 -> 19 | N26: 24 | R26: 1 | S26: =N26+O26+P26 -> 24 | T26: 24 | X26: 1 | Y26: =T26+U26+V26+W26 -> 24 | Z26: 19 | AE26: 1 | AF26: =Z26+AA26+AB26+AC26+AD26 -> 19 | AM26: =AG26+AI26+AH26+AJ26+AK26 -> 0
A27: 15 | B27: Дошкільний підрозділ "Світанок" Воскресинцівської філії Коломийського ліцею №1 імені Василя Стефаника | C27: 2 | D27: 37 | G27: =L27+R27+X27+AE27 -> 2 | H27: =M27+S27+Y27+AF27+AM27 -> 37 | M27: =I27+J27+K27 -> 0 | N27: 18 | R27: 1 | S27: =N27+O27+P27 -> 18 | Y27: =T27+U27+V27+W27 -> 0 | Z27: 19 | AE27: 1 | AF27: =Z27+AA27+AB27+AC27+AD27 -> 19 | AM27: =AG27+AI27+AH27+AJ27+AK27 -> 0
A28: 16 | B28: Дошкільний підрозділ Коломийської філії №20 Коломийського ліцею №4 імені Сергія Лисенка | C28: 7 | D28: 128 | G28: =L28+R28+X28+AE28 -> 7 | H28: =M28+S28+Y28+AF28+AM28 -> 128 | I28: 13 | J28: 16 | L28: 2 | M28: =I28+J28+K28 -> 29 | N28: 22 | R28: 1 | S28: =N28+O28+P28 -> 22 | T28: 21 | U28: 21 | X28: 2 | Y28: =T28+U28+V28+W28 -> 42 | Z28: 18 | AA28: 17 | AE28: 2 | AF28: =Z28+AA28+AB28+AC28+AD28 -> 35 | AM28: =AG28+AI28+AH28+AJ28+AK28 -> 0
A29: 17 | B29: Дошкільний підрозділ Іванівецької філії Коломийського ліцею №8 | C29: 2 | D29: 45 | G29: =L29+R29+X29+AE29 -> 2 | H29: =M29+S29+Y29+AF29+AM29 -> 45 | M29: =I29+J29+K29 -> 0 | N29: 22 | R29: 1 | S29: =N29+O29+P29 -> 22 | Y29: =T29+U29+V29+W29 -> 0 | Z29: 23 | AE29: 1 | AF29: =Z29+AA29+AB29+AC29+AD29 -> 23 | AM29: =AG29+AI29+AH29+AJ29+AK29 -> 0
A30: 18 | B30: Дошкільний підрозділ "Теремок" Товмачицької філі Коломийського ліцею №8 | C30: 1 | D30: 27 | G30: =L30+R30+X30+AE30+AN30+AL30 -> 1 | H30: =M30+S30+Y30+AF30+AM30+AO30+AM30 -> 27 | M30: =I30+J30+K30 -> 0 | S30: =N30+O30+P30 -> 0 | Y30: =T30+U30+V30+W30 -> 0 | AF30: =Z30+AA30+AB30+AC30+AD30 -> 0 | AM30: =AG30+AI30+AH30+AJ30+AK30 -> 0 | AN30: 1 | AO30: 27
A31: 19 | B31: Дошкільний підрозділ "Дзвіночок" Раківчицької філії Коломийського ліцею №5 імені Т. Г. Шевченка | C31: 1 | D31: 26 | G31: =L31+R31+X31+AE31+AN31+AL31 -> 1 | H31: =M31+S31+Y31+AF31+AM31+AO31 -> 26 | M31: =I31+J31+K31 -> 0 | S31: =N31+O31+P31 -> 0 | AF31: =Z31+AA31+AB31+AC31+AD31 -> 0 | AG31: 26 | AL31: 1 | AM31: =AG31+AI31+AH31+AJ31+AK31 -> 26
A32: 20 | B32: Дошкільний підрозділ "Лісовичок" Шепарівцівської філії Коломийського ліцею №5 імені Т. Г. Шевченка | C32: 1 | D32: 21 | G32: =L32+R32+X32+AE32+AL32 -> 1 | H32: =M32+S32+Y32+AF32+AM32+AO32+AO32 -> 21 | M32: =I32+J32+K32 -> 0 | S32: =N32+O32+P32 -> 0 | AF32: =Z32+AA32+AB32+AC32+AD32 -> 0 | AG32: 21 | AL32: 1 | AM32: =AG32+AI32+AH32+AJ32+AK32 -> 21
B33: Всього | C33: =SUM(C13:C32) -> 112 | D33: =SUM(D13:D32) -> 2201 | E33: =SUM(E13:E32) -> 5 | F33: =SUM(F13:F32) -> 68 | G33: =L33+R33+X33+AE33+AL33+AN33 -> 112 | H33: =SUM(H13:H32) -> 2201 | I33: =SUM(I13:I32) -> 261 | J33: =SUM(J13:J32) -> 115 | K33: =SUM(K13:K32) -> 0 | L33: =SUM(L13:L32) -> 21 | M33: =I33+J33+K33 -> 376 | N33: =SUM(N13:N32) -> 311 | O33: =SUM(O13:O32) -> 164 | P33: =SUM(P13:P32) -> 39 | Q33: =SUM(Q13:Q32) -> 0 | R33: =SUM(R13:R32) -> 27 | S33: =N33+O33+P33 -> 514 | T33: =SUM(T13:T32) -> 309 | U33: =SUM(U13:U32) -> 184 | V33: =SUM(V13:V32) -> 40 | W33: =SUM(W13:W32) -> 19 | X33: =SUM(X13:X32) -> 27 | Y33: =SUM(Y13:Y32) -> 552 | Z33: =SUM(Z13:Z32) -> 359 | AA33: =SUM(AA13:AA32) -> 168 | ... AE33: =SUM(AE13:AE32) -> 31 | AF33: =Z33+AA33+AB33+AC33+AD33 -> 656 | AG33: =SUM(AG13:AG32) -> 47 | AH33: =SUM(AH13:AH32) -> 9 | AI33: =SUM(AI13:AI32) -> 9 | AJ33: =SUM(AJ13:AJ32) -> 11 | AK33: =SUM(AK13:AK32) -> 0 | AL33: =SUM(AL13:AL32) -> 5 | AM33: =SUM(AM13:AM32) -> 76 | AN33: =SUM(AN13:AN32) -> 1 | AO33: =SUM(AO13:AO32) -> 27
B35: З них інклюзивне навчання у: | C35: групах | D35: дітей
B36: Коломийський ЗДО (ясла-садок) №3 "Берізка" | C36: 4 | D36: 6 | G36: =X36+AE36+R36+L36 -> 4 | H36: =Y36+AF36+S36+M36 -> 6 | T36: 1 | X36: =COUNT(T36:W36) -> 1 | Y36: =SUM(T36:W36) -> 1 | Z36: 2 | AA36: 2 | AB36: 1 | AE36: =COUNT(Z36:AD36) -> 3 | AF36: =SUM(Z36:AD36) -> 5
B37: Коломийський ЗДО (ясла-садок) №5 "Барвінок" | C37: 3 | D37: 3 | G37: =X37+AE37+R37+L37 -> 3 | H37: =Y37+AF37+S37+M37 -> 3 | N37: 1 | O37: 1 | R37: 2 | S37: 2 | Z37: 1 | AE37: =COUNT(Z37:AD37) -> 1 | AF37: =SUM(Z37:AD37) -> 1
B38: Коломийський ЗДО (ясла-садок) №7 "Росинка" | C38: 2 | D38: 2 | G38: =X38+AE38+R38+L38 -> 2 | H38: =Y38+AF38+S38+M38 -> 2 | N38: 1 | R38: 1 | S38: 1 | AA38: 1 | AE38: =COUNT(Z38:AD38) -> 1 | AF38: =SUM(Z38:AD38) -> 1
B39: Коломийський ЗДО (ясла-садок) №9 "Веселка" | C39: 4 | D39: 6 | G39: =X39+AE39+R39+L39 -> 4 | H39: =Y39+AF39+S39+M39 -> 6 | I39: 2 | L39: 1 | M39: 2 | N39: 1 | R39: 1 | S39: 1 | T39: 2 | X39: 1 | Y39: 2 | Z39: 1 | AE39: =COUNT(Z39:AD39) -> 1 | AF39: =SUM(Z39:AD39) -> 1
B40: Коломийський ЗДО (ясла-садок) №11 "Сонечко" | C40: 5 | D40: 10 | G40: =X40+AE40+R40+L40 -> 5 | H40: =Y40+AF40+S40+M40 -> 10 | N40: 2 | O40: 2 | R40: 2 | S40: 4 | T40: 1 | U40: 2 | X40: 2 | Y40: 3 | Z40: 3 | AE40: =COUNT(Z40:AD40) -> 1 | AF40: =SUM(Z40:AD40) -> 3
B41: Коломийський ЗДО (ясла-садок) №14 "Світанок" | C41: 3 | D41: 3 | G41: =X41+AE41+R41+L41 -> 3 | H41: =Y41+AF41+S41+M41 -> 3 | T41: 1 | X41: 1 | Y41: 1 | Z41: 1 | AA41: 1 | AE41: =COUNT(Z41:AD41) -> 2 | AF41: =SUM(Z41:AD41) -> 2
B42: Коломийський ЗДО (ясла-садок) №16 "Орлятко" | C42: 4 | D42: 6 | G42: =X42+AE42+R42+L42 -> 4 | H42: =Y42+AF42+S42+M42 -> 6 | T42: 2 | U42: 1 | X42: 2 | Y42: 3 | Z42: 1 | AA42: 2 | AE42: =COUNT(Z42:AD42) -> 2 | AF42: =SUM(Z42:AD42) -> 3
B43: Коломийський ЗДО (ясла-садок) №17 "Калинка" | C43: 2 | D43: 3 | G43: =X43+AE43+R43+L43 -> 2 | H43: =Y43+AF43+S43+M43 -> 3 | Z43: 1 | AA43: 2 | AE43: =COUNT(Z43:AD43) -> 2 | AF43: =SUM(Z43:AD43) -> 3
B44: Коломийський заклад дошкільної освіти (ясла - садок) №18 "Ластівка" | C44: 2 | D44: 2 | G44: =X44+AE44+R44+L44 -> 2 | H44: =Y44+AF44+S44+M44 -> 2 | N44: 1 | R44: 1 | S44: 1 | T44: 1 | X44: 1 | Y44: 1 | AE44: =COUNT(Z44:AD44) -> 0 | AF44: =SUM(Z44:AD44) -> 0
...

Sheet цпо
W3: Додаток 3
W4: до рішення виконавчого комітету
W5: від 19.09.2023 р. № 239
A6: Фактична мережа Центру позашкільної освіти на 2023/2024 навчальний рік
B8: Еколого-натуралістичний напрям | G8: Науково-технічний напрям | L8: Художньо-естетичний напрям | Q8: Туристсько-краєзнавчий напрям | V8: Військово-патріотичний напрям | AA8: Разом
B9: Назва гуртка | C9: груп | D9: в них дітей | E9: всього груп | F9: всього дітей | G9: Назва гуртка | H9: груп | I9: в них дітей | J9: всього груп | K9: всього дітей | L9: Назва гуртка | M9: груп | N9: в них дітей | O9: всього груп | P9: всього дітей | Q9: Назва гуртка | R9: груп | S9: в них дітей | T9: всього груп | U9: всього дітей | V9: Назва гуртка | W9: груп | X9: в них дітей | Y9: всього груп | Z9: всього дітей | AA9: Всього груп | AB9: Всього дітей
B10: Екофітодизайн | C10: 2 | D10: 30 | E10: 7 | F10: 105 | G10: Друге життя речей | H10: 2 | I10: 30 | J10: 20 | K10: 276 | L10: Вокальний | M10: 7 | N10: 86 | O10: 49 | P10: 675 | Q10: Пішохідний туризм | R10: 2 | S10: 30 | T10: 16 | U10: 240 | V10: Пластове новацтво | W10: 4 | X10: 60 | Y10: 6 | Z10: 90 | AA10: 98 | AB10: 1386
B11: Юні охоронці природи | C11: 2 | D11: 30 | G11: Цікава майстерня | H11: 3 | I11: 45 | L11: Фортепіанний | M11: 8 | N11: 99 | Q11: Велосипедний туризм | R11: 2 | S11: 30 | V11: Пластове юнацтво | W11: 2 | X11: 30
B12: Біорізноманіття | C12: 1 | D12: 15 | G12: Історико-технічне стендове моделювання | H12: 2 | I12: 30 | L12: Бальні танці | M12: 2 | N12: 32 | Q12: Гірський туризм | R12: 2 | S12: 30
B13: Флористика та фітодизайн інтер’єру | C13: 2 | D13: 30 | G13: Основи робототехніки та комп’ютерного моделювання | H13: 3 | I13: 36 | L13: Народні танці | M13: 5 | N13: 80 | Q13: Спортивний туризм | R13: 1 | S13: 15
G14: Початкове технічне моделювання | H14: 2 | I14: 30 | L14: Гра на духових інструментах | M14: 2 | N14: 24 | Q14: Спортивна підготовка туриста | R14: 2 | S14: 30
G15: Скретч програмування | H15: 3 | I15: 45 | L15: Оркестр народних інструментів | M15: 2 | N15: 24 | Q15: Організатор спортивного туризму | R15: 1 | S15: 15
G16: Мала акдемія наук | H16: 3 | I16: 30 | L16: Театральний | M16: 1 | N16: 15 | Q16: Спортивне орієнтування | R16: 1 | S16: 15
G17: Основи Web-дизайну | H17: 2 | I17: 30 | L17: Вишивка | M17: 2 | N17: 30 | Q17: Юні туристи-краєзнавці | R17: 1 | S17: 15
L18: Прикладне мистецтво | M18: 3 | N18: 45 | Q18: Географічне краєзнавство | R18: 2 | S18: 30
L19: Іграшки | M19: 3 | N19: 45 | Q19: Екологічне краєзнавство | R19: 1 | S19: 15
L20: Рукоділля | M20: 3 | N20: 45 | Q20: Юні екскурсоводи | R20: 1 | S20: 15
L21: Бісероплетіння | M21: 3 | N21: 45
L22: Гердан | M22: 3 | N22: 45
L23: Аплікація | M23: 2 | N23: 30
L24: Конструювання та моделювання одягу | M24: 2 | N24: 30
L25: Сольфеджіо і музлітература | M25: 1
B31: Керуючий справами виконавчого комітету міської ради | V31: Микола АНДРУСЯК
